Workbook

Sheet STANDINGS 2024
B1: AMERICAN LEAGUE 2024 | M1: NATIONAL LEAGUE 2024 | X1: AMERICAN LEAGUE 2023 | AI1: NATIONAL LEAGUE 2023 | AT1: AMERICAN LEAGUE 2022 | BE1: NATIONAL LEAGUE 2022
B2: AMERICAN LEAGUE EAST | M2: NATIONAL LEAGUE EAST | X2: AMERICAN LEAGUE EAST | AI2: NATIONAL LEAGUE EAST | AT2: AMERICAN LEAGUE EAST | BE2: NATIONAL LEAGUE EAST
B3: TEAM | C3: WIN | D3: LOSS | E3: GB | F3: R+ | G3: R- | H3: L10 | I3: WS | J3: LS | M3: TEAM | N3: WIN | O3: LOSS | P3: GB | Q3: R+ | R3: R- | S3: L10 | T3: WS | U3: LS | X3: TEAM | Y3: WIN | Z3: LOSS | AA3: GB | AB3: R+ | AC3: R- | AD3: L10 | AE3: WS | AF3: LS | AI3: TEAM | AJ3: WIN | AK3: LOSS | AL3: GB | AM3: R+ | AN3: R- | AO3: L10 | AP3: WS | AQ3: LS | AT3: TEAM | AU3: WIN | AV3: LOSS | AW3: GB | AX3: R+ | AY3: R- | AZ3: L10 | BA3: WS | BB3: LS | BE3: TEAM | BF3: WIN | BG3: LOSS | BH3: GB | BI3: R+ | BJ3: R- | BK3: L10 | BL3: WS | BM3: LS
B4: NEW YORK YANKEES | C4: ='AL EAST 2024'!E31 -> 24 | D4: ='AL EAST 2024'!F31 -> 16 | E4: - | F4: ='AL EAST 2024'!I18 -> 183 | G4: ='AL EAST 2024'!J31 -> 148 | H4: 7-3 | I4: L1 | J4: W6 | M4: NEW YORK METS | N4: ='NL EAST 2024'!E62 -> 30 | O4: ='NL EAST 2024'!F62 -> 10 | P4: - | Q4: ='NL EAST 2024'!I49 -> 195 | R4: ='NL EAST 2024'!J62 -> 129 | S4: 7-3 | T4: W6 | U4: W8 | X4: TORONTO BLUE JAYS | Y4: 29 | Z4: 11 | AA4: - | AB4: 175 | AC4: 119 | AD4: 6-4 | AE4: W1 | AF4: W9 | AI4: ATLANTA BRAVES | AJ4: 25 | AK4: 15 | AL4: - | AM4: 174 | AN4: 147 | AO4: 6-4 | AP4: W1 | AQ4: W2 | AT4: BOSTON RED SOX | AU4: ='AL EAST 2024'!BC62 -> 27 | AV4: ='AL EAST 2024'!BD62 -> 13 | AW4: -- | AX4: ='AL EAST 2024'!BG49 -> 231 | AY4: ='AL EAST 2024'!BH62 -> 184 | AZ4: 6-4 | BA4: L1 | BB4: W4 | BE4: PHILADELPHIA PHILLIES | BF4: 23 | BG4: 17 | BH4: -- | BI4: 185 | BJ4: 127 | BK4: 9-1 | BL4: W8 | BM4: W8
B5: BOSTON RED SOX | C5: ='AL EAST 2024'!E62 -> 23 | D5: ='AL EAST 2024'!F62 -> 17 | E5: 1 | F5: ='AL EAST 2024'!I49 -> 206 | G5: ='AL EAST 2024'!J62 -> 157 | H5: 7-3 | I5: W1 | J5: W8 | M5: ATLANTA BRAVES | N5: ='NL EAST 2024'!E93 -> 24 | O5: ='NL EAST 2024'!F93 -> 16 | P5: 6 | Q5: ='NL EAST 2024'!I80 -> 178 | R5: ='NL EAST 2024'!J93 -> 142 | S5: 6-4 | T5: L2 | U5: W4 | X5: BOSTON RED SOX | Y5: 25 | Z5: 15 | AA5: 4 | AB5: 204 | AC5: 193 | AD5: 7-3 | AE5: L1 | AF5: W11 | AI5: NEW YORK METS | AJ5: 23 | AK5: 17 | AL5: 2 | AM5: 200 | AN5: 153 | AO5: 5-5 | AP5: L2 | AQ5: W5 | AT5: NEW YORK YANKEES | AU5: ='AL EAST 2024'!BC31 -> 23 | AV5: ='AL EAST 2024'!BD31 -> 17 | AW5: 4 | AX5: ='AL EAST 2024'!BG18 -> 202 | AY5: ='AL EAST 2024'!BH31 -> 177 | AZ5: 5-5 | BA5: W1 | BB5: W6 | BE5: NEW YORK METS | BF5: 22 | BG5: 18 | BH5: 1 | BI5: 179 | BJ5: 166 | BK5: 5-5 | BL5: L1 | BM5: W6
B6: BALTIMORE ORIOLES | C6: ='AL EAST 2024'!E124 -> 23 | D6: ='AL EAST 2024'!F124 -> 17 | E6: 1 | F6: ='AL EAST 2024'!I111 -> 190 | G6: ='AL EAST 2024'!J124 -> 167 | H6: 7-3 | I6: W3 | J6: W6 | M6: PHILADELPHIA PHILLIES | N6: ='NL EAST 2024'!E31 -> 23 | O6: ='NL EAST 2024'!F31 -> 17 | P6: 7 | Q6: ='NL EAST 2024'!I18 -> 164 | R6: ='NL EAST 2024'!J31 -> 163 | S6: 7-3 | T6: W4 | U6: L4 | X6: BALTIMORE ORIOLES | Y6: 23 | Z6: 17 | AA6: 6 | AB6: 151 | AC6: 159 | AD6: 5-5 | AE6: L1 | AF6: W5 | AI6: PHILADELPHIA PHILLIES | AJ6: 20 | AK6: 20 | AL6: 5 | AM6: 168 | AN6: 167 | AO6: 5-5 | AP6: L1 | AQ6: W4 | AT6: TORONTO BLUE JAYS | AU6: ='AL EAST 2024'!BC93 -> 19 | AV6: ='AL EAST 2024'!BD93 -> 21 | AW6: 8 | AX6: ='AL EAST 2024'!BG80 -> 198 | AY6: ='AL EAST 2024'!BH93 -> 179 | AZ6: 6-4 | BA6: W3 | BB6: W4 | BE6: ATLANTA BRAVES | BF6: 21 | BG6: 19 | BH6: 2 | BI6: 165 | BJ6: 174 | BK6: 3-7 | BL6: W1 | BM6: W6
B7: TORONTO BLUE JAYS | C7: ='AL EAST 2024'!E93 -> 16 | D7: ='AL EAST 2024'!F93 -> 24 | E7: 8 | F7: ='AL EAST 2024'!I80 -> 149 | G7: ='AL EAST 2024'!J93 -> 194 | H7: 1-9 | I7: W1 | J7: L9 | M7: MIAMI MARLINS | N7: ='NL EAST 2024'!E155 -> 17 | O7: ='NL EAST 2024'!F155 -> 23 | P7: 13 | Q7: ='NL EAST 2024'!I142 -> 153 | R7: ='NL EAST 2024'!J155 -> 150 | S7: 4-6 | T7: W2 | U7: L5 | X7: NEW YORK YANKEES | Y7: 21 | Z7: 19 | AA7: 8 | AB7: 170 | AC7: 146 | AD7: 4-6 | AE7: W1 | AF7: L4 | AI7: WASHINGTON NATIONALS | AJ7: 18 | AK7: 22 | AL7: 8 | AM7: 137 | AN7: 150 | AO7: 6-4 | AP7: W2 | AQ7: L4 | AT7: TAMPA BAY RAYS | AU7: ='AL EAST 2024'!BC155 -> 17 | AV7: ='AL EAST 2024'!BD155 -> 23 | AW7: 10 | AX7: ='AL EAST 2024'!BG142 -> 183 | AY7: ='AL EAST 2024'!BH155 -> 184 | AZ7: 3-7 | BA7: W1 | BB7: L6 | BE7: WASHINGTON NATIONALS | BF7: 20 | BG7: 20 | BH7: 3 | BI7: 144 | BJ7: 161 | BK7: 5-5 | BL7: L3 | BM7: L3
B8: TAMPA BAY RAYS | C8: ='AL EAST 2024'!E155 -> 15 | D8: ='AL EAST 2024'!F155 -> 25 | E8: 9 | F8: ='AL EAST 2024'!I142 -> 170 | G8: ='AL EAST 2024'!J155 -> 190 | H8: 3-7 | I8: L2 | J8: W4 | M8: WASHINGTON NATIONALS | N8: ='NL EAST 2024'!E124 -> 13 | O8: ='NL EAST 2024'!F124 -> 27 | P8: 17 | Q8: ='NL EAST 2024'!I111 -> 126 | R8: ='NL EAST 2024'!J124 -> 176 | S8: 0-10 | T8: L10 | U8: L10 | X8: TAMPA BAY RAYS | Y8: 21 | Z8: 19 | AA8: 8 | AB8: 169 | AC8: 137 | AD8: 5-5 | AE8: L1 | AF8: W5 | AI8: MIAMI MARLINS | AJ8: 17 | AK8: 23 | AL8: 8 | AM8: 129 | AN8: 169 | AO8: 6-4 | AP8: W3 | AQ8: L6 | AT8: BALTIMORE ORIOLES | AU8: ='AL EAST 2024'!BC124 -> 14 | AV8: ='AL EAST 2024'!BD124 -> 26 | AW8: 13 | AX8: ='AL EAST 2024'!BG111 -> 145 | AY8: ='AL EAST 2024'!BH124 -> 208 | AZ8: 5-5 | BA8: L2 | BB8: L12 | BE8: MIAMI MARLINS | BF8: 17 | BG8: 23 | BH8: 6 | BI8: 136 | BJ8: 167 | BK8: 3-7 | BL8: L3 | BM8: L4
B11: AMERICAN LEAGUE CENTRAL | M11: NATIONAL LEAGUE CENTRAL | X11: AMERICAN LEAGUE CENTRAL | AI11: NATIONAL LEAGUE CENTRAL | AT11: AMERICAN LEAGUE CENTRAL | BE11: NATIONAL LEAGUE CENTRAL
B12: TEAM | C12: WIN | D12: LOSS | E12: GB | F12: R+ | G12: R- | H12: L10 | I12: WS | J12: LS | M12: TEAM | N12: WIN | O12: LOSS | P12: GB | Q12: R+ | R12: R- | S12: L10 | T12: WS | U12: LS | X12: TEAM | Y12: WIN | Z12: LOSS | AA12: GB | AB12: R+ | AC12: R- | AD12: L10 | AE12: WS | AF12: LS | AI12: TEAM | AJ12: WIN | AK12: LOSS | AL12: GB | AM12: R+ | AN12: R- | AO12: L10 | AP12: WS | AQ12: LS | AT12: TEAM | AU12: WIN | AV12: LOSS | AW12: GB | AX12: R+ | AY12: R- | AZ12: L10 | BA12: WS | BB12: LS | BE12: TEAM | BF12: WIN | BG12: LOSS | BH12: GB | BI12: R+ | BJ12: R- | BK12: L10 | BL12: WS | BM12: LS
B13: CLEVELAND GUARDIANS | C13: ='AL CENTRAL 2024'!E31 -> 24 | D13: ='AL CENTRAL 2024'!F31 -> 16 | E13: - | F13: ='AL CENTRAL 2024'!I18 -> 168 | G13: ='AL CENTRAL 2024'!J31 -> 149 | H13: 6-4 | I13: W1 | J13: W7 | M13: ST. LOUIS CARDINALS | N13: ='NL CENTRAL 2024'!E31 -> 19 | O13: ='NL CENTRAL 2024'!F31 -> 21 | P13: - | Q13: ='NL CENTRAL 2024'!I18 -> 157 | R13: ='NL CENTRAL 2024'!J31 -> 164 | S13: 5-5 | T13: L4 | U13: L5 | X13: CLEVELAND GUARDIANS | Y13: 23 | Z13: 17 | AA13: - | AB13: 205 | AC13: 146 | AD13: 4-6 | AE13: W1 | AF13: W5 | AI13: CHICAGO CUBS | AJ13: 25 | AK13: 15 | AL13: - | AM13: 173 | AN13: 135 | AO13: 6-4 | AP13: L1 | AQ13: W7 | AT13: CLEVELAND GUARDIANS | AU13: ='AL CENTRAL 2024'!BC31 -> 22 | AV13: ='AL CENTRAL 2024'!BD31 -> 18 | AW13: -- | AX13: ='AL CENTRAL 2024'!BG18 -> 215 | AY13: ='AL CENTRAL 2024'!BH31 -> 179 | AZ13: 4-6 | BA13: W2 | BB13: W5 | BE13: MILWAUKEE BREWERS | BF13: 22 | BG13: 18 | BH13: -- | BI13: 170 | BJ13: 180 | BK13: 6-4 | BL13: W4 | BM13: W5
B14: KANSAS CITY ROYALS | C14: ='AL CENTRAL 2024'!E124 -> 22 | D14: ='AL CENTRAL 2024'!F124 -> 18 | E14: 2 | F14: ='AL CENTRAL 2024'!I111 -> 165 | G14: ='AL CENTRAL 2024'!J124 -> 175 | H14: 3-7 | I14: W2 | J14: W8 | M14: MILWAUKEE BREWERS | N14: ='NL CENTRAL 2024'!E124 -> 19 | O14: ='NL CENTRAL 2024'!F124 -> 21 | P14: - | Q14: ='NL CENTRAL 2024'!I111 -> 164 | R14: ='NL CENTRAL 2024'!J124 -> 131 | S14: 5-5 | T14: L2 | U14: L4 | X14: MINNESOTA TWINS | Y14: 21 | Z14: 19 | AA14: 2 | AB14: 193 | AC14: 178 | AD14: 5-5 | AE14: L1 | AF14: W3 | AI14: CINCINNATI REDS | AJ14: 22 | AK14: 18 | AL14: 2 | AM14: 180 | AN14: 186 | AO14: 5-5 | AP14: L2 | AQ14: W4 | AT14: CHICAGO WHITE SOX | AU14: ='AL CENTRAL 2024'!BC155 -> 22 | AV14: ='AL CENTRAL 2024'!BD155 -> 18 | AW14: -- | AX14: ='AL CENTRAL 2024'!BG142 -> 167 | AY14: ='AL CENTRAL 2024'!BH155 -> 177 | AZ14: 3-7 | BA14: L3 | BB14: W4 | BE14: ST. LOUIS CARDINALS | BF14: 22 | BG14: 18 | BH14: -- | BI14: 194 | BJ14: 176 | BK14: 4-6 | BL14: W1 | BM14: W7
B15: DETROIT TIGERS | C15: ='AL CENTRAL 2024'!E93 -> 21 | D15: ='AL CENTRAL 2024'!F93 -> 19 | E15: 3 | F15: ='AL CENTRAL 2024'!I80 -> 192 | G15: ='AL CENTRAL 2024'!J93 -> 178 | H15: 7-3 | I15: L1 | J15: L5 | M15: CHICAGO CUBS | N15: ='NL CENTRAL 2024'!E62 -> 18 | O15: ='NL CENTRAL 2024'!F62 -> 22 | P15: 1 | Q15: ='NL CENTRAL 2024'!I49 -> 134 | R15: ='NL CENTRAL 2024'!J62 -> 180 | S15: 5-5 | T15: W3 | U15: L5 | X15: KANSAS CITY ROYALS | Y15: 18 | Z15: 22 | AA15: 5 | AB15: 209 | AC15: 241 | AD15: 6-4 | AE15: W1 | AF15: L4 | AI15: ST. LOUIS CARDINALS | AJ15: 20 | AK15: 20 | AL15: 5 | AM15: 154 | AN15: 166 | AO15: 4-6 | AP15: W1 | AQ15: W7 | AT15: MINNESOTA TWINS | AU15: ='AL CENTRAL 2024'!BC62 -> 21 | AV15: ='AL CENTRAL 2024'!BD62 -> 19 | AW15: 1 | AX15: ='AL CENTRAL 2024'!BG49 -> 223 | AY15: ='AL CENTRAL 2024'!BH62 -> 178 | AZ15: 8-2 | BA15: L2 | BB15: W8 | BE15: CINCINNATI REDS | BF15: 20 | BG15: 20 | BH15: 2 | BI15: 170 | BJ15: 155 | BK15: 5-5 | BL15: L2 | BM15: W3
B16: CHICAGO WHITE SOX | C16: ='AL CENTRAL 2024'!E155 -> 20 | D16: ='AL CENTRAL 2024'!F155 -> 20 | E16: 4 | F16: ='AL CENTRAL 2024'!I142 -> 181 | G16: ='AL CENTRAL 2024'!J155 -> 174 | H16: 3-7 | I16: L3 | J16: W4 | M16: PITTSBURGH PIRATES | N16: ='NL CENTRAL 2024'!E155 -> 18 | O16: ='NL CENTRAL 2024'!F155 -> 22 | P16: 1 | Q16: ='NL CENTRAL 2024'!I142 -> 147 | R16: ='NL CENTRAL 2024'!J155 -> 161 | S16: 6-4 | T16: W2 | U16: L4 | X16: CHICAGO WHITE SOX | Y16: 16 | Z16: 24 | AA16: 7 | AB16: 171 | AC16: 165 | AD16: 5-5 | AE16: W1 | AF16: L9 | AI16: MILWAUKEE BREWERS | AJ16: 18 | AK16: 22 | AL16: 7 | AM16: 162 | AN16: 163 | AO16: 3-7 | AP16: W1 | AQ16: L6 | AT16: KANSAS CITY ROYALS | AU16: ='AL CENTRAL 2024'!BC124 -> 20 | AV16: ='AL CENTRAL 2024'!BD124 -> 20 | AW16: 2 | AX16: ='AL CENTRAL 2024'!BG111 -> 187 | AY16: ='AL CENTRAL 2024'!BH124 -> 187 | AZ16: 6-4 | BA16: W2 | BB16: L5 | BE16: CHICAGO CUBS | BF16: 17 | BG16: 23 | BH16: 5 | BI16: 167 | BJ16: 190 | BK16: 4-6 | BL16: L1 | BM16: L5
B17: MINNESOTA TWINS | C17: ='AL CENTRAL 2024'!E62 -> 18 | D17: ='AL CENTRAL 2024'!F62 -> 22 | E17: 6 | F17: ='AL CENTRAL 2024'!I49 -> 172 | G17: ='AL CENTRAL 2024'!J62 -> 208 | H17: 6-4 | I17: L1 | J17: L12 | M17: CINCINNATI REDS | N17: ='NL CENTRAL 2024'!E93 -> 14 | O17: ='NL CENTRAL 2024'!F93 -> 26 | P17: 5 | Q17: ='NL CENTRAL 2024'!I80 -> 129 | R17: ='NL CENTRAL 2024'!J93 -> 174 | S17: 5-5 | T17: L2 | U17: L9 | X17: DETROIT TIGERS | Y17: 14 | Z17: 26 | AA17: 9 | AB17: 151 | AC17: 229 | AD17: 3-7 | AE17: L1 | AF17: L5 | AI17: PITTSBURGH PIRATES | AJ17: 12 | AK17: 28 | AL17: 13 | AM17: 146 | AN17: 203 | AO17: 4-6 | AP17: L1 | AQ17: L9 | AT17: DETROIT TIGERS | AU17: ='AL CENTRAL 2024'!BC93 -> 12 | AV17: ='AL CENTRAL 2024'!BD93 -> 28 | AW17: 10 | AX17: ='AL CENTRAL 2024'!BG80 -> 161 | AY17: ='AL CENTRAL 2024'!BH93 -> 244 | AZ17: 4-6 | BA17: L1 | BB17: L8 | BE17: PITTSBURGH PIRATES | BF17: 14 | BG17: 26 | BH17: 8 | BI17: 177 | BJ17: 206 | BK17: 6-4 | BL17: W5 | BM17: L6
B20: AMERICAN LEAGUE WEST | M20: NATIONAL LEAGUE WEST | X20: AMERICAN LEAGUE WEST | AI20: NATIONAL LEAGUE WEST | AT20: AMERICAN LEAGUE WEST | BE20: NATIONAL LEAGUE WEST
B21: TEAM | C21: WIN | D21: LOSS | E21: GB | F21: R+ | G21: R- | H21: L10 | I21: WS | J21: LS | M21: TEAM | N21: WIN | O21: LOSS | P21: GB | Q21: R+ | R21: R- | S21: L10 | T21: WS | U21: LS | X21: TEAM | Y21: WIN | Z21: LOSS | AA21: GB | AB21: R+ | AC21: R- | AD21: L10 | AE21: WS | AF21: LS | AI21: TEAM | AJ21: WIN | AK21: LOSS | AL21: GB | AM21: R+ | AN21: R- | AO21: L10 | AP21: WS | AQ21: LS | AT21: TEAM | AU21: WIN | AV21: LOSS | AW21: GB | AX21: R+ | AY21: R- | AZ21: L10 | BA21: WS | BB21: LS | BE21: TEAM | BF21: WIN | BG21: LOSS | BH21: GB | BI21: R+ | BJ21: R- | BK21: L10 | BL21: WS | BM21: LS
B22: HOUSTON ASTROS | C22: =HOU_P[[#Totals],[W]] -> 25 | D22: =HOU_P[[#Totals],[L]] -> 15 | E22: - | F22: =HOU_H[[#Totals],[R]] -> 215 | G22: =HOU_P[[#Totals],[R]] -> 149 | H22: 6-4 | I22: L1 | J22: W3 | M22: LOS ANGELES DODGERS | N22: ='NL WEST 2024'!E62 -> 25 | O22: ='NL WEST 2024'!F62 -> 15 | P22: - | Q22: ='NL WEST 2024'!I49 -> 173 | R22: ='NL WEST 2024'!J62 -> 127 | S22: 7-3 | T22: L1 | U22: W4 | X22: SEATTLE MARINERS | Y22: 22 | Z22: 18 | AA22: - | AB22: 178 | AC22: 161 | AD22: 7-3 | AE22: W2 | AF22: L5 | AI22: SAN FRANCISCO GIANTS | AJ22: 26 | AK22: 14 | AL22: - | AM22: 194 | AN22: 127 | AO22: 5-5 | AP22: W1 | AQ22: W4 | AT22: HOUSTON ASTROS | AU22: ='AL WEST 2024'!BC31 -> 25 | AV22: ='AL WEST 2024'!BD31 -> 15 | AW22: -- | AX22: ='AL WEST 2024'!BG18 -> 177 | AY22: ='AL WEST 2024'!BH31 -> 170 | AZ22: 7-3 | BA22: W2 | BB22: L4 | BE22: SAN FRANCISCO GIANTS | BF22: 27 | BG22: 13 | BH22: -- | BI22: 187 | BJ22: 142 | BK22: 8-2 | BL22: L1 | BM22: W10
B23: SEATTLE MARINERS | C23: ='AL WEST 2024'!E62 -> 24 | D23: ='AL WEST 2024'!F62 -> 16 | E23: 1 | F23: ='AL WEST 2024'!I49 -> 206 | G23: ='AL WEST 2024'!J62 -> 162 | H23: 8-2 | I23: W3 | J23: W6 | M23: SAN DIEGO PADRES | N23: ='NL WEST 2024'!E93 -> 23 | O23: ='NL WEST 2024'!F93 -> 17 | P23: 2 | Q23: ='NL WEST 2024'!I80 -> 148 | R23: ='NL WEST 2024'!J93 -> 140 | S23: 5-5 | T23: W1 | U23: W7 | X23: HOUSTON ASTROS | Y23: 20 | Z23: 20 | AA23: 2 | AB23: 175 | AC23: 167 | AD23: 7-3 | AE23: W1 | AF23: W4 | AI23: LOS ANGELES DODGERS | AJ23: 24 | AK23: 16 | AL23: 2 | AM23: 190 | AN23: 131 | AO23: 8-2 | AP23: W4 | AQ23: W4 | AT23: LOS ANGELES ANGELS | AU23: ='AL WEST 2024'!BC124 -> 22 | AV23: ='AL WEST 2024'!BD124 -> 18 | AW23: 3 | AX23: ='AL WEST 2024'!BG111 -> 186 | AY23: ='AL WEST 2024'!BH124 -> 162 | AZ23: 6-4 | BA23: W2 | BB23: W6 | BE23: SAN DIEGO PADRES | BF23: 25 | BG23: 15 | BH23: 2 | BI23: 192 | BJ23: 165 | BK23: 5-5 | BL23: W1 | BM23: W7
B24: LOS ANGELES ANGELS | C24: ='AL WEST 2024'!E124 -> 16 | D24: ='AL WEST 2024'!F124 -> 24 | E24: 9 | F24: ='AL WEST 2024'!I111 -> 178 | G24: ='AL WEST 2024'!J124 -> 231 | H24: 4-6 | I24: W1 | J24: L8 | M24: ARIZONA DIAMONDBACKS | N24: ='NL WEST 2024'!E155 -> 21 | O24: ='NL WEST 2024'!F155 -> 19 | P24: 4 | Q24: ='NL WEST 2024'!I142 -> 220 | R24: ='NL WEST 2024'!J155 -> 166 | S24: 5-5 | T24: L2 | U24: W3 | X24: LOS ANGELES ANGELS | Y24: 19 | Z24: 21 | AA24: 3 | AB24: 159 | AC24: 185 | AD24: 5-5 | AE24: L1 | AF24: W5 | AI24: SAN DIEGO PADRES | AJ24: 21 | AK24: 19 | AL24: 5 | AM24: 140 | AN24: 153 | AO24: 7-3 | AP24: L2 | AQ24: W4 | AT24: SEATTLE MARINERS | AU24: ='AL WEST 2024'!BC62 -> 20 | AV24: ='AL WEST 2024'!BD62 -> 20 | AW24: 5 | AX24: ='AL WEST 2024'!BG49 -> 154 | AY24: ='AL WEST 2024'!BH62 -> 152 | AZ24: 4-6 | BA24: L1 | BB24: W7 | BE24: LOS ANGELES DODGERS | BF24: 21 | BG24: 19 | BH24: 6 | BI24: 142 | BJ24: 143 | BK24: 7-3 | BL24: W1 | BM24: W6
B25: OAKLAND ATHLETICS | C25: ='AL WEST 2024'!E155 -> 16 | D25: ='AL WEST 2024'!F155 -> 24 | E25: 9 | F25: ='AL WEST 2024'!I142 -> 181 | G25: ='AL WEST 2024'!J155 -> 208 | H25: 3-7 | I25: L1 | J25: L6 | M25: SAN FRANCISCO GIANTS | N25: ='NL WEST 2024'!E31 -> 21 | O25: ='NL WEST 2024'!F31 -> 19 | P25: 4 | Q25: ='NL WEST 2024'!I18 -> 151 | R25: ='NL WEST 2024'!J31 -> 162 | S25: 6-4 | T25: W1 | U25: W6 | X25: TEXAS RANGERS | Y25: 15 | Z25: 25 | AA25: 6 | AB25: 161 | AC25: 188 | AD25: 5-5 | AE25: L2 | AF25: L7 | AI25: COLORADO ROCKIES | AJ25: 16 | AK25: 24 | AL25: 10 | AM25: 155 | AN25: 208 | AO25: 2-8 | AP25: L1 | AQ25: W3 | AT25: OAKLAND ATHLETICS | AU25: ='AL WEST 2024'!BC155 -> 19 | AV25: ='AL WEST 2024'!BD155 -> 21 | AW25: 6 | AX25: ='AL WEST 2024'!BG142 -> 181 | AY25: ='AL WEST 2024'!BH155 -> 179 | AZ25: 4-6 | BA25: L2 | BB25: L6 | BE25: COLORADO ROCKIES | BF25: 18 | BG25: 22 | BH25: 9 | BI25: 189 | BJ25: 221 | BK25: 6-4 | BL25: W1 | BM25: L5
B26: TEXAS RANGERS | C26: ='AL WEST 2024'!E93 -> 15 | D26: ='AL WEST 2024'!F93 -> 25 | E26: 10 | F26: ='AL WEST 2024'!I80 -> 161 | G26: ='AL WEST 2024'!J93 -> 206 | H26: 2-8 | I26: L2 | J26: L6 | M26: COLORADO ROCKIES | N26: ='NL WEST 2024'!E124 -> 13 | O26: ='NL WEST 2024'!F124 -> 27 | P26: 12 | Q26: ='NL WEST 2024'!I111 -> 170 | R26: ='NL WEST 2024'!J124 -> 254 | S26: 4-6 | T26: W2 | U26: L6 | X26: OAKLAND ATHLETICS | Y26: 14 | Z26: 26 | AA26: 8 | AB26: 139 | AC26: 193 | AD26: 2-8 | AE26: L6 | AF26: L6 | AI26: ARIZONA DIAMONDBACKS | AJ26: 12 | AK26: 28 | AL26: 15 | AM26: 118 | AN26: 191 | AO26: 4-6 | AP26: W3 | AQ26: L8 | AT26: TEXAS RANGERS | AU26: ='AL WEST 2024'!BC93 -> 13 | AV26: ='AL WEST 2024'!BD93 -> 27 | AW26: 12 | AX26: ='AL WEST 2024'!BG80 -> 146 | AY26: ='AL WEST 2024'!BH93 -> 195 | AZ26: 4-6 | BA26: L3 | BB26: L8 | BE26: ARIZONA DIAMONDBACKS | BF26: 15 | BG26: 25 | BH26: 12 | BI26: 173 | BJ26: 198 | BK26: 2-8 | BL26: W1 | BM26: L8
B29: POWER RANKINGS 2024 | M29: PLAYOFFS 2024 | X29: POWER RANKINGS 2023 | AI29: PLAYOFFS 2023 | AT29: POWER RANKINGS 2022 | BE29: PLAYOFFS 2022
B30: TEAM | C30: WIN | D30: LOSS | E30: GB | F30: R+ | G30: R- | H30: WC | I30: DS | J30: CS | M30: TEAM | N30: WIN | O30: LOSS | P30: GB | Q30: $ | R30: WC | S30: DS | T30: CS | U30: WS | X30: TEAM | Y30: WIN | Z30: LOSS | AA30: GB | AB30: R+ | AC30: R- | AD30: WC | AE30: DS | AF30: CS | AI30: TEAM | AJ30: WIN | AK30: LOSS | AL30: GB | AM30: $ | AN30: WC | AO30: DS | AP30: CS | AQ30: WS | AT30: TEAM | AU30: WIN | AV30: LOSS | AW30: GB | AX30: R+ | AY30: R- | AZ30: WC | BA30: DS | BB30: CS | BE30: TEAM | BF30: WIN | BG30: LOSS | BH30: GB | BI30: $ | BJ30: WC | BK30: DS | BL30: CS | BM30: WS
B31: NEW YORK METS | C31: ='NL EAST 2024'!E62 -> 30 | D31: ='NL EAST 2024'!F62 -> 10 | E31: - | F31: ='NL EAST 2024'!I49 -> 195 | G31: ='NL EAST 2024'!J62 -> 129 | H31: BYE | I31: LOSE | M31: HOUSTON ASTROS | N31: =HOU_P[[#Totals],[W]] -> 25 | O31: =HOU_P[[#Totals],[L]] -> 15 | P31: +2 | Q31: #1 DIV | R31: BYE | S31: WIN | T31: LOSE | X31: TORONTO BLUE JAYS | Y31: 29 | Z31: 11 | AA31: - | AB31: 175 | AC31: 119 | AD31: BYE | AE31: WIN | AF31: *WIN* | AI31: TORONTO BLUE JAYS | AJ31: 29 | AK31: 11 | AL31: +8 | AM31: #1 DIV | AN31: BYE | AO31: WIN | AP31: WIN | AQ31: *WIN* | AT31: BOSTON RED SOX | AU31: =AU4 -> 27 | AV31: =AV4 -> 13 | AW31: -- | AX31: =AX4 -> 231 | AY31: =AY4 -> 184 | AZ31: BYE | BA31: LOSE | BE31: BOSTON RED SOX | BF31: =AU4 -> 27 | BG31: =AV4 -> 13 | BH31: +5 | BI31: #1 DIV | BJ31: BYE | BK31: LOSE
B32: HOUSTON ASTROS | C32: =HOU_P[[#Totals],[W]] -> 25 | D32: =HOU_P[[#Totals],[L]] -> 15 | E32: 5 | F32: =HOU_H[[#Totals],[R]] -> 215 | G32: =HOU_P[[#Totals],[R]] -> 149 | H32: BYE | I32: WIN | J32: LOSE | M32: NEW YORK YANKEES | N32: ='AL EAST 2024'!E31 -> 24 | O32: ='AL EAST 2024'!F31 -> 16 | P32: +1 | Q32: #2 DIV | R32: BYE | S32: WIN | T32: WIN | U32: LOSE | X32: SAN FRANCISCO GIANTS | Y32: 26 | Z32: 14 | AA32: 3 | AB32: 194 | AC32: 127 | AD32: BYE | AE32: WIN | AF32: *WIN* | AI32: BOSTON RED SOX | AJ32: 25 | AK32: 15 | AL32: +4 | AM32: #4 WC | AN32: WIN | AO32: WIN | AP32: LOSE | AT32: SAN FRANCISCO GIANTS | AU32: ='NL WEST 2024'!BC31 -> 27 | AV32: ='NL WEST 2024'!BD31 -> 13 | AW32: -- | AX32: ='NL WEST 2024'!BG18 -> 187 | AY32: ='NL WEST 2024'!BH31 -> 142 | AZ32: BYE | BA32: WIN | BB32: LOSE | BE32: HOUSTON ASTROS | BF32: =AU22 -> 25 | BG32: =AV22 -> 15 | BH32: +3 | BI32: #2 DIV | BJ32: BYE | BK32: WIN | BL32: WIN | BM32: LOSE
B33: LOS ANGELES DODGERS | C33: ='NL WEST 2024'!E62 -> 25 | D33: ='NL WEST 2024'!F62 -> 15 | E33: 5 | F33: ='NL WEST 2024'!I49 -> 173 | G33: ='NL WEST 2024'!J62 -> 127 | H33: BYE | I33: WIN | J33: *WIN* | M33: CLEVELAND GUARDIANS | N33: ='AL CENTRAL 2024'!E31 -> 24 | O33: ='AL CENTRAL 2024'!F31 -> 16 | P33: +1 | Q33: #3 DIV | R33: WIN | S33: LOSE | X33: BOSTON RED SOX | Y33: 25 | Z33: 15 | AA33: 4 | AB33: 204 | AC33: 193 | AD33: WIN | AE33: WIN | AF33: LOSE | AI33: BALTIMORE ORIOLES | AJ33: 23 | AK33: 17 | AL33: +2 | AM33: #5 WC | AN33: LOSE | AT33: HOUSTON ASTROS | AU33: =AU22 -> 25 | AV33: =AV22 -> 15 | AW33: 2 | AX33: =AX22 -> 177 | AY33: =AY22 -> 170 | AZ33: BYE | BA33: WIN | BB33: *WIN* | BE33: NEW YORK YANKEES | BF33: =AU5 -> 23 | BG33: =AV5 -> 17 | BH33: +1 | BI33: #4 WC | BJ33: LOSE
B34: ATLANTA BRAVES | C34: ='NL EAST 2024'!E93 -> 24 | D34: ='NL EAST 2024'!F93 -> 16 | E34: 6 | F34: ='NL EAST 2024'!I80 -> 178 | G34: ='NL EAST 2024'!J93 -> 142 | H34: WIN | I34: WIN | J34: LOSE | M34: SEATTLE MARINERS | N34: ='AL WEST 2024'!E62 -> 24 | O34: ='AL WEST 2024'!F62 -> 16 | P34: +1 | Q34: #4 WC | R34: LOSE | X34: CHICAGO CUBS | Y34: 25 | Z34: 15 | AA34: 4 | AB34: 173 | AC34: 135 | AD34: LOSE | AI34: CLEVELAND GUARDIANS | AJ34: 23 | AK34: 17 | AL34: +2 | AM34: #2 DIV | AN34: BYE | AO34: LOSE | AT34: SAN DIEGO PADRES | AU34: ='NL WEST 2024'!BC93 -> 25 | AV34: ='NL WEST 2024'!BD93 -> 15 | AW34: 2 | AX34: ='NL WEST 2024'!BG80 -> 192 | AY34: ='NL WEST 2024'!BH93 -> 165 | AZ34: LOSE | BE34: CLEVELAND GUARDIANS | BF34: =AU13 -> 22 | BG34: =AV13 -> 18 | BH34: - | BI34: #3 DIV | BJ34: LOSE
B35: NEW YORK YANKEES | C35: ='AL EAST 2024'!E31 -> 24 | D35: ='AL EAST 2024'!F31 -> 16 | E35: 6 | F35: ='AL EAST 2024'!I18 -> 183 | G35: ='AL EAST 2024'!J31 -> 148 | H35: BYE | I35: WIN | J35: *WIN* | M35: BALTIMORE ORIOLES | N35: ='AL EAST 2024'!E124 -> 23 | O35: ='AL EAST 2024'!F124 -> 17 | P35: - | Q35: #5 WC | R35: WIN | S35: LOSE | X35: ATLANTA BRAVES | Y35: 25 | Z35: 15 | AA35: 4 | AB35: 174 | AC35: 147 | AD35: BYE | AE35: LOSE | AI35: SEATTLE MARINERS | AJ35: 22 | AK35: 18 | AL35: +1 | AM35: #3 DIV | AN35: LOSE | AT35: NEW YORK YANKEES | AU35: ='AL EAST 2024'!BC31 -> 23 | AV35: ='AL EAST 2024'!BD31 -> 17 | AW35: 4 | AX35: ='AL EAST 2024'!BG18 -> 202 | AY35: ='AL EAST 2024'!BH31 -> 177 | AZ35: LOSE | BE35: LOS ANGELES ANGELS | BF35: =AU23 -> 22 | BG35: =AV23 -> 18 | BH35: - | BI35: #5 WC | BJ35: WIN | BK35: WIN | BL35: LOSE
B36: CLEVELAND GUARDIANS | C36: ='AL CENTRAL 2024'!E31 -> 24 | D36: ='AL CENTRAL 2024'!F31 -> 16 | E36: 6 | F36: ='AL CENTRAL 2024'!I18 -> 168 | G36: ='AL CENTRAL 2024'!J31 -> 149 | H36: WIN | I36: LOSE | M36: BOSTON RED SOX | N36: ='AL EAST 2024'!E62 -> 23 | O36: ='AL EAST 2024'!F62 -> 17 | P36: - | Q36: #6 WC | R36: LOSE | X36: LOS ANGELES DODGERS | Y36: 24 | Z36: 16 | AA36: 5 | AB36: 190 | AC36: 131 | AD36: WIN | AE36: WIN | AF36: LOSE | AI36: MINNESOTA TWINS | AJ36: 21 | AK36: 19 | AL36: - | AM36: #6 WC | AN36: WIN | AO36: LOSE | AT36: PHILADELPHIA PHILLIES | AU36: ='NL EAST 2024'!BC31 -> 23 | AV36: ='NL EAST 2024'!BD31 -> 17 | AW36: 4 | AX36: ='NL EAST 2024'!BG18 -> 185 | AY36: ='NL EAST 2024'!BH31 -> 127 | AZ36: BYE | BA36: WIN | BB36: *WIN* | BE36: CHICAGO WHITE SOX | BF36: =AU14 -> 22 | BG36: =AV14 -> 18 | BH36: - | BI36: #6 WC | BJ36: WIN | BK36: LOSE
B37: SEATTLE MARINERS | C37: ='AL WEST 2024'!E62 -> 24 | D37: ='AL WEST 2024'!F62 -> 16 | E37: 6 | F37: ='AL WEST 2024'!I49 -> 206 | G37: ='AL WEST 2024'!J62 -> 162 | H37: LOSE | M37: KANSAS CITY ROYALS | N37: ='AL CENTRAL 2024'!E124 -> 22 | O37: ='AL CENTRAL 2024'!F124 -> 18 | P37: -1 | Q37: E | X37: NEW YORK METS | Y37: 23 | Z37: 17 | AA37: 6 | AB37: 200 | AC37: 153 | AD37: LOSE | AI37: NEW YORK YANKEES | AJ37: 21 | AK37: 19 | AL37: 0 | AM37: E | AT37: CHICAGO WHITE SOX | AU37: =AU14 -> 22 | AV37: =AV14 -> 18 | AW37: 5 | AX37: =AX14 -> 167 | AY37: =AY14 -> 177 | AZ37: WIN | BA37: LOSE | BE37: MINNESOTA TWINS | BF37: =AU15 -> 21 | BG37: =AV15 -> 19 | BH37: -1 | BI37: E
B38: BOSTON RED SOX | C38: ='AL EAST 2024'!E62 -> 23 | D38: ='AL EAST 2024'!F62 -> 17 | E38: 7 | F38: ='AL EAST 2024'!I49 -> 206 | G38: ='AL EAST 2024'!J62 -> 157 | H38: LOSE | M38: DETROIT TIGERS | N38: ='AL CENTRAL 2024'!E93 -> 21 | O38: ='AL CENTRAL 2024'!F93 -> 19 | P38: -2 | Q38: E | X38: BALTIMORE ORIOLES | Y38: 23 | Z38: 17 | AA38: 6 | AB38: 151 | AC38: 159 | AD38: LOSE | AI38: TAMPA BAY RAYS | AJ38: 21 | AK38: 19 | AL38: 0 | AM38: E | AT38: NEW YORK METS | AU38: ='NL EAST 2024'!BC62 -> 22 | AV38: ='NL EAST 2024'!BD62 -> 18 | AW38: 5 | AX38: ='NL EAST 2024'!BG49 -> 179 | AY38: ='NL EAST 2024'!BH62 -> 166 | AZ38: LOSE | BE38: KANSAS CITY ROYALS | BF38: =AU16 -> 20 | BG38: =AV16 -> 20 | BH38: -2 | BI38: E
B39: BALTIMORE ORIOLES | C39: ='AL EAST 2024'!E124 -> 23 | D39: ='AL EAST 2024'!F124 -> 17 | E39: 7 | F39: ='AL EAST 2024'!I111 -> 190 | G39: ='AL EAST 2024'!J124 -> 167 | H39: WIN | I39: LOSE | M39: CHICAGO WHITE SOX | N39: ='AL CENTRAL 2024'!E155 -> 20 | O39: ='AL CENTRAL 2024'!F155 -> 20 | P39: -3 | Q39: E | X39: CLEVELAND GUARDIANS | Y39: 23 | Z39: 17 | AA39: 6 | AB39: 205 | AC39: 146 | AD39: BYE | AE39: LOSE | AI39: HOUSTON ASTROS | AJ39: 20 | AK39: 20 | AL39: -1 | AM39: E | AT39: ST. LOUIS CARDINALS | AU39: ='NL CENTRAL 2024'!BC31 -> 22 | AV39: ='NL CENTRAL 2024'!BD31 -> 18 | AW39: 5 | AX39: ='NL CENTRAL 2024'!BG18 -> 194 | AY39: ='NL CENTRAL 2024'!BH31 -> 176 | AZ39: WIN | BA39: LOSE | BE39: SEATTLE MARINERS | BF39: =AU24 -> 20 | BG39: =AV24 -> 20 | BH39: -2 | BI39: E
B40: SAN DIEGO PADRES | C40: ='NL WEST 2024'!E93 -> 23 | D40: ='NL WEST 2024'!F93 -> 17 | E40: 7 | F40: ='NL WEST 2024'!I80 -> 148 | G40: ='NL WEST 2024'!J93 -> 140 | H40: LOSE | M40: MINNESOTA TWINS | N40: ='AL CENTRAL 2024'!E62 -> 18 | O40: ='AL CENTRAL 2024'!F62 -> 22 | P40: -5 | Q40: E | X40: CINCINNATI REDS | Y40: 22 | Z40: 18 | AA40: 7 | AB40: 180 | AC40: 186 | AD40: WIN | AE40: LOSE | AI40: LOS ANGELES ANGELS | AJ40: 19 | AK40: 21 | AL40: -2 | AM40: E | AT40: CLEVELAND GUARDIANS | AU40: =AU13 -> 22 | AV40: =AV13 -> 18 | AW40: 5 | AX40: =AX13 -> 215 | AY40: =AY13 -> 179 | AZ40: LOSE | BE40: OAKLAND ATHLETICS | BF40: =AU25 -> 19 | BG40: =AV25 -> 21 | BH40: -3 | BI40: E
B41: PHILADELPHIA PHILLIES | C41: ='NL EAST 2024'!E31 -> 23 | D41: ='NL EAST 2024'!F31 -> 17 | E41: 7 | F41: ='NL EAST 2024'!I18 -> 164 | G41: ='NL EAST 2024'!J31 -> 163 | H41: WIN | I41: LOSE | M41: TORONTO BLUE JAYS | N41: ='AL EAST 2024'!E93 -> 16 | O41: ='AL EAST 2024'!F93 -> 24 | P41: -7 | Q41: E | X41: SEATTLE MARINERS | Y41: 22 | Z41: 18 | AA41: 7 | AB41: 178 | AC41: 161 | AD41: LOSE | AI41: KANSAS CITY ROYALS | AJ41: 18 | AK41: 22 | AL41: -3 | AM41: E | AT41: LOS ANGELES ANGELS | AU41: =AU23 -> 22 | AV41: =AV23 -> 18 | AW41: 5 | AX41: =AX23 -> 186 | AY41: =AY23 -> 162 | AZ41: WIN | BA41: WIN | BB41: LOSE | BE41: TORONTO BLUE JAYS | BF41: =AU7 -> 17 | BG41: =AV7 -> 23 | BH41: -3 | BI41: E
B42: KANSAS CITY ROYALS | C42: ='AL CENTRAL 2024'!E124 -> 22 | D42: ='AL CENTRAL 2024'!F124 -> 18 | E42: 8 | F42: ='AL CENTRAL 2024'!I111 -> 165 | G42: ='AL CENTRAL 2024'!J124 -> 175 | M42: LOS ANGELES ANGELS | N42: ='AL WEST 2024'!E124 -> 16 | O42: ='AL WEST 2024'!F124 -> 24 | P42: -7 | Q42: E | X42: MINNESOTA TWINS | Y42: 21 | Z42: 19 | AA42: 8 | AB42: 193 | AC42: 178 | AD42: WIN | AE42: LOSE | AI42: CHICAGO WHITE SOX | AJ42: 16 | AK42: 24 | AL42: -5 | AM42: E | AT42: MILWAUKEE BREWERS | AU42: ='NL CENTRAL 2024'!BC124 -> 22 | AV42: ='NL CENTRAL 2024'!BD124 -> 18 | AW42: 5 | AX42: ='NL CENTRAL 2024'!BG111 -> 170 | AY42: ='NL CENTRAL 2024'!BH124 -> 180 | AZ42: WIN | BA42: LOSE | BE42: TAMPA BAY RAYS | BF42: =AU7 -> 17 | BG42: =AV7 -> 23 | BH42: -5 | BI42: E
B43: ARIZONA DIAMONDBACKS | C43: ='NL WEST 2024'!E155 -> 21 | D43: ='NL WEST 2024'!F155 -> 19 | E43: 9 | F43: ='NL WEST 2024'!I142 -> 220 | G43: ='NL WEST 2024'!J155 -> 166 | M43: OAKLAND ATHLETICS | N43: ='AL WEST 2024'!E155 -> 16 | O43: ='AL WEST 2024'!F155 -> 24 | P43: -7 | Q43: E | X43: SAN DIEGO PADRES | Y43: 21 | Z43: 19 | AA43: 8 | AB43: 140 | AC43: 153 | AI43: TEXAS RANGERS | AJ43: 15 | AK43: 25 | AL43: -6 | AM43: E | AT43: MINNESOTA TWINS | AU43: =AU15 -> 21 | AV43: =AV15 -> 19 | AW43: 6 | AX43: =AX15 -> 223 | AY43: =AY15 -> 178 | BE43: BALTIMORE ORIOLES | BF43: =AU8 -> 14 | BG43: =AV8 -> 26 | BH43: -8 | BI43: E
B44: DETROIT TIGERS | C44: ='AL CENTRAL 2024'!E93 -> 21 | D44: ='AL CENTRAL 2024'!F93 -> 19 | E44: 9 | F44: ='AL CENTRAL 2024'!I80 -> 192 | G44: ='AL CENTRAL 2024'!J93 -> 178 | M44: TAMPA BAY RAYS | N44: ='AL EAST 2024'!E155 -> 15 | O44: ='AL EAST 2024'!F155 -> 25 | P44: -8 | Q44: E | X44: NEW YORK YANKEES | Y44: 21 | Z44: 19 | AA44: 8 | AB44: 170 | AC44: 146 | AI44: OAKLAND ATHLETICS | AJ44: 14 | AK44: 26 | AL44: -7 | AM44: E | AT44: ATLANTA BRAVES | AU44: ='NL EAST 2024'!BC93 -> 21 | AV44: ='NL EAST 2024'!BD93 -> 19 | AW44: 6 | AX44: ='NL EAST 2024'!BG80 -> 165 | AY44: ='NL EAST 2024'!BH93 -> 174 | BE44: TEXAS RANGERS | BF44: =AU26 -> 13 | BG44: =AV26 -> 27 | BH44: -9 | BI44: E
B45: SAN FRANCISCO GIANTS | C45: ='NL WEST 2024'!E31 -> 21 | D45: ='NL WEST 2024'!F31 -> 19 | E45: 9 | F45: ='NL WEST 2024'!I18 -> 151 | G45: ='NL WEST 2024'!J31 -> 162 | M45: TEXAS RANGERS | N45: ='AL WEST 2024'!E93 -> 15 | O45: ='AL WEST 2024'!F93 -> 25 | P45: -8 | Q45: E | X45: TAMPA BAY RAYS | Y45: 21 | Z45: 19 | AA45: 8 | AB45: 169 | AC45: 137 | AI45: DETROIT TIGERS | AJ45: 14 | AK45: 26 | AL45: -7 | AM45: E | AT45: LOS ANGELES DODGERS | AU45: ='NL WEST 2024'!BC62 -> 21 | AV45: ='NL WEST 2024'!BD62 -> 19 | AW45: 6 | AX45: ='NL WEST 2024'!BG49 -> 142 | AY45: ='NL WEST 2024'!BH62 -> 143 | BE45: DETROIT TIGERS | BF45: =AU17 -> 12 | BG45: =AV17 -> 28 | BH45: -10 | BI45: E
B46: CHICAGO WHITE SOX | C46: ='AL CENTRAL 2024'!E155 -> 20 | D46: ='AL CENTRAL 2024'!F155 -> 20 | E46: 10 | F46: ='AL CENTRAL 2024'!I142 -> 181 | G46: ='AL CENTRAL 2024'!J155 -> 174 | X46: ST. LOUIS CARDINALS | Y46: 20 | Z46: 20 | AA46: 9 | AB46: 154 | AC46: 166 | AT46: CINCINNATI REDS | AU46: ='NL CENTRAL 2024'!BC93 -> 20 | AV46: ='NL CENTRAL 2024'!BD93 -> 20 | AW46: 7 | AX46: ='NL CENTRAL 2024'!BG80 -> 170 | AY46: ='NL CENTRAL 2024'!BH93 -> 155
...

Sheet AL EAST 2024
A1: AMERICAN LEAGUE EAST 2024 | Z1: AMERICAN LEAGUE EAST 2023 | AY1: AMERICAN LEAGUE EAST 2022
A2: NEW YORK YANKEES 24-16 *1st* | Z2: NEW YORK YANKEES 21-19 5th | AY2: NEW YORK YANKEES 23-17 2nd
A3: TM | B3: @ | C3: NAME | D3: BA | E3: OBP | F3: SLG | G3: G | H3: AB | I3: R | J3: H | K3: 2B | L3: 3B | M3: HR | N3: RBI | O3: BB | P3: K | Q3: SB | R3: HS | S3: LS | T3: TB | U3: OPS | V3: * | W3: # | Z3: TM | AA3: @ | AB3: NAME | AC3: BA | AD3: OBP | AE3: SLG | AF3: G | AG3: AB | AH3: R | AI3: H | AJ3: 2B | AK3: 3B | AL3: HR | AM3: RBI | AN3: BB | AO3: K | AP3: SB | AQ3: HS | AR3: LS | AS3: TB | AT3: OPS | AU3: * | AV3: # | AY3: TM | AZ3: @ | BA3: NAME | BB3: BA | BC3: OBP | BD3: SLG | BE3: G | BF3: AB | BG3: R | BH3: H | BI3: 2B | BJ3: 3B | BK3: HR | BL3: RBI | BM3: BB | BN3: K | BO3: SB | BP3: HS | BQ3: LS | BR3: TB | BS3: OPS | BT3: * | BU3: #
A4: NYY | B4: C | C4: J. Posada | D4: =IFERROR((NYY_H[[#This Row],[H]]/NYY_H[[#This Row],[AB]]),0) -> 0.28455285 | E4: =IFERROR((NYY_H[[#This Row],[H]]+NYY_H[[#This Row],[BB]])/(NYY_H[[#This Row],[AB]]+NYY_H[[#This Row],[BB]]),) -> 0.36231884 | F4: =IFERROR(((NYY_H[[#This Row],[H]]-NYY_H[[#This Row],[2B]]-NYY_H[[#This Row],[3B]]-NYY_H[[#This Row],[HR]])+(NYY_H[[#This Row],[2B]]*2)+(NYY_H[[#This Row],[3B]]*3)+(NYY_H[[#This Row],[HR]]*4))/NYY_H[[#This Row],[AB]],0) -> 0.4796748 | G4: 36 | H4: 123 | I4: 14 | J4: 35 | K4: 9 | L4: 0 | M4: 5 | N4: 18 | O4: 15 | P4: 39 | Q4: 0 | R4: 0 | S4: 6 | T4: =IFERROR((NYY_H[[#This Row],[H]]-NYY_H[[#This Row],[2B]]-NYY_H[[#This Row],[3B]]-NYY_H[[#This Row],[HR]])+(NYY_H[[#This Row],[2B]]*2)+(NYY_H[[#This Row],[3B]]*3)+(NYY_H[[#This Row],[HR]]*4),0) -> 59 | U4: =NYY_H[[#This Row],[OBP]]+NYY_H[[#This Row],[SLG]] -> 0.84199364 | V4: 4 | W4: 1 | Z4: NYY | AA4: C | AB4: J. Posada | AC4: =IFERROR((NYY_H304[[#This Row],[H]]/NYY_H304[[#This Row],[AB]]),0) -> 0.21929825 | AD4: =IFERROR((NYY_H304[[#This Row],[H]]+NYY_H304[[#This Row],[BB]])/(NYY_H304[[#This Row],[AB]]+NYY_H304[[#This Row],[BB]]),) -> 0.27642276 | AE4: =IFERROR(((NYY_H304[[#This Row],[H]]-NYY_H304[[#This Row],[2B]]-NYY_H304[[#This Row],[3B]]-NYY_H304[[#This Row],[HR]])+(NYY_H304[[#This Row],[2B]]*2)+(NYY_H304[[#This Row],[3B]]*3)+(NYY_H304[[#This Row],[HR]]*4))/NYY_H304[[#This Row],[AB]],0) -> 0.35087719 | AF4: 33 | AG4: 114 | AH4: 10 | AI4: 25 | AJ4: 6 | AK4: 0 | AL4: 3 | AM4: 13 | AN4: 9 | AO4: 29 | AP4: 0 | AQ4: 1 | AR4: 4 | AS4: =IFERROR((NYY_H304[[#This Row],[H]]-NYY_H304[[#This Row],[2B]]-NYY_H304[[#This Row],[3B]]-NYY_H304[[#This Row],[HR]])+(NYY_H304[[#This Row],[2B]]*2)+(NYY_H304[[#This Row],[3B]]*3)+(NYY_H304[[#This Row],[HR]]*4),0) -> 40 | AT4: =NYY_H304[[#This Row],[OBP]]+NYY_H304[[#This Row],[SLG]] -> 0.62729996 | AU4: 2 | AV4: 1 | AY4: NYY | AZ4: C | BA4: J. Posada | BB4: =IFERROR(NYY_H217[[#This Row],[H]]/NYY_H217[[#This Row],[AB]],0) -> 0.22619048 | BC4: =IFERROR((NYY_H217[[#This Row],[BB]]+NYY_H217[[#This Row],[H]])/(NYY_H217[[#This Row],[AB]]+NYY_H217[[#This Row],[BB]]),0) -> 0.33673469 | BD4: =IFERROR(((NYY_H217[[#This Row],[H]]-NYY_H217[[#This Row],[2B]]-NYY_H217[[#This Row],[3B]]-NYY_H217[[#This Row],[HR]])+(NYY_H217[[#This Row],[2B]]*2)+(NYY_H217[[#This Row],[3B]]*3)+(NYY_H217[[#This Row],[HR]]*4))/NYY_H217[[#This Row],[AB]],0) -> 0.33333333 | BE4: 26 | BF4: 84 | BG4: 8 | BH4: 19 | BI4: 3 | BJ4: =0 -> 0 | BK4: 2 | BL4: 14 | BM4: 14 | BN4: 19 | BO4: 0 | BP4: 2 | BQ4: 3 | BR4: =IFERROR((BH4-BI4-BJ4-BK4)+(BI4*2)+(BJ4*3)+(BK4*4),0) -> 28 | BS4: =IFERROR(NYY_H217[[#This Row],[OBP]]+NYY_H217[[#This Row],[SLG]],0) -> 0.67006803 | BT4: 2 | BU4: 1
A5: NYY | B5: 3B | C5: D. LeMahieu | D5: =IFERROR((NYY_H[[#This Row],[H]]/NYY_H[[#This Row],[AB]]),0) -> 0.31914894 | E5: =IFERROR((NYY_H[[#This Row],[H]]+NYY_H[[#This Row],[BB]])/(NYY_H[[#This Row],[AB]]+NYY_H[[#This Row],[BB]]),) -> 0.38064516 | F5: =IFERROR(((NYY_H[[#This Row],[H]]-NYY_H[[#This Row],[2B]]-NYY_H[[#This Row],[3B]]-NYY_H[[#This Row],[HR]])+(NYY_H[[#This Row],[2B]]*2)+(NYY_H[[#This Row],[3B]]*3)+(NYY_H[[#This Row],[HR]]*4))/NYY_H[[#This Row],[AB]],0) -> 0.46099291 | G5: 38 | H5: 141 | I5: 18 | J5: 45 | K5: 7 | L5: 2 | M5: 3 | N5: 20 | O5: 14 | P5: 31 | Q5: 0 | R5: 0 | S5: 10 | T5: =IFERROR((NYY_H[[#This Row],[H]]-NYY_H[[#This Row],[2B]]-NYY_H[[#This Row],[3B]]-NYY_H[[#This Row],[HR]])+(NYY_H[[#This Row],[2B]]*2)+(NYY_H[[#This Row],[3B]]*3)+(NYY_H[[#This Row],[HR]]*4),0) -> 65 | U5: =NYY_H[[#This Row],[OBP]]+NYY_H[[#This Row],[SLG]] -> 0.84163807 | V5: 0 | W5: 2 | Z5: NYY | AA5: 3B | AB5: D. LeMahieu | AC5: =IFERROR((NYY_H304[[#This Row],[H]]/NYY_H304[[#This Row],[AB]]),0) -> 0.31875 | AD5: =IFERROR((NYY_H304[[#This Row],[H]]+NYY_H304[[#This Row],[BB]])/(NYY_H304[[#This Row],[AB]]+NYY_H304[[#This Row],[BB]]),) -> 0.37356322 | AE5: =IFERROR(((NYY_H304[[#This Row],[H]]-NYY_H304[[#This Row],[2B]]-NYY_H304[[#This Row],[3B]]-NYY_H304[[#This Row],[HR]])+(NYY_H304[[#This Row],[2B]]*2)+(NYY_H304[[#This Row],[3B]]*3)+(NYY_H304[[#This Row],[HR]]*4))/NYY_H304[[#This Row],[AB]],0) -> 0.45 | AF5: 38 | AG5: 160 | AH5: 20 | AI5: 51 | AJ5: 9 | AK5: 3 | AL5: 2 | AM5: 21 | AN5: 14 | AO5: 21 | AP5: 0 | AQ5: 9 | AR5: 19 | AS5: =IFERROR((NYY_H304[[#This Row],[H]]-NYY_H304[[#This Row],[2B]]-NYY_H304[[#This Row],[3B]]-NYY_H304[[#This Row],[HR]])+(NYY_H304[[#This Row],[2B]]*2)+(NYY_H304[[#This Row],[3B]]*3)+(NYY_H304[[#This Row],[HR]]*4),0) -> 72 | AT5: =NYY_H304[[#This Row],[OBP]]+NYY_H304[[#This Row],[SLG]] -> 0.82356322 | AU5: 3 | AV5: 2 | AY5: NYY | AZ5: 3B | BA5: A. Rodriguez | BB5: =IFERROR(NYY_H217[[#This Row],[H]]/NYY_H217[[#This Row],[AB]],0) -> 0.24375 | BC5: =IFERROR((NYY_H217[[#This Row],[BB]]+NYY_H217[[#This Row],[H]])/(NYY_H217[[#This Row],[AB]]+NYY_H217[[#This Row],[BB]]),0) -> 0.29239766 | BD5: =IFERROR(((NYY_H217[[#This Row],[H]]-NYY_H217[[#This Row],[2B]]-NYY_H217[[#This Row],[3B]]-NYY_H217[[#This Row],[HR]])+(NYY_H217[[#This Row],[2B]]*2)+(NYY_H217[[#This Row],[3B]]*3)+(NYY_H217[[#This Row],[HR]]*4))/NYY_H217[[#This Row],[AB]],0) -> 0.43125 | BE5: 39 | BF5: 160 | BG5: 20 | BH5: 39 | BI5: 6 | BJ5: =0 -> 0 | BK5: 8 | BL5: 17 | BM5: 11 | BN5: 36 | BO5: 0 | BP5: 1 | BQ5: 5 | BR5: =IFERROR((BH5-BI5-BJ5-BK5)+(BI5*2)+(BJ5*3)+(BK5*4),0) -> 69 | BS5: =IFERROR(NYY_H217[[#This Row],[OBP]]+NYY_H217[[#This Row],[SLG]],0) -> 0.72364766 | BT5: 0 | BU5: 2
A6: NYY | B6: SS | C6: D. Jeter | D6: =IFERROR((NYY_H[[#This Row],[H]]/NYY_H[[#This Row],[AB]]),0) -> 0.27878788 | E6: =IFERROR((NYY_H[[#This Row],[H]]+NYY_H[[#This Row],[BB]])/(NYY_H[[#This Row],[AB]]+NYY_H[[#This Row],[BB]]),) -> 0.34972678 | F6: =IFERROR(((NYY_H[[#This Row],[H]]-NYY_H[[#This Row],[2B]]-NYY_H[[#This Row],[3B]]-NYY_H[[#This Row],[HR]])+(NYY_H[[#This Row],[2B]]*2)+(NYY_H[[#This Row],[3B]]*3)+(NYY_H[[#This Row],[HR]]*4))/NYY_H[[#This Row],[AB]],0) -> 0.36969697 | G6: 39 | H6: 165 | I6: 21 | J6: 46 | K6: 8 | L6: 2 | M6: 1 | N6: 15 | O6: 18 | P6: 33 | Q6: 1 | R6: 2 | S6: 6 | T6: =IFERROR((NYY_H[[#This Row],[H]]-NYY_H[[#This Row],[2B]]-NYY_H[[#This Row],[3B]]-NYY_H[[#This Row],[HR]])+(NYY_H[[#This Row],[2B]]*2)+(NYY_H[[#This Row],[3B]]*3)+(NYY_H[[#This Row],[HR]]*4),0) -> 61 | U6: =NYY_H[[#This Row],[OBP]]+NYY_H[[#This Row],[SLG]] -> 0.71942375 | V6: 2 | W6: 3 | Z6: NYY | AA6: SS | AB6: D. Jeter | AC6: =IFERROR((NYY_H304[[#This Row],[H]]/NYY_H304[[#This Row],[AB]]),0) -> 0.30769231 | AD6: =IFERROR((NYY_H304[[#This Row],[H]]+NYY_H304[[#This Row],[BB]])/(NYY_H304[[#This Row],[AB]]+NYY_H304[[#This Row],[BB]]),) -> 0.35329341 | AE6: =IFERROR(((NYY_H304[[#This Row],[H]]-NYY_H304[[#This Row],[2B]]-NYY_H304[[#This Row],[3B]]-NYY_H304[[#This Row],[HR]])+(NYY_H304[[#This Row],[2B]]*2)+(NYY_H304[[#This Row],[3B]]*3)+(NYY_H304[[#This Row],[HR]]*4))/NYY_H304[[#This Row],[AB]],0) -> 0.3974359 | AF6: 37 | AG6: 156 | AH6: 17 | AI6: 48 | AJ6: 9 | AK6: 1 | AL6: 1 | AM6: 12 | AN6: 11 | AO6: 37 | AP6: 7 | AQ6: 0 | AR6: 16 | AS6: =IFERROR((NYY_H304[[#This Row],[H]]-NYY_H304[[#This Row],[2B]]-NYY_H304[[#This Row],[3B]]-NYY_H304[[#This Row],[HR]])+(NYY_H304[[#This Row],[2B]]*2)+(NYY_H304[[#This Row],[3B]]*3)+(NYY_H304[[#This Row],[HR]]*4),0) -> 62 | AT6: =NYY_H304[[#This Row],[OBP]]+NYY_H304[[#This Row],[SLG]] -> 0.75072931 | AU6: 1 | AV6: 3 | AY6: NYY | AZ6: SS | BA6: D. Jeter | BB6: =IFERROR(NYY_H217[[#This Row],[H]]/NYY_H217[[#This Row],[AB]],0) -> 0.3125 | BC6: =IFERROR((NYY_H217[[#This Row],[BB]]+NYY_H217[[#This Row],[H]])/(NYY_H217[[#This Row],[AB]]+NYY_H217[[#This Row],[BB]]),0) -> 0.3989071 | BD6: =IFERROR(((NYY_H217[[#This Row],[H]]-NYY_H217[[#This Row],[2B]]-NYY_H217[[#This Row],[3B]]-NYY_H217[[#This Row],[HR]])+(NYY_H217[[#This Row],[2B]]*2)+(NYY_H217[[#This Row],[3B]]*3)+(NYY_H217[[#This Row],[HR]]*4))/NYY_H217[[#This Row],[AB]],0) -> 0.49375 | BE6: 40 | BF6: 160 | BG6: 20 | BH6: 50 | BI6: 12 | BJ6: 1 | BK6: 5 | BL6: 27 | BM6: 23 | BN6: 30 | BO6: 5 | BP6: 2 | BQ6: 9 | BR6: =IFERROR((BH6-BI6-BJ6-BK6)+(BI6*2)+(BJ6*3)+(BK6*4),0) -> 79 | BS6: =IFERROR(NYY_H217[[#This Row],[OBP]]+NYY_H217[[#This Row],[SLG]],0) -> 0.8926571 | BT6: 5 | BU6: 3
A7: NYY | B7: 2B | C7: G. Torres | D7: =IFERROR((NYY_H[[#This Row],[H]]/NYY_H[[#This Row],[AB]]),0) -> 0.2 | E7: =IFERROR((NYY_H[[#This Row],[H]]+NYY_H[[#This Row],[BB]])/(NYY_H[[#This Row],[AB]]+NYY_H[[#This Row],[BB]]),) -> 0.25827815 | F7: =IFERROR(((NYY_H[[#This Row],[H]]-NYY_H[[#This Row],[2B]]-NYY_H[[#This Row],[3B]]-NYY_H[[#This Row],[HR]])+(NYY_H[[#This Row],[2B]]*2)+(NYY_H[[#This Row],[3B]]*3)+(NYY_H[[#This Row],[HR]]*4))/NYY_H[[#This Row],[AB]],0) -> 0.35714286 | G7: 37 | H7: 140 | I7: 12 | J7: 28 | K7: 7 | L7: 0 | M7: 5 | N7: 14 | O7: 11 | P7: 40 | Q7: 0 | R7: 0 | S7: 5 | T7: =IFERROR((NYY_H[[#This Row],[H]]-NYY_H[[#This Row],[2B]]-NYY_H[[#This Row],[3B]]-NYY_H[[#This Row],[HR]])+(NYY_H[[#This Row],[2B]]*2)+(NYY_H[[#This Row],[3B]]*3)+(NYY_H[[#This Row],[HR]]*4),0) -> 50 | U7: =NYY_H[[#This Row],[OBP]]+NYY_H[[#This Row],[SLG]] -> 0.615421 | V7: 0 | W7: 4 | Z7: NYY | AA7: 2B | AB7: G. Torres | AC7: =IFERROR((NYY_H304[[#This Row],[H]]/NYY_H304[[#This Row],[AB]]),0) -> 0.24427481 | AD7: =IFERROR((NYY_H304[[#This Row],[H]]+NYY_H304[[#This Row],[BB]])/(NYY_H304[[#This Row],[AB]]+NYY_H304[[#This Row],[BB]]),) -> 0.32191781 | AE7: =IFERROR(((NYY_H304[[#This Row],[H]]-NYY_H304[[#This Row],[2B]]-NYY_H304[[#This Row],[3B]]-NYY_H304[[#This Row],[HR]])+(NYY_H304[[#This Row],[2B]]*2)+(NYY_H304[[#This Row],[3B]]*3)+(NYY_H304[[#This Row],[HR]]*4))/NYY_H304[[#This Row],[AB]],0) -> 0.58015267 | AF7: 36 | AG7: 131 | AH7: 23 | AI7: 32 | AJ7: 8 | AK7: 0 | AL7: 12 | AM7: 28 | AN7: 15 | AO7: 36 | AP7: 0 | AQ7: 6 | AR7: 6 | AS7: =IFERROR((NYY_H304[[#This Row],[H]]-NYY_H304[[#This Row],[2B]]-NYY_H304[[#This Row],[3B]]-NYY_H304[[#This Row],[HR]])+(NYY_H304[[#This Row],[2B]]*2)+(NYY_H304[[#This Row],[3B]]*3)+(NYY_H304[[#This Row],[HR]]*4),0) -> 76 | AT7: =NYY_H304[[#This Row],[OBP]]+NYY_H304[[#This Row],[SLG]] -> 0.90207048 | AU7: 6 | AV7: 4 | AY7: NYY | AZ7: 2B | BA7: D. LeMahieu | BB7: =IFERROR(NYY_H217[[#This Row],[H]]/NYY_H217[[#This Row],[AB]],0) -> 0.27407407 | BC7: =IFERROR((NYY_H217[[#This Row],[BB]]+NYY_H217[[#This Row],[H]])/(NYY_H217[[#This Row],[AB]]+NYY_H217[[#This Row],[BB]]),0) -> 0.36363636 | BD7: =IFERROR(((NYY_H217[[#This Row],[H]]-NYY_H217[[#This Row],[2B]]-NYY_H217[[#This Row],[3B]]-NYY_H217[[#This Row],[HR]])+(NYY_H217[[#This Row],[2B]]*2)+(NYY_H217[[#This Row],[3B]]*3)+(NYY_H217[[#This Row],[HR]]*4))/NYY_H217[[#This Row],[AB]],0) -> 0.45925926 | BE7: 38 | BF7: 135 | BG7: 22 | BH7: 37 | BI7: 8 | BJ7: 1 | BK7: 5 | BL7: 15 | BM7: 19 | BN7: 25 | BO7: 0 | BP7: 1 | BQ7: 8 | BR7: =IFERROR((BH7-BI7-BJ7-BK7)+(BI7*2)+(BJ7*3)+(BK7*4),0) -> 62 | BS7: =IFERROR(NYY_H217[[#This Row],[OBP]]+NYY_H217[[#This Row],[SLG]],0) -> 0.82289562 | BT7: 1 | BU7: 4
A8: NYY | B8: 1B | C8: D. Mattingly | D8: =IFERROR((NYY_H[[#This Row],[H]]/NYY_H[[#This Row],[AB]]),0) -> 0.27108434 | E8: =IFERROR((NYY_H[[#This Row],[H]]+NYY_H[[#This Row],[BB]])/(NYY_H[[#This Row],[AB]]+NYY_H[[#This Row],[BB]]),) -> 0.32022472 | F8: =IFERROR(((NYY_H[[#This Row],[H]]-NYY_H[[#This Row],[2B]]-NYY_H[[#This Row],[3B]]-NYY_H[[#This Row],[HR]])+(NYY_H[[#This Row],[2B]]*2)+(NYY_H[[#This Row],[3B]]*3)+(NYY_H[[#This Row],[HR]]*4))/NYY_H[[#This Row],[AB]],0) -> 0.37349398 | G8: 39 | H8: 166 | I8: 23 | J8: 45 | K8: 11 | L8: 0 | M8: 2 | N8: 14 | O8: 12 | P8: 23 | Q8: 0 | R8: 1 | S8: 8 | T8: =IFERROR((NYY_H[[#This Row],[H]]-NYY_H[[#This Row],[2B]]-NYY_H[[#This Row],[3B]]-NYY_H[[#This Row],[HR]])+(NYY_H[[#This Row],[2B]]*2)+(NYY_H[[#This Row],[3B]]*3)+(NYY_H[[#This Row],[HR]]*4),0) -> 62 | U8: =NYY_H[[#This Row],[OBP]]+NYY_H[[#This Row],[SLG]] -> 0.6937187 | V8: 3 | W8: 5 | Z8: NYY | AA8: 1B | AB8: D. Mattingly | AC8: =IFERROR((NYY_H304[[#This Row],[H]]/NYY_H304[[#This Row],[AB]]),0) -> 0.27631579 | AD8: =IFERROR((NYY_H304[[#This Row],[H]]+NYY_H304[[#This Row],[BB]])/(NYY_H304[[#This Row],[AB]]+NYY_H304[[#This Row],[BB]]),) -> 0.34911243 | AE8: =IFERROR(((NYY_H304[[#This Row],[H]]-NYY_H304[[#This Row],[2B]]-NYY_H304[[#This Row],[3B]]-NYY_H304[[#This Row],[HR]])+(NYY_H304[[#This Row],[2B]]*2)+(NYY_H304[[#This Row],[3B]]*3)+(NYY_H304[[#This Row],[HR]]*4))/NYY_H304[[#This Row],[AB]],0) -> 0.39473684 | AF8: 38 | AG8: 152 | AH8: 23 | AI8: 42 | AJ8: 9 | AK8: 0 | AL8: 3 | AM8: 16 | AN8: 17 | AO8: 40 | AP8: 0 | AQ8: 2 | AR8: 9 | AS8: =IFERROR((NYY_H304[[#This Row],[H]]-NYY_H304[[#This Row],[2B]]-NYY_H304[[#This Row],[3B]]-NYY_H304[[#This Row],[HR]])+(NYY_H304[[#This Row],[2B]]*2)+(NYY_H304[[#This Row],[3B]]*3)+(NYY_H304[[#This Row],[HR]]*4),0) -> 60 | AT8: =NYY_H304[[#This Row],[OBP]]+NYY_H304[[#This Row],[SLG]] -> 0.74384927 | AU8: 2 | AV8: 5 | AY8: NYY | AZ8: 1B | BA8: D. Mattingly | BB8: =IFERROR(NYY_H217[[#This Row],[H]]/NYY_H217[[#This Row],[AB]],0) -> 0.24817518 | BC8: =IFERROR((NYY_H217[[#This Row],[BB]]+NYY_H217[[#This Row],[H]])/(NYY_H217[[#This Row],[AB]]+NYY_H217[[#This Row],[BB]]),0) -> 0.31333333 | BD8: =IFERROR(((NYY_H217[[#This Row],[H]]-NYY_H217[[#This Row],[2B]]-NYY_H217[[#This Row],[3B]]-NYY_H217[[#This Row],[HR]])+(NYY_H217[[#This Row],[2B]]*2)+(NYY_H217[[#This Row],[3B]]*3)+(NYY_H217[[#This Row],[HR]]*4))/NYY_H217[[#This Row],[AB]],0) -> 0.40145985 | BE8: 37 | BF8: 137 | BG8: 14 | BH8: 34 | BI8: 6 | BJ8: =0 -> 0 | BK8: 5 | BL8: 14 | BM8: 13 | BN8: 22 | BO8: 0 | BP8: 0 | BQ8: 4 | BR8: =IFERROR((BH8-BI8-BJ8-BK8)+(BI8*2)+(BJ8*3)+(BK8*4),0) -> 55 | BS8: =IFERROR(NYY_H217[[#This Row],[OBP]]+NYY_H217[[#This Row],[SLG]],0) -> 0.71479319 | BT8: 0 | BU8: 5
A9: NYY | B9: LF | C9: G. Stanton | D9: =IFERROR((NYY_H[[#This Row],[H]]/NYY_H[[#This Row],[AB]]),0) -> 0.27083333 | E9: =IFERROR((NYY_H[[#This Row],[H]]+NYY_H[[#This Row],[BB]])/(NYY_H[[#This Row],[AB]]+NYY_H[[#This Row],[BB]]),) -> 0.37869822 | F9: =IFERROR(((NYY_H[[#This Row],[H]]-NYY_H[[#This Row],[2B]]-NYY_H[[#This Row],[3B]]-NYY_H[[#This Row],[HR]])+(NYY_H[[#This Row],[2B]]*2)+(NYY_H[[#This Row],[3B]]*3)+(NYY_H[[#This Row],[HR]]*4))/NYY_H[[#This Row],[AB]],0) -> 0.51388889 | G9: 39 | H9: 144 | I9: 26 | J9: 39 | K9: 8 | L9: 0 | M9: 9 | N9: 21 | O9: 25 | P9: 56 | Q9: 0 | R9: 1 | S9: 7 | T9: =IFERROR((NYY_H[[#This Row],[H]]-NYY_H[[#This Row],[2B]]-NYY_H[[#This Row],[3B]]-NYY_H[[#This Row],[HR]])+(NYY_H[[#This Row],[2B]]*2)+(NYY_H[[#This Row],[3B]]*3)+(NYY_H[[#This Row],[HR]]*4),0) -> 74 | U9: =NYY_H[[#This Row],[OBP]]+NYY_H[[#This Row],[SLG]] -> 0.89258711 | V9: 5 | W9: 6 | Z9: NYY | AA9: LF | AB9: H. Matsui | AC9: =IFERROR((NYY_H304[[#This Row],[H]]/NYY_H304[[#This Row],[AB]]),0) -> 0.29565217 | AD9: =IFERROR((NYY_H304[[#This Row],[H]]+NYY_H304[[#This Row],[BB]])/(NYY_H304[[#This Row],[AB]]+NYY_H304[[#This Row],[BB]]),) -> 0.37692308 | AE9: =IFERROR(((NYY_H304[[#This Row],[H]]-NYY_H304[[#This Row],[2B]]-NYY_H304[[#This Row],[3B]]-NYY_H304[[#This Row],[HR]])+(NYY_H304[[#This Row],[2B]]*2)+(NYY_H304[[#This Row],[3B]]*3)+(NYY_H304[[#This Row],[HR]]*4))/NYY_H304[[#This Row],[AB]],0) -> 0.48695652 | AF9: 31 | AG9: 115 | AH9: 17 | AI9: 34 | AJ9: 7 | AK9: 0 | AL9: 5 | AM9: 17 | AN9: 15 | AO9: 19 | AP9: 0 | AQ9: 1 | AR9: 7 | AS9: =IFERROR((NYY_H304[[#This Row],[H]]-NYY_H304[[#This Row],[2B]]-NYY_H304[[#This Row],[3B]]-NYY_H304[[#This Row],[HR]])+(NYY_H304[[#This Row],[2B]]*2)+(NYY_H304[[#This Row],[3B]]*3)+(NYY_H304[[#This Row],[HR]]*4),0) -> 56 | AT9: =NYY_H304[[#This Row],[OBP]]+NYY_H304[[#This Row],[SLG]] -> 0.8638796 | AU9: 1 | AV9: 6 | AY9: NYY | AZ9: LF | BA9: H. Matsui | BB9: =IFERROR(NYY_H217[[#This Row],[H]]/NYY_H217[[#This Row],[AB]],0) -> 0.32352941 | BC9: =IFERROR((NYY_H217[[#This Row],[BB]]+NYY_H217[[#This Row],[H]])/(NYY_H217[[#This Row],[AB]]+NYY_H217[[#This Row],[BB]]),0) -> 0.38392857 | BD9: =IFERROR(((NYY_H217[[#This Row],[H]]-NYY_H217[[#This Row],[2B]]-NYY_H217[[#This Row],[3B]]-NYY_H217[[#This Row],[HR]])+(NYY_H217[[#This Row],[2B]]*2)+(NYY_H217[[#This Row],[3B]]*3)+(NYY_H217[[#This Row],[HR]]*4))/NYY_H217[[#This Row],[AB]],0) -> 0.50980392 | BE9: 34 | BF9: 102 | BG9: 15 | BH9: 33 | BI9: 7 | BJ9: =0 -> 0 | BK9: 4 | BL9: 16 | BM9: 10 | BN9: 17 | BO9: 0 | BP9: 3 | BQ9: 9 | BR9: =IFERROR((BH9-BI9-BJ9-BK9)+(BI9*2)+(BJ9*3)+(BK9*4),0) -> 52 | BS9: =IFERROR(NYY_H217[[#This Row],[OBP]]+NYY_H217[[#This Row],[SLG]],0) -> 0.89373249 | BT9: 1 | BU9: 6
A10: NYY | B10: CF | C10: B. Gardner | D10: =IFERROR((NYY_H[[#This Row],[H]]/NYY_H[[#This Row],[AB]]),0) -> 0.20353982 | E10: =IFERROR((NYY_H[[#This Row],[H]]+NYY_H[[#This Row],[BB]])/(NYY_H[[#This Row],[AB]]+NYY_H[[#This Row],[BB]]),) -> 0.29133858 | F10: =IFERROR(((NYY_H[[#This Row],[H]]-NYY_H[[#This Row],[2B]]-NYY_H[[#This Row],[3B]]-NYY_H[[#This Row],[HR]])+(NYY_H[[#This Row],[2B]]*2)+(NYY_H[[#This Row],[3B]]*3)+(NYY_H[[#This Row],[HR]]*4))/NYY_H[[#This Row],[AB]],0) -> 0.38053097 | G10: 34 | H10: 113 | I10: 13 | J10: 23 | K10: 6 | L10: 1 | M10: 4 | N10: 12 | O10: 14 | P10: 39 | Q10: 4 | R10: 0 | S10: 6 | T10: =IFERROR((NYY_H[[#This Row],[H]]-NYY_H[[#This Row],[2B]]-NYY_H[[#This Row],[3B]]-NYY_H[[#This Row],[HR]])+(NYY_H[[#This Row],[2B]]*2)+(NYY_H[[#This Row],[3B]]*3)+(NYY_H[[#This Row],[HR]]*4),0) -> 43 | U10: =NYY_H[[#This Row],[OBP]]+NYY_H[[#This Row],[SLG]] -> 0.67186956 | V10: 1 | W10: 7 | Z10: NYY | AA10: CF | AB10: A. Hicks | AC10: =IFERROR((NYY_H304[[#This Row],[H]]/NYY_H304[[#This Row],[AB]]),0) -> 0.22641509 | AD10: =IFERROR((NYY_H304[[#This Row],[H]]+NYY_H304[[#This Row],[BB]])/(NYY_H304[[#This Row],[AB]]+NYY_H304[[#This Row],[BB]]),) -> 0.28070175 | AE10: =IFERROR(((NYY_H304[[#This Row],[H]]-NYY_H304[[#This Row],[2B]]-NYY_H304[[#This Row],[3B]]-NYY_H304[[#This Row],[HR]])+(NYY_H304[[#This Row],[2B]]*2)+(NYY_H304[[#This Row],[3B]]*3)+(NYY_H304[[#This Row],[HR]]*4))/NYY_H304[[#This Row],[AB]],0) -> 0.45283019 | AF10: 16 | AG10: 53 | AH10: 10 | AI10: 12 | AJ10: 1 | AK10: 1 | AL10: 3 | AM10: 4 | AN10: 4 | AO10: 20 | AP10: 0 | AQ10: 2 | AR10: 2 | AS10: =IFERROR((NYY_H304[[#This Row],[H]]-NYY_H304[[#This Row],[2B]]-NYY_H304[[#This Row],[3B]]-NYY_H304[[#This Row],[HR]])+(NYY_H304[[#This Row],[2B]]*2)+(NYY_H304[[#This Row],[3B]]*3)+(NYY_H304[[#This Row],[HR]]*4),0) -> 24 | AT10: =NYY_H304[[#This Row],[OBP]]+NYY_H304[[#This Row],[SLG]] -> 0.73353194 | AU10: 0 | AV10: 7 | AY10: NYY | AZ10: CF | BA10: A. Hicks | BB10: =IFERROR(NYY_H217[[#This Row],[H]]/NYY_H217[[#This Row],[AB]],0) -> 0.25974026 | BC10: =IFERROR((NYY_H217[[#This Row],[BB]]+NYY_H217[[#This Row],[H]])/(NYY_H217[[#This Row],[AB]]+NYY_H217[[#This Row],[BB]]),0) -> 0.32941176 | BD10: =IFERROR(((NYY_H217[[#This Row],[H]]-NYY_H217[[#This Row],[2B]]-NYY_H217[[#This Row],[3B]]-NYY_H217[[#This Row],[HR]])+(NYY_H217[[#This Row],[2B]]*2)+(NYY_H217[[#This Row],[3B]]*3)+(NYY_H217[[#This Row],[HR]]*4))/NYY_H217[[#This Row],[AB]],0) -> 0.4025974 | BE10: 32 | BF10: 77 | BG10: 11 | BH10: 20 | BI10: 2 | BJ10: =0 -> 0 | BK10: 3 | BL10: 10 | BM10: 8 | BN10: 21 | BO10: 0 | BP10: 2 | BQ10: 3 | BR10: =IFERROR((BH10-BI10-BJ10-BK10)+(BI10*2)+(BJ10*3)+(BK10*4),0) -> 31 | BS10: =IFERROR(NYY_H217[[#This Row],[OBP]]+NYY_H217[[#This Row],[SLG]],0) -> 0.73200917 | BT10: 2 | BU10: 7
A11: NYY | B11: RF | C11: A. Judge | D11: =IFERROR((NYY_H[[#This Row],[H]]/NYY_H[[#This Row],[AB]]),0) -> 0.275 | E11: =IFERROR((NYY_H[[#This Row],[H]]+NYY_H[[#This Row],[BB]])/(NYY_H[[#This Row],[AB]]+NYY_H[[#This Row],[BB]]),) -> 0.36612022 | F11: =IFERROR(((NYY_H[[#This Row],[H]]-NYY_H[[#This Row],[2B]]-NYY_H[[#This Row],[3B]]-NYY_H[[#This Row],[HR]])+(NYY_H[[#This Row],[2B]]*2)+(NYY_H[[#This Row],[3B]]*3)+(NYY_H[[#This Row],[HR]]*4))/NYY_H[[#This Row],[AB]],0) -> 0.60625 | G11: 40 | H11: 160 | I11: 31 | J11: 44 | K11: 8 | L11: 0 | M11: 15 | N11: 30 | O11: 23 | P11: 58 | Q11: 0 | R11: 0 | S11: 8 | T11: =IFERROR((NYY_H[[#This Row],[H]]-NYY_H[[#This Row],[2B]]-NYY_H[[#This Row],[3B]]-NYY_H[[#This Row],[HR]])+(NYY_H[[#This Row],[2B]]*2)+(NYY_H[[#This Row],[3B]]*3)+(NYY_H[[#This Row],[HR]]*4),0) -> 97 | U11: =NYY_H[[#This Row],[OBP]]+NYY_H[[#This Row],[SLG]] -> 0.97237022 | V11: 7 | W11: 8 | Z11: NYY | AA11: RF | AB11: A. Judge | AC11: =IFERROR((NYY_H304[[#This Row],[H]]/NYY_H304[[#This Row],[AB]]),0) -> 0.28 | AD11: =IFERROR((NYY_H304[[#This Row],[H]]+NYY_H304[[#This Row],[BB]])/(NYY_H304[[#This Row],[AB]]+NYY_H304[[#This Row],[BB]]),) -> 0.34939759 | AE11: =IFERROR(((NYY_H304[[#This Row],[H]]-NYY_H304[[#This Row],[2B]]-NYY_H304[[#This Row],[3B]]-NYY_H304[[#This Row],[HR]])+(NYY_H304[[#This Row],[2B]]*2)+(NYY_H304[[#This Row],[3B]]*3)+(NYY_H304[[#This Row],[HR]]*4))/NYY_H304[[#This Row],[AB]],0) -> 0.52666667 | AF11: 38 | AG11: 150 | AH11: 20 | AI11: 42 | AJ11: 10 | AK11: 0 | AL11: 9 | AM11: 27 | AN11: 16 | AO11: 55 | AP11: 0 | AQ11: 0 | AR11: 8 | AS11: =IFERROR((NYY_H304[[#This Row],[H]]-NYY_H304[[#This Row],[2B]]-NYY_H304[[#This Row],[3B]]-NYY_H304[[#This Row],[HR]])+(NYY_H304[[#This Row],[2B]]*2)+(NYY_H304[[#This Row],[3B]]*3)+(NYY_H304[[#This Row],[HR]]*4),0) -> 79 | AT11: =NYY_H304[[#This Row],[OBP]]+NYY_H304[[#This Row],[SLG]] -> 0.87606426 | AU11: 3 | AV11: 8 | AY11: NYY | AZ11: RF | BA11: A. Judge | BB11: =IFERROR(NYY_H217[[#This Row],[H]]/NYY_H217[[#This Row],[AB]],0) -> 0.20121951 | BC11: =IFERROR((NYY_H217[[#This Row],[BB]]+NYY_H217[[#This Row],[H]])/(NYY_H217[[#This Row],[AB]]+NYY_H217[[#This Row],[BB]]),0) -> 0.29569892 | BD11: =IFERROR(((NYY_H217[[#This Row],[H]]-NYY_H217[[#This Row],[2B]]-NYY_H217[[#This Row],[3B]]-NYY_H217[[#This Row],[HR]])+(NYY_H217[[#This Row],[2B]]*2)+(NYY_H217[[#This Row],[3B]]*3)+(NYY_H217[[#This Row],[HR]]*4))/NYY_H217[[#This Row],[AB]],0) -> 0.40243902 | BE11: 40 | BF11: 164 | BG11: 23 | BH11: 33 | BI11: 6 | BJ11: =0 -> 0 | BK11: 9 | BL11: 26 | BM11: 22 | BN11: 62 | BO11: 0 | BP11: 5 | BQ11: 5 | BR11: =IFERROR((BH11-BI11-BJ11-BK11)+(BI11*2)+(BJ11*3)+(BK11*4),0) -> 66 | BS11: =IFERROR(NYY_H217[[#This Row],[OBP]]+NYY_H217[[#This Row],[SLG]],0) -> 0.69813795 | BT11: 4 | BU11: 8
A12: NYY | B12: DH | C12: H. Matsui | D12: =IFERROR((NYY_H[[#This Row],[H]]/NYY_H[[#This Row],[AB]]),0) -> 0.33566434 | E12: =IFERROR((NYY_H[[#This Row],[H]]+NYY_H[[#This Row],[BB]])/(NYY_H[[#This Row],[AB]]+NYY_H[[#This Row],[BB]]),) -> 0.38709677 | F12: =IFERROR(((NYY_H[[#This Row],[H]]-NYY_H[[#This Row],[2B]]-NYY_H[[#This Row],[3B]]-NYY_H[[#This Row],[HR]])+(NYY_H[[#This Row],[2B]]*2)+(NYY_H[[#This Row],[3B]]*3)+(NYY_H[[#This Row],[HR]]*4))/NYY_H[[#This Row],[AB]],0) -> 0.56643357 | G12: 36 | H12: 143 | I12: 15 | J12: 48 | K12: 12 | L12: 0 | M12: 7 | N12: 28 | O12: 12 | P12: 35 | Q12: 0 | R12: 1 | S12: 9 | T12: =IFERROR((NYY_H[[#This Row],[H]]-NYY_H[[#This Row],[2B]]-NYY_H[[#This Row],[3B]]-NYY_H[[#This Row],[HR]])+(NYY_H[[#This Row],[2B]]*2)+(NYY_H[[#This Row],[3B]]*3)+(NYY_H[[#This Row],[HR]]*4),0) -> 81 | U12: =NYY_H[[#This Row],[OBP]]+NYY_H[[#This Row],[SLG]] -> 0.95353034 | V12: 2 | W12: 9 | Z12: NYY | AA12: DH | AB12: G. Stanton | AC12: =IFERROR((NYY_H304[[#This Row],[H]]/NYY_H304[[#This Row],[AB]]),0) -> 0.16666667 | AD12: =IFERROR((NYY_H304[[#This Row],[H]]+NYY_H304[[#This Row],[BB]])/(NYY_H304[[#This Row],[AB]]+NYY_H304[[#This Row],[BB]]),) -> 0.23566879 | AE12: =IFERROR(((NYY_H304[[#This Row],[H]]-NYY_H304[[#This Row],[2B]]-NYY_H304[[#This Row],[3B]]-NYY_H304[[#This Row],[HR]])+(NYY_H304[[#This Row],[2B]]*2)+(NYY_H304[[#This Row],[3B]]*3)+(NYY_H304[[#This Row],[HR]]*4))/NYY_H304[[#This Row],[AB]],0) -> 0.31944444 | AF12: 37 | AG12: 144 | AH12: 12 | AI12: 24 | AJ12: 4 | AK12: 0 | AL12: 6 | AM12: 17 | AN12: 13 | AO12: 57 | AP12: 0 | AQ12: 0 | AR12: 6 | AS12: =IFERROR((NYY_H304[[#This Row],[H]]-NYY_H304[[#This Row],[2B]]-NYY_H304[[#This Row],[3B]]-NYY_H304[[#This Row],[HR]])+(NYY_H304[[#This Row],[2B]]*2)+(NYY_H304[[#This Row],[3B]]*3)+(NYY_H304[[#This Row],[HR]]*4),0) -> 46 | AT12: =NYY_H304[[#This Row],[OBP]]+NYY_H304[[#This Row],[SLG]] -> 0.55511323 | AU12: 2 | AV12: 9 | AY12: NYY | AZ12: DH | BA12: G. Stanton | BB12: =IFERROR(NYY_H217[[#This Row],[H]]/NYY_H217[[#This Row],[AB]],0) -> 0.29655172 | BC12: =IFERROR((NYY_H217[[#This Row],[BB]]+NYY_H217[[#This Row],[H]])/(NYY_H217[[#This Row],[AB]]+NYY_H217[[#This Row],[BB]]),0) -> 0.38554217 | BD12: =IFERROR(((NYY_H217[[#This Row],[H]]-NYY_H217[[#This Row],[2B]]-NYY_H217[[#This Row],[3B]]-NYY_H217[[#This Row],[HR]])+(NYY_H217[[#This Row],[2B]]*2)+(NYY_H217[[#This Row],[3B]]*3)+(NYY_H217[[#This Row],[HR]]*4))/NYY_H217[[#This Row],[AB]],0) -> 0.68275862 | BE12: 39 | BF12: 145 | BG12: 37 | BH12: 43 | BI12: 5 | BJ12: =0 -> 0 | BK12: 17 | BL12: 36 | BM12: 21 | BN12: 42 | BO12: 0 | BP12: 1 | BQ12: 16 | BR12: =IFERROR((BH12-BI12-BJ12-BK12)+(BI12*2)+(BJ12*3)+(BK12*4),0) -> 99 | BS12: =IFERROR(NYY_H217[[#This Row],[OBP]]+NYY_H217[[#This Row],[SLG]],0) -> 1.0683008 | BT12: 5 | BU12: 9
A13: NYY | B13: C | C13: G. Sanchez | D13: =IFERROR((NYY_H[[#This Row],[H]]/NYY_H[[#This Row],[AB]]),0) -> 0.16 | E13: =IFERROR((NYY_H[[#This Row],[H]]+NYY_H[[#This Row],[BB]])/(NYY_H[[#This Row],[AB]]+NYY_H[[#This Row],[BB]]),) -> 0.19230769 | F13: =IFERROR(((NYY_H[[#This Row],[H]]-NYY_H[[#This Row],[2B]]-NYY_H[[#This Row],[3B]]-NYY_H[[#This Row],[HR]])+(NYY_H[[#This Row],[2B]]*2)+(NYY_H[[#This Row],[3B]]*3)+(NYY_H[[#This Row],[HR]]*4))/NYY_H[[#This Row],[AB]],0) -> 0.16 | G13: 9 | H13: 25 | I13: 0 | J13: 4 | K13: 0 | L13: 0 | M13: 0 | N13: 1 | O13: 1 | P13: 5 | Q13: 0 | R13: 2 | S13: 2 | T13: =IFERROR((NYY_H[[#This Row],[H]]-NYY_H[[#This Row],[2B]]-NYY_H[[#This Row],[3B]]-NYY_H[[#This Row],[HR]])+(NYY_H[[#This Row],[2B]]*2)+(NYY_H[[#This Row],[3B]]*3)+(NYY_H[[#This Row],[HR]]*4),0) -> 4 | U13: =NYY_H[[#This Row],[OBP]]+NYY_H[[#This Row],[SLG]] -> 0.35230769 | V13: 0 | W13: 10 | Z13: NYY | AA13: C | AB13: G. Sanchez | AC13: =IFERROR((NYY_H304[[#This Row],[H]]/NYY_H304[[#This Row],[AB]]),0) -> 0.24 | AD13: =IFERROR((NYY_H304[[#This Row],[H]]+NYY_H304[[#This Row],[BB]])/(NYY_H304[[#This Row],[AB]]+NYY_H304[[#This Row],[BB]]),) -> 0.26923077 | AE13: =IFERROR(((NYY_H304[[#This Row],[H]]-NYY_H304[[#This Row],[2B]]-NYY_H304[[#This Row],[3B]]-NYY_H304[[#This Row],[HR]])+(NYY_H304[[#This Row],[2B]]*2)+(NYY_H304[[#This Row],[3B]]*3)+(NYY_H304[[#This Row],[HR]]*4))/NYY_H304[[#This Row],[AB]],0) -> 0.52 | AF13: 8 | AG13: 25 | AH13: 3 | AI13: 6 | AJ13: 1 | AK13: 0 | AL13: 2 | AM13: 3 | AN13: 1 | AO13: 7 | AP13: 0 | AQ13: 2 | AR13: 3 | AS13: =IFERROR((NYY_H304[[#This Row],[H]]-NYY_H304[[#This Row],[2B]]-NYY_H304[[#This Row],[3B]]-NYY_H304[[#This Row],[HR]])+(NYY_H304[[#This Row],[2B]]*2)+(NYY_H304[[#This Row],[3B]]*3)+(NYY_H304[[#This Row],[HR]]*4),0) -> 13 | AT13: =NYY_H304[[#This Row],[OBP]]+NYY_H304[[#This Row],[SLG]] -> 0.78923077 | AU13: 0 | AV13: 10 | AY13: NYY | AZ13: C | BA13: G. Sanchez | BB13: =IFERROR(NYY_H217[[#This Row],[H]]/NYY_H217[[#This Row],[AB]],0) -> 0.17241379 | BC13: =IFERROR((NYY_H217[[#This Row],[BB]]+NYY_H217[[#This Row],[H]])/(NYY_H217[[#This Row],[AB]]+NYY_H217[[#This Row],[BB]]),0) -> 0.23809524 | BD13: =IFERROR(((NYY_H217[[#This Row],[H]]-NYY_H217[[#This Row],[2B]]-NYY_H217[[#This Row],[3B]]-NYY_H217[[#This Row],[HR]])+(NYY_H217[[#This Row],[2B]]*2)+(NYY_H217[[#This Row],[3B]]*3)+(NYY_H217[[#This Row],[HR]]*4))/NYY_H217[[#This Row],[AB]],0) -> 0.36206897 | BE13: 21 | BF13: 58 | BG13: 9 | BH13: 10 | BI13: 2 | BJ13: =0 -> 0 | BK13: 3 | BL13: 7 | BM13: 5 | BN13: 15 | BO13: 0 | BP13: 1 | BQ13: 3 | BR13: =IFERROR((BH13-BI13-BJ13-BK13)+(BI13*2)+(BJ13*3)+(BK13*4),0) -> 21 | BS13: =IFERROR(NYY_H217[[#This Row],[OBP]]+NYY_H217[[#This Row],[SLG]],0) -> 0.6001642 | BT13: 2 | BU13: 10
