Workbook

Sheet STANDINGS 2024
B1: AMERICAN LEAGUE 2024 | M1: NATIONAL LEAGUE 2024 | X1: AMERICAN LEAGUE 2023 | AI1: NATIONAL LEAGUE 2023 | AT1: AMERICAN LEAGUE 2022 | BE1: NATIONAL LEAGUE 2022
B2: AMERICAN LEAGUE EAST | M2: NATIONAL LEAGUE EAST | X2: AMERICAN LEAGUE EAST | AI2: NATIONAL LEAGUE EAST | AT2: AMERICAN LEAGUE EAST | BE2: NATIONAL LEAGUE EAST
B3: TEAM | C3: WIN | D3: LOSS | E3: GB | F3: R+ | G3: R- | H3: L10 | I3: WS | J3: LS | M3: TEAM | N3: WIN | O3: LOSS | P3: GB | Q3: R+ | R3: R- | S3: L10 | T3: WS | U3: LS | X3: TEAM | Y3: WIN | Z3: LOSS | AA3: GB | AB3: R+ | AC3: R- | AD3: L10 | AE3: WS | AF3: LS | AI3: TEAM | AJ3: WIN | AK3: LOSS | AL3: GB | AM3: R+ | AN3: R- | AO3: L10 | AP3: WS | AQ3: LS | AT3: TEAM | AU3: WIN | AV3: LOSS | AW3: GB | AX3: R+ | AY3: R- | AZ3: L10 | BA3: WS | BB3: LS | BE3: TEAM | BF3: WIN | BG3: LOSS | BH3: GB | BI3: R+ | BJ3: R- | BK3: L10 | BL3: WS | BM3: LS
B4: NEW YORK YANKEES | C4: ='AL EAST 2024'!E31 -> 24 | D4: ='AL EAST 2024'!F31 -> 16 | E4: - | F4: ='AL EAST 2024'!I18 -> 183 | G4: ='AL EAST 2024'!J31 -> 148 | H4: 7-3 | I4: L1 | J4: W6 | M4: NEW YORK METS | N4: ='NL EAST 2024'!E62 -> 30 | O4: ='NL EAST 2024'!F62 -> 10 | P4: - | Q4: ='NL EAST 2024'!I49 -> 195 | R4: ='NL EAST 2024'!J62 -> 129 | S4: 7-3 | T4: W6 | U4: W8 | X4: TORONTO BLUE JAYS | Y4: 29 | Z4: 11 | AA4: - | AB4: 175 | AC4: 119 | AD4: 6-4 | AE4: W1 | AF4: W9 | AI4: ATLANTA BRAVES | AJ4: 25 | AK4: 15 | AL4: - | AM4: 174 | AN4: 147 | AO4: 6-4 | AP4: W1 | AQ4: W2 | AT4: BOSTON RED SOX | AU4: ='AL EAST 2024'!BC62 -> 27 | AV4: ='AL EAST 2024'!BD62 -> 13 | AW4: -- | AX4: ='AL EAST 2024'!BG49 -> 231 | AY4: ='AL EAST 2024'!BH62 -> 184 | AZ4: 6-4 | BA4: L1 | BB4: W4 | BE4: PHILADELPHIA PHILLIES | BF4: 23 | BG4: 17 | BH4: -- | BI4: 185 | BJ4: 127 | BK4: 9-1 | BL4: W8 | BM4: W8
B5: BOSTON RED SOX | C5: ='AL EAST 2024'!E62 -> 23 | D5: ='AL EAST 2024'!F62 -> 17 | E5: 1 | F5: ='AL EAST 2024'!I49 -> 206 | G5: ='AL EAST 2024'!J62 -> 157 | H5: 7-3 | I5: W1 | J5: W8 | M5: ATLANTA BRAVES | N5: ='NL EAST 2024'!E93 -> 24 | O5: ='NL EAST 2024'!F93 -> 16 | P5: 6 | Q5: ='NL EAST 2024'!I80 -> 178 | R5: ='NL EAST 2024'!J93 -> 142 | S5: 6-4 | T5: L2 | U5: W4 | X5: BOSTON RED SOX | Y5: 25 | Z5: 15 | AA5: 4 | AB5: 204 | AC5: 193 | AD5: 7-3 | AE5: L1 | AF5: W11 | AI5: NEW YORK METS | AJ5: 23 | AK5: 17 | AL5: 2 | AM5: 200 | AN5: 153 | AO5: 5-5 | AP5: L2 | AQ5: W5 | AT5: NEW YORK YANKEES | AU5: ='AL EAST 2024'!BC31 -> 23 | AV5: ='AL EAST 2024'!BD31 -> 17 | AW5: 4 | AX5: ='AL EAST 2024'!BG18 -> 202 | AY5: ='AL EAST 2024'!BH31 -> 177 | AZ5: 5-5 | BA5: W1 | BB5: W6 | BE5: NEW YORK METS | BF5: 22 | BG5: 18 | BH5: 1 | BI5: 179 | BJ5: 166 | BK5: 5-5 | BL5: L1 | BM5: W6
B6: BALTIMORE ORIOLES | C6: ='AL EAST 2024'!E124 -> 23 | D6: ='AL EAST 2024'!F124 -> 17 | E6: 1 | F6: ='AL EAST 2024'!I111 -> 190 | G6: ='AL EAST 2024'!J124 -> 167 | H6: 7-3 | I6: W3 | J6: W6 | M6: PHILADELPHIA PHILLIES | N6: ='NL EAST 2024'!E31 -> 23 | O6: ='NL EAST 2024'!F31 -> 17 | P6: 7 | Q6: ='NL EAST 2024'!I18 -> 164 | R6: ='NL EAST 2024'!J31 -> 163 | S6: 7-3 | T6: W4 | U6: L4 | X6: BALTIMORE ORIOLES | Y6: 23 | Z6: 17 | AA6: 6 | AB6: 151 | AC6: 159 | AD6: 5-5 | AE6: L1 | AF6: W5 | AI6: PHILADELPHIA PHILLIES | AJ6: 20 | AK6: 20 | AL6: 5 | AM6: 168 | AN6: 167 | AO6: 5-5 | AP6: L1 | AQ6: W4 | AT6: TORONTO BLUE JAYS | AU6: ='AL EAST 2024'!BC93 -> 19 | AV6: ='AL EAST 2024'!BD93 -> 21 | AW6: 8 | AX6: ='AL EAST 2024'!BG80 -> 198 | AY6: ='AL EAST 2024'!BH93 -> 179 | AZ6: 6-4 | BA6: W3 | BB6: W4 | BE6: ATLANTA BRAVES | BF6: 21 | BG6: 19 | BH6: 2 | BI6: 165 | BJ6: 174 | BK6: 3-7 | BL6: W1 | BM6: W6
B7: TORONTO BLUE JAYS | C7: ='AL EAST 2024'!E93 -> 16 | D7: ='AL EAST 2024'!F93 -> 24 | E7: 8 | F7: ='AL EAST 2024'!I80 -> 149 | G7: ='AL EAST 2024'!J93 -> 194 | H7: 1-9 | I7: W1 | J7: L9 | M7: MIAMI MARLINS | N7: ='NL EAST 2024'!E155 -> 17 | O7: ='NL EAST 2024'!F155 -> 23 | P7: 13 | Q7: ='NL EAST 2024'!I142 -> 153 | R7: ='NL EAST 2024'!J155 -> 150 | S7: 4-6 | T7: W2 | U7: L5 | X7: NEW YORK YANKEES | Y7: 21 | Z7: 19 | AA7: 8 | AB7: 170 | AC7: 146 | AD7: 4-6 | AE7: W1 | AF7: L4 | AI7: WASHINGTON NATIONALS | AJ7: 18 | AK7: 22 | AL7: 8 | AM7: 137 | AN7: 150 | AO7: 6-4 | AP7: W2 | AQ7: L4 | AT7: TAMPA BAY RAYS | AU7: ='AL EAST 2024'!BC155 -> 17 | AV7: ='AL EAST 2024'!BD155 -> 23 | AW7: 10 | AX7: ='AL EAST 2024'!BG142 -> 183 | AY7: ='AL EAST 2024'!BH155 -> 184 | AZ7: 3-7 | BA7: W1 | BB7: L6 | BE7: WASHINGTON NATIONALS | BF7: 20 | BG7: 20 | BH7: 3 | BI7: 144 | BJ7: 161 | BK7: 5-5 | BL7: L3 | BM7: L3
B8: TAMPA BAY RAYS | C8: ='AL EAST 2024'!E155 -> 15 | D8: ='AL EAST 2024'!F155 -> 25 | E8: 9 | F8: ='AL EAST 2024'!I142 -> 170 | G8: ='AL EAST 2024'!J155 -> 190 | H8: 3-7 | I8: L2 | J8: W4 | M8: WASHINGTON NATIONALS | N8: ='NL EAST 2024'!E124 -> 13 | O8: ='NL EAST 2024'!F124 -> 27 | P8: 17 | Q8: ='NL EAST 2024'!I111 -> 126 | R8: ='NL EAST 2024'!J124 -> 176 | S8: 0-10 | T8: L10 | U8: L10 | X8: TAMPA BAY RAYS | Y8: 21 | Z8: 19 | AA8: 8 | AB8: 169 | AC8: 137 | AD8: 5-5 | AE8: L1 | AF8: W5 | AI8: MIAMI MARLINS | AJ8: 17 | AK8: 23 | AL8: 8 | AM8: 129 | AN8: 169 | AO8: 6-4 | AP8: W3 | AQ8: L6 | AT8: BALTIMORE ORIOLES | AU8: ='AL EAST 2024'!BC124 -> 14 | AV8: ='AL EAST 2024'!BD124 -> 26 | AW8: 13 | AX8: ='AL EAST 2024'!BG111 -> 145 | AY8: ='AL EAST 2024'!BH124 -> 208 | AZ8: 5-5 | BA8: L2 | BB8: L12 | BE8: MIAMI MARLINS | BF8: 17 | BG8: 23 | BH8: 6 | BI8: 136 | BJ8: 167 | BK8: 3-7 | BL8: L3 | BM8: L4
B11: AMERICAN LEAGUE CENTRAL | M11: NATIONAL LEAGUE CENTRAL | X11: AMERICAN LEAGUE CENTRAL | AI11: NATIONAL LEAGUE CENTRAL | AT11: AMERICAN LEAGUE CENTRAL | BE11: NATIONAL LEAGUE CENTRAL
B12: TEAM | C12: WIN | D12: LOSS | E12: GB | F12: R+ | G12: R- | H12: L10 | I12: WS | J12: LS | M12: TEAM | N12: WIN | O12: LOSS | P12: GB | Q12: R+ | R12: R- | S12: L10 | T12: WS | U12: LS | X12: TEAM | Y12: WIN | Z12: LOSS | AA12: GB | AB12: R+ | AC12: R- | AD12: L10 | AE12: WS | AF12: LS | AI12: TEAM | AJ12: WIN | AK12: LOSS | AL12: GB | AM12: R+ | AN12: R- | AO12: L10 | AP12: WS | AQ12: LS | AT12: TEAM | AU12: WIN | AV12: LOSS | AW12: GB | AX12: R+ | AY12: R- | AZ12: L10 | BA12: WS | BB12: LS | BE12: TEAM | BF12: WIN | BG12: LOSS | BH12: GB | BI12: R+ | BJ12: R- | BK12: L10 | BL12: WS | BM12: LS
B13: CLEVELAND GUARDIANS | C13: ='AL CENTRAL 2024'!E31 -> 24 | D13: ='AL CENTRAL 2024'!F31 -> 16 | E13: - | F13: ='AL CENTRAL 2024'!I18 -> 168 | G13: ='AL CENTRAL 2024'!J31 -> 149 | H13: 6-4 | I13: W1 | J13: W7 | M13: ST. LOUIS CARDINALS | N13: ='NL CENTRAL 2024'!E31 -> 19 | O13: ='NL CENTRAL 2024'!F31 -> 21 | P13: - | Q13: ='NL CENTRAL 2024'!I18 -> 157 | R13: ='NL CENTRAL 2024'!J31 -> 164 | S13: 5-5 | T13: L4 | U13: L5 | X13: CLEVELAND GUARDIANS | Y13: 23 | Z13: 17 | AA13: - | AB13: 205 | AC13: 146 | AD13: 4-6 | AE13: W1 | AF13: W5 | AI13: CHICAGO CUBS | AJ13: 25 | AK13: 15 | AL13: - | AM13: 173 | AN13: 135 | AO13: 6-4 | AP13: L1 | AQ13: W7 | AT13: CLEVELAND GUARDIANS | AU13: ='AL CENTRAL 2024'!BC31 -> 22 | AV13: ='AL CENTRAL 2024'!BD31 -> 18 | AW13: -- | AX13: ='AL CENTRAL 2024'!BG18 -> 215 | AY13: ='AL CENTRAL 2024'!BH31 -> 179 | AZ13: 4-6 | BA13: W2 | BB13: W5 | BE13: MILWAUKEE BREWERS | BF13: 22 | BG13: 18 | BH13: -- | BI13: 170 | BJ13: 180 | BK13: 6-4 | BL13: W4 | BM13: W5
B14: KANSAS CITY ROYALS | C14: ='AL CENTRAL 2024'!E124 -> 22 | D14: ='AL CENTRAL 2024'!F124 -> 18 | E14: 2 | F14: ='AL CENTRAL 2024'!I111 -> 165 | G14: ='AL CENTRAL 2024'!J124 -> 175 | H14: 3-7 | I14: W2 | J14: W8 | M14: MILWAUKEE BREWERS | N14: ='NL CENTRAL 2024'!E124 -> 19 | O14: ='NL CENTRAL 2024'!F124 -> 21 | P14: - | Q14: ='NL CENTRAL 2024'!I111 -> 164 | R14: ='NL CENTRAL 2024'!J124 -> 131 | S14: 5-5 | T14: L2 | U14: L4 | X14: MINNESOTA TWINS | Y14: 21 | Z14: 19 | AA14: 2 | AB14: 193 | AC14: 178 | AD14: 5-5 | AE14: L1 | AF14: W3 | AI14: CINCINNATI REDS | AJ14: 22 | AK14: 18 | AL14: 2 | AM14: 180 | AN14: 186 | AO14: 5-5 | AP14: L2 | AQ14: W4 | AT14: CHICAGO WHITE SOX | AU14: ='AL CENTRAL 2024'!BC155 -> 22 | AV14: ='AL CENTRAL 2024'!BD155 -> 18 | AW14: -- | AX14: ='AL CENTRAL 2024'!BG142 -> 167 | AY14: ='AL CENTRAL 2024'!BH155 -> 177 | AZ14: 3-7 | BA14: L3 | BB14: W4 | BE14: ST. LOUIS CARDINALS | BF14: 22 | BG14: 18 | BH14: -- | BI14: 194 | BJ14: 176 | BK14: 4-6 | BL14: W1 | BM14: W7
B15: DETROIT TIGERS | C15: ='AL CENTRAL 2024'!E93 -> 21 | D15: ='AL CENTRAL 2024'!F93 -> 19 | E15: 3 | F15: ='AL CENTRAL 2024'!I80 -> 192 | G15: ='AL CENTRAL 2024'!J93 -> 178 | H15: 7-3 | I15: L1 | J15: L5 | M15: CHICAGO CUBS | N15: ='NL CENTRAL 2024'!E62 -> 18 | O15: ='NL CENTRAL 2024'!F62 -> 22 | P15: 1 | Q15: ='NL CENTRAL 2024'!I49 -> 134 | R15: ='NL CENTRAL 2024'!J62 -> 180 | S15: 5-5 | T15: W3 | U15: L5 | X15: KANSAS CITY ROYALS | Y15: 18 | Z15: 22 | AA15: 5 | AB15: 209 | AC15: 241 | AD15: 6-4 | AE15: W1 | AF15: L4 | AI15: ST. LOUIS CARDINALS | AJ15: 20 | AK15: 20 | AL15: 5 | AM15: 154 | AN15: 166 | AO15: 4-6 | AP15: W1 | AQ15: W7 | AT15: MINNESOTA TWINS | AU15: ='AL CENTRAL 2024'!BC62 -> 21 | AV15: ='AL CENTRAL 2024'!BD62 -> 19 | AW15: 1 | AX15: ='AL CENTRAL 2024'!BG49 -> 223 | AY15: ='AL CENTRAL 2024'!BH62 -> 178 | AZ15: 8-2 | BA15: L2 | BB15: W8 | BE15: CINCINNATI REDS | BF15: 20 | BG15: 20 | BH15: 2 | BI15: 170 | BJ15: 155 | BK15: 5-5 | BL15: L2 | BM15: W3
B16: CHICAGO WHITE SOX | C16: ='AL CENTRAL 2024'!E155 -> 20 | D16: ='AL CENTRAL 2024'!F155 -> 20 | E16: 4 | F16: ='AL CENTRAL 2024'!I142 -> 181 | G16: ='AL CENTRAL 2024'!J155 -> 174 | H16: 3-7 | I16: L3 | J16: W4 | M16: PITTSBURGH PIRATES | N16: ='NL CENTRAL 2024'!E155 -> 18 | O16: ='NL CENTRAL 2024'!F155 -> 22 | P16: 1 | Q16: ='NL CENTRAL 2024'!I142 -> 147 | R16: ='NL CENTRAL 2024'!J155 -> 161 | S16: 6-4 | T16: W2 | U16: L4 | X16: CHICAGO WHITE SOX | Y16: 16 | Z16: 24 | AA16: 7 | AB16: 171 | AC16: 165 | AD16: 5-5 | AE16: W1 | AF16: L9 | AI16: MILWAUKEE BREWERS | AJ16: 18 | AK16: 22 | AL16: 7 | AM16: 162 | AN16: 163 | AO16: 3-7 | AP16: W1 | AQ16: L6 | AT16: KANSAS CITY ROYALS | AU16: ='AL CENTRAL 2024'!BC124 -> 20 | AV16: ='AL CENTRAL 2024'!BD124 -> 20 | AW16: 2 | AX16: ='AL CENTRAL 2024'!BG111 -> 187 | AY16: ='AL CENTRAL 2024'!BH124 -> 187 | AZ16: 6-4 | BA16: W2 | BB16: L5 | BE16: CHICAGO CUBS | BF16: 17 | BG16: 23 | BH16: 5 | BI16: 167 | BJ16: 190 | BK16: 4-6 | BL16: L1 | BM16: L5
B17: MINNESOTA TWINS | C17: ='AL CENTRAL 2024'!E62 -> 18 | D17: ='AL CENTRAL 2024'!F62 -> 22 | E17: 6 | F17: ='AL CENTRAL 2024'!I49 -> 172 | G17: ='AL CENTRAL 2024'!J62 -> 208 | H17: 6-4 | I17: L1 | J17: L12 | M17: CINCINNATI REDS | N17: ='NL CENTRAL 2024'!E93 -> 14 | O17: ='NL CENTRAL 2024'!F93 -> 26 | P17: 5 | Q17: ='NL CENTRAL 2024'!I80 -> 129 | R17: ='NL CENTRAL 2024'!J93 -> 174 | S17: 5-5 | T17: L2 | U17: L9 | X17: DETROIT TIGERS | Y17: 14 | Z17: 26 | AA17: 9 | AB17: 151 | AC17: 229 | AD17: 3-7 | AE17: L1 | AF17: L5 | AI17: PITTSBURGH PIRATES | AJ17: 12 | AK17: 28 | AL17: 13 | AM17: 146 | AN17: 203 | AO17: 4-6 | AP17: L1 | AQ17: L9 | AT17: DETROIT TIGERS | AU17: ='AL CENTRAL 2024'!BC93 -> 12 | AV17: ='AL CENTRAL 2024'!BD93 -> 28 | AW17: 10 | AX17: ='AL CENTRAL 2024'!BG80 -> 161 | AY17: ='AL CENTRAL 2024'!BH93 -> 244 | AZ17: 4-6 | BA17: L1 | BB17: L8 | BE17: PITTSBURGH PIRATES | BF17: 14 | BG17: 26 | BH17: 8 | BI17: 177 | BJ17: 206 | BK17: 6-4 | BL17: W5 | BM17: L6
B20: AMERICAN LEAGUE WEST | M20: NATIONAL LEAGUE WEST | X20: AMERICAN LEAGUE WEST | AI20: NATIONAL LEAGUE WEST | AT20: AMERICAN LEAGUE WEST | BE20: NATIONAL LEAGUE WEST
B21: TEAM | C21: WIN | D21: LOSS | E21: GB | F21: R+ | G21: R- | H21: L10 | I21: WS | J21: LS | M21: TEAM | N21: WIN | O21: LOSS | P21: GB | Q21: R+ | R21: R- | S21: L10 | T21: WS | U21: LS | X21: TEAM | Y21: WIN | Z21: LOSS | AA21: GB | AB21: R+ | AC21: R- | AD21: L10 | AE21: WS | AF21: LS | AI21: TEAM | AJ21: WIN | AK21: LOSS | AL21: GB | AM21: R+ | AN21: R- | AO21: L10 | AP21: WS | AQ21: LS | AT21: TEAM | AU21: WIN | AV21: LOSS | AW21: GB | AX21: R+ | AY21: R- | AZ21: L10 | BA21: WS | BB21: LS | BE21: TEAM | BF21: WIN | BG21: LOSS | BH21: GB | BI21: R+ | BJ21: R- | BK21: L10 | BL21: WS | BM21: LS
B22: HOUSTON ASTROS | C22: =HOU_P[[#Totals],[W]] -> 25 | D22: =HOU_P[[#Totals],[L]] -> 15 | E22: - | F22: =HOU_H[[#Totals],[R]] -> 215 | G22: =HOU_P[[#Totals],[R]] -> 149 | H22: 6-4 | I22: L1 | J22: W3 | M22: LOS ANGELES DODGERS | N22: ='NL WEST 2024'!E62 -> 25 | O22: ='NL WEST 2024'!F62 -> 15 | P22: - | Q22: ='NL WEST 2024'!I49 -> 173 | R22: ='NL WEST 2024'!J62 -> 127 | S22: 7-3 | T22: L1 | U22: W4 | X22: SEATTLE MARINERS | Y22: 22 | Z22: 18 | AA22: - | AB22: 178 | AC22: 161 | AD22: 7-3 | AE22: W2 | AF22: L5 | AI22: SAN FRANCISCO GIANTS | AJ22: 26 | AK22: 14 | AL22: - | AM22: 194 | AN22: 127 | AO22: 5-5 | AP22: W1 | AQ22: W4 | AT22: HOUSTON ASTROS | AU22: ='AL WEST 2024'!BC31 -> 25 | AV22: ='AL WEST 2024'!BD31 -> 15 | AW22: -- | AX22: ='AL WEST 2024'!BG18 -> 177 | AY22: ='AL WEST 2024'!BH31 -> 170 | AZ22: 7-3 | BA22: W2 | BB22: L4 | BE22: SAN FRANCISCO GIANTS | BF22: 27 | BG22: 13 | BH22: -- | BI22: 187 | BJ22: 142 | BK22: 8-2 | BL22: L1 | BM22: W10
B23: SEATTLE MARINERS | C23: ='AL WEST 2024'!E62 -> 24 | D23: ='AL WEST 2024'!F62 -> 16 | E23: 1 | F23: ='AL WEST 2024'!I49 -> 206 | G23: ='AL WEST 2024'!J62 -> 162 | H23: 8-2 | I23: W3 | J23: W6 | M23: SAN DIEGO PADRES | N23: ='NL WEST 2024'!E93 -> 23 | O23: ='NL WEST 2024'!F93 -> 17 | P23: 2 | Q23: ='NL WEST 2024'!I80 -> 148 | R23: ='NL WEST 2024'!J93 -> 140 | S23: 5-5 | T23: W1 | U23: W7 | X23: HOUSTON ASTROS | Y23: 20 | Z23: 20 | AA23: 2 | AB23: 175 | AC23: 167 | AD23: 7-3 | AE23: W1 | AF23: W4 | AI23: LOS ANGELES DODGERS | AJ23: 24 | AK23: 16 | AL23: 2 | AM23: 190 | AN23: 131 | AO23: 8-2 | AP23: W4 | AQ23: W4 | AT23: LOS ANGELES ANGELS | AU23: ='AL WEST 2024'!BC124 -> 22 | AV23: ='AL WEST 2024'!BD124 -> 18 | AW23: 3 | AX23: ='AL WEST 2024'!BG111 -> 186 | AY23: ='AL WEST 2024'!BH124 -> 162 | AZ23: 6-4 | BA23: W2 | BB23: W6 | BE23: SAN DIEGO PADRES | BF23: 25 | BG23: 15 | BH23: 2 | BI23: 192 | BJ23: 165 | BK23: 5-5 | BL23: W1 | BM23: W7
B24: LOS ANGELES ANGELS | C24: ='AL WEST 2024'!E124 -> 16 | D24: ='AL WEST 2024'!F124 -> 24 | E24: 9 | F24: ='AL WEST 2024'!I111 -> 178 | G24: ='AL WEST 2024'!J124 -> 231 | H24: 4-6 | I24: W1 | J24: L8 | M24: ARIZONA DIAMONDBACKS | N24: ='NL WEST 2024'!E155 -> 21 | O24: ='NL WEST 2024'!F155 -> 19 | P24: 4 | Q24: ='NL WEST 2024'!I142 -> 220 | R24: ='NL WEST 2024'!J155 -> 166 | S24: 5-5 | T24: L2 | U24: W3 | X24: LOS ANGELES ANGELS | Y24: 19 | Z24: 21 | AA24: 3 | AB24: 159 | AC24: 185 | AD24: 5-5 | AE24: L1 | AF24: W5 | AI24: SAN DIEGO PADRES | AJ24: 21 | AK24: 19 | AL24: 5 | AM24: 140 | AN24: 153 | AO24: 7-3 | AP24: L2 | AQ24: W4 | AT24: SEATTLE MARINERS | AU24: ='AL WEST 2024'!BC62 -> 20 | AV24: ='AL WEST 2024'!BD62 -> 20 | AW24: 5 | AX24: ='AL WEST 2024'!BG49 -> 154 | AY24: ='AL WEST 2024'!BH62 -> 152 | AZ24: 4-6 | BA24: L1 | BB24: W7 | BE24: LOS ANGELES DODGERS | BF24: 21 | BG24: 19 | BH24: 6 | BI24: 142 | BJ24: 143 | BK24: 7-3 | BL24: W1 | BM24: W6
B25: OAKLAND ATHLETICS | C25: ='AL WEST 2024'!E155 -> 16 | D25: ='AL WEST 2024'!F155 -> 24 | E25: 9 | F25: ='AL WEST 2024'!I142 -> 181 | G25: ='AL WEST 2024'!J155 -> 208 | H25: 3-7 | I25: L1 | J25: L6 | M25: SAN FRANCISCO GIANTS | N25: ='NL WEST 2024'!E31 -> 21 | O25: ='NL WEST 2024'!F31 -> 19 | P25: 4 | Q25: ='NL WEST 2024'!I18 -> 151 | R25: ='NL WEST 2024'!J31 -> 162 | S25: 6-4 | T25: W1 | U25: W6 | X25: TEXAS RANGERS | Y25: 15 | Z25: 25 | AA25: 6 | AB25: 161 | AC25: 188 | AD25: 5-5 | AE25: L2 | AF25: L7 | AI25: COLORADO ROCKIES | AJ25: 16 | AK25: 24 | AL25: 10 | AM25: 155 | AN25: 208 | AO25: 2-8 | AP25: L1 | AQ25: W3 | AT25: OAKLAND ATHLETICS | AU25: ='AL WEST 2024'!BC155 -> 19 | AV25: ='AL WEST 2024'!BD155 -> 21 | AW25: 6 | AX25: ='AL WEST 2024'!BG142 -> 181 | AY25: ='AL WEST 2024'!BH155 -> 179 | AZ25: 4-6 | BA25: L2 | BB25: L6 | BE25: COLORADO ROCKIES | BF25: 18 | BG25: 22 | BH25: 9 | BI25: 189 | BJ25: 221 | BK25: 6-4 | BL25: W1 | BM25: L5
B26: TEXAS RANGERS | C26: ='AL WEST 2024'!E93 -> 15 | D26: ='AL WEST 2024'!F93 -> 25 | E26: 10 | F26: ='AL WEST 2024'!I80 -> 161 | G26: ='AL WEST 2024'!J93 -> 206 | H26: 2-8 | I26: L2 | J26: L6 | M26: COLORADO ROCKIES | N26: ='NL WEST 2024'!E124 -> 13 | O26: ='NL WEST 2024'!F124 -> 27 | P26: 12 | Q26: ='NL WEST 2024'!I111 -> 170 | R26: ='NL WEST 2024'!J124 -> 254 | S26: 4-6 | T26: W2 | U26: L6 | X26: OAKLAND ATHLETICS | Y26: 14 | Z26: 26 | AA26: 8 | AB26: 139 | AC26: 193 | AD26: 2-8 | AE26: L6 | AF26: L6 | AI26: ARIZONA DIAMONDBACKS | AJ26: 12 | AK26: 28 | AL26: 15 | AM26: 118 | AN26: 191 | AO26: 4-6 | AP26: W3 | AQ26: L8 | AT26: TEXAS RANGERS | AU26: ='AL WEST 2024'!BC93 -> 13 | AV26: ='AL WEST 2024'!BD93 -> 27 | AW26: 12 | AX26: ='AL WEST 2024'!BG80 -> 146 | AY26: ='AL WEST 2024'!BH93 -> 195 | AZ26: 4-6 | BA26: L3 | BB26: L8 | BE26: ARIZONA DIAMONDBACKS | BF26: 15 | BG26: 25 | BH26: 12 | BI26: 173 | BJ26: 198 | BK26: 2-8 | BL26: W1 | BM26: L8
B29: POWER RANKINGS 2024 | M29: PLAYOFFS 2024 | X29: POWER RANKINGS 2023 | AI29: PLAYOFFS 2023 | AT29: POWER RANKINGS 2022 | BE29: PLAYOFFS 2022
B30: TEAM | C30: WIN | D30: LOSS | E30: GB | F30: R+ | G30: R- | H30: WC | I30: DS | J30: CS | M30: TEAM | N30: WIN | O30: LOSS | P30: GB | Q30: $ | R30: WC | S30: DS | T30: CS | U30: WS | X30: TEAM | Y30: WIN | Z30: LOSS | AA30: GB | AB30: R+ | AC30: R- | AD30: WC | AE30: DS | AF30: CS | AI30: TEAM | AJ30: WIN | AK30: LOSS | AL30: GB | AM30: $ | AN30: WC | AO30: DS | AP30: CS | AQ30: WS | AT30: TEAM | AU30: WIN | AV30: LOSS | AW30: GB | AX30: R+ | AY30: R- | AZ30: WC | BA30: DS | BB30: CS | BE30: TEAM | BF30: WIN | BG30: LOSS | BH30: GB | BI30: $ | BJ30: WC | BK30: DS | BL30: CS | BM30: WS
B31: NEW YORK METS | C31: ='NL EAST 2024'!E62 -> 30 | D31: ='NL EAST 2024'!F62 -> 10 | E31: - | F31: ='NL EAST 2024'!I49 -> 195 | G31: ='NL EAST 2024'!J62 -> 129 | H31: BYE | I31: LOSE | M31: HOUSTON ASTROS | N31: =HOU_P[[#Totals],[W]] -> 25 | O31: =HOU_P[[#Totals],[L]] -> 15 | P31: +2 | Q31: #1 DIV | R31: BYE | S31: WIN | T31: LOSE | X31: TORONTO BLUE JAYS | Y31: 29 | Z31: 11 | AA31: - | AB31: 175 | AC31: 119 | AD31: BYE | AE31: WIN | AF31: *WIN* | AI31: TORONTO BLUE JAYS | AJ31: 29 | AK31: 11 | AL31: +8 | AM31: #1 DIV | AN31: BYE | AO31: WIN | AP31: WIN | AQ31: *WIN* | AT31: BOSTON RED SOX | AU31: =AU4 -> 27 | AV31: =AV4 -> 13 | AW31: -- | AX31: =AX4 -> 231 | AY31: =AY4 -> 184 | AZ31: BYE | BA31: LOSE | BE31: BOSTON RED SOX | BF31: =AU4 -> 27 | BG31: =AV4 -> 13 | BH31: +5 | BI31: #1 DIV | BJ31: BYE | BK31: LOSE
B32: HOUSTON ASTROS | C32: =HOU_P[[#Totals],[W]] -> 25 | D32: =HOU_P[[#Totals],[L]] -> 15 | E32: 5 | F32: =HOU_H[[#Totals],[R]] -> 215 | G32: =HOU_P[[#Totals],[R]] -> 149 | H32: BYE | I32: WIN | J32: LOSE | M32: NEW YORK YANKEES | N32: ='AL EAST 2024'!E31 -> 24 | O32: ='AL EAST 2024'!F31 -> 16 | P32: +1 | Q32: #2 DIV | R32: BYE | S32: WIN | T32: WIN | U32: LOSE | X32: SAN FRANCISCO GIANTS | Y32: 26 | Z32: 14 | AA32: 3 | AB32: 194 | AC32: 127 | AD32: BYE | AE32: WIN | AF32: *WIN* | AI32: BOSTON RED SOX | AJ32: 25 | AK32: 15 | AL32: +4 | AM32: #4 WC | AN32: WIN | AO32: WIN | AP32: LOSE | AT32: SAN FRANCISCO GIANTS | AU32: ='NL WEST 2024'!BC31 -> 27 | AV32: ='NL WEST 2024'!BD31 -> 13 | AW32: -- | AX32: ='NL WEST 2024'!BG18 -> 187 | AY32: ='NL WEST 2024'!BH31 -> 142 | AZ32: BYE | BA32: WIN | BB32: LOSE | BE32: HOUSTON ASTROS | BF32: =AU22 -> 25 | BG32: =AV22 -> 15 | BH32: +3 | BI32: #2 DIV | BJ32: BYE | BK32: WIN | BL32: WIN | BM32: LOSE
B33: LOS ANGELES DODGERS | C33: ='NL WEST 2024'!E62 -> 25 | D33: ='NL WEST 2024'!F62 -> 15 | E33: 5 | F33: ='NL WEST 2024'!I49 -> 173 | G33: ='NL WEST 2024'!J62 -> 127 | H33: BYE | I33: WIN | J33: *WIN* | M33: CLEVELAND GUARDIANS | N33: ='AL CENTRAL 2024'!E31 -> 24 | O33: ='AL CENTRAL 2024'!F31 -> 16 | P33: +1 | Q33: #3 DIV | R33: WIN | S33: LOSE | X33: BOSTON RED SOX | Y33: 25 | Z33: 15 | AA33: 4 | AB33: 204 | AC33: 193 | AD33: WIN | AE33: WIN | AF33: LOSE | AI33: BALTIMORE ORIOLES | AJ33: 23 | AK33: 17 | AL33: +2 | AM33: #5 WC | AN33: LOSE | AT33: HOUSTON ASTROS | AU33: =AU22 -> 25 | AV33: =AV22 -> 15 | AW33: 2 | AX33: =AX22 -> 177 | AY33: =AY22 -> 170 | AZ33: BYE | BA33: WIN | BB33: *WIN* | BE33: NEW YORK YANKEES | BF33: =AU5 -> 23 | BG33: =AV5 -> 17 | BH33: +1 | BI33: #4 WC | BJ33: LOSE
B34: ATLANTA BRAVES | C34: ='NL EAST 2024'!E93 -> 24 | D34: ='NL EAST 2024'!F93 -> 16 | E34: 6 | F34: ='NL EAST 2024'!I80 -> 178 | G34: ='NL EAST 2024'!J93 -> 142 | H34: WIN | I34: WIN | J34: LOSE | M34: SEATTLE MARINERS | N34: ='AL WEST 2024'!E62 -> 24 | O34: ='AL WEST 2024'!F62 -> 16 | P34: +1 | Q34: #4 WC | R34: LOSE | X34: CHICAGO CUBS | Y34: 25 | Z34: 15 | AA34: 4 | AB34: 173 | AC34: 135 | AD34: LOSE | AI34: CLEVELAND GUARDIANS | AJ34: 23 | AK34: 17 | AL34: +2 | AM34: #2 DIV | AN34: BYE | AO34: LOSE | AT34: SAN DIEGO PADRES | AU34: ='NL WEST 2024'!BC93 -> 25 | AV34: ='NL WEST 2024'!BD93 -> 15 | AW34: 2 | AX34: ='NL WEST 2024'!BG80 -> 192 | AY34: ='NL WEST 2024'!BH93 -> 165 | AZ34: LOSE | BE34: CLEVELAND GUARDIANS | BF34: =AU13 -> 22 | BG34: =AV13 -> 18 | BH34: - | BI34: #3 DIV | BJ34: LOSE
B35: NEW YORK YANKEES | C35: ='AL EAST 2024'!E31 -> 24 | D35: ='AL EAST 2024'!F31 -> 16 | E35: 6 | F35: ='AL EAST 2024'!I18 -> 183 | G35: ='AL EAST 2024'!J31 -> 148 | H35: BYE | I35: WIN | J35: *WIN* | M35: BALTIMORE ORIOLES | N35: ='AL EAST 2024'!E124 -> 23 | O35: ='AL EAST 2024'!F124 -> 17 | P35: - | Q35: #5 WC | R35: WIN | S35: LOSE | X35: ATLANTA BRAVES | Y35: 25 | Z35: 15 | AA35: 4 | AB35: 174 | AC35: 147 | AD35: BYE | AE35: LOSE | AI35: SEATTLE MARINERS | AJ35: 22 | AK35: 18 | AL35: +1 | AM35: #3 DIV | AN35: LOSE | AT35: NEW YORK YANKEES | AU35: ='AL EAST 2024'!BC31 -> 23 | AV35: ='AL EAST 2024'!BD31 -> 17 | AW35: 4 | AX35: ='AL EAST 2024'!BG18 -> 202 | AY35: ='AL EAST 2024'!BH31 -> 177 | AZ35: LOSE | BE35: LOS ANGELES ANGELS | BF35: =AU23 -> 22 | BG35: =AV23 -> 18 | BH35: - | BI35: #5 WC | BJ35: WIN | BK35: WIN | BL35: LOSE
B36: CLEVELAND GUARDIANS | C36: ='AL CENTRAL 2024'!E31 -> 24 | D36: ='AL CENTRAL 2024'!F31 -> 16 | E36: 6 | F36: ='AL CENTRAL 2024'!I18 -> 168 | G36: ='AL CENTRAL 2024'!J31 -> 149 | H36: WIN | I36: LOSE | M36: BOSTON RED SOX | N36: ='AL EAST 2024'!E62 -> 23 | O36: ='AL EAST 2024'!F62 -> 17 | P36: - | Q36: #6 WC | R36: LOSE | X36: LOS ANGELES DODGERS | Y36: 24 | Z36: 16 | AA36: 5 | AB36: 190 | AC36: 131 | AD36: WIN | AE36: WIN | AF36: LOSE | AI36: MINNESOTA TWINS | AJ36: 21 | AK36: 19 | AL36: - | AM36: #6 WC | AN36: WIN | AO36: LOSE | AT36: PHILADELPHIA PHILLIES | AU36: ='NL EAST 2024'!BC31 -> 23 | AV36: ='NL EAST 2024'!BD31 -> 17 | AW36: 4 | AX36: ='NL EAST 2024'!BG18 -> 185 | AY36: ='NL EAST 2024'!BH31 -> 127 | AZ36: BYE | BA36: WIN | BB36: *WIN* | BE36: CHICAGO WHITE SOX | BF36: =AU14 -> 22 | BG36: =AV14 -> 18 | BH36: - | BI36: #6 WC | BJ36: WIN | BK36: LOSE
B37: SEATTLE MARINERS | C37: ='AL WEST 2024'!E62 -> 24 | D37: ='AL WEST 2024'!F62 -> 16 | E37: 6 | F37: ='AL WEST 2024'!I49 -> 206 | G37: ='AL WEST 2024'!J62 -> 162 | H37: LOSE | M37: KANSAS CITY ROYALS | N37: ='AL CENTRAL 2024'!E124 -> 22 | O37: ='AL CENTRAL 2024'!F124 -> 18 | P37: -1 | Q37: E | X37: NEW YORK METS | Y37: 23 | Z37: 17 | AA37: 6 | AB37: 200 | AC37: 153 | AD37: LOSE | AI37: NEW YORK YANKEES | AJ37: 21 | AK37: 19 | AL37: 0 | AM37: E | AT37: CHICAGO WHITE SOX | AU37: =AU14 -> 22 | AV37: =AV14 -> 18 | AW37: 5 | AX37: =AX14 -> 167 | AY37: =AY14 -> 177 | AZ37: WIN | BA37: LOSE | BE37: MINNESOTA TWINS | BF37: =AU15 -> 21 | BG37: =AV15 -> 19 | BH37: -1 | BI37: E
B38: BOSTON RED SOX | C38: ='AL EAST 2024'!E62 -> 23 | D38: ='AL EAST 2024'!F62 -> 17 | E38: 7 | F38: ='AL EAST 2024'!I49 -> 206 | G38: ='AL EAST 2024'!J62 -> 157 | H38: LOSE | M38: DETROIT TIGERS | N38: ='AL CENTRAL 2024'!E93 -> 21 | O38: ='AL CENTRAL 2024'!F93 -> 19 | P38: -2 | Q38: E | X38: BALTIMORE ORIOLES | Y38: 23 | Z38: 17 | AA38: 6 | AB38: 151 | AC38: 159 | AD38: LOSE | AI38: TAMPA BAY RAYS | AJ38: 21 | AK38: 19 | AL38: 0 | AM38: E | AT38: NEW YORK METS | AU38: ='NL EAST 2024'!BC62 -> 22 | AV38: ='NL EAST 2024'!BD62 -> 18 | AW38: 5 | AX38: ='NL EAST 2024'!BG49 -> 179 | AY38: ='NL EAST 2024'!BH62 -> 166 | AZ38: LOSE | BE38: KANSAS CITY ROYALS | BF38: =AU16 -> 20 | BG38: =AV16 -> 20 | BH38: -2 | BI38: E
B39: BALTIMORE ORIOLES | C39: ='AL EAST 2024'!E124 -> 23 | D39: ='AL EAST 2024'!F124 -> 17 | E39: 7 | F39: ='AL EAST 2024'!I111 -> 190 | G39: ='AL EAST 2024'!J124 -> 167 | H39: WIN | I39: LOSE | M39: CHICAGO WHITE SOX | N39: ='AL CENTRAL 2024'!E155 -> 20 | O39: ='AL CENTRAL 2024'!F155 -> 20 | P39: -3 | Q39: E | X39: CLEVELAND GUARDIANS | Y39: 23 | Z39: 17 | AA39: 6 | AB39: 205 | AC39: 146 | AD39: BYE | AE39: LOSE | AI39: HOUSTON ASTROS | AJ39: 20 | AK39: 20 | AL39: -1 | AM39: E | AT39: ST. LOUIS CARDINALS | AU39: ='NL CENTRAL 2024'!BC31 -> 22 | AV39: ='NL CENTRAL 2024'!BD31 -> 18 | AW39: 5 | AX39: ='NL CENTRAL 2024'!BG18 -> 194 | AY39: ='NL CENTRAL 2024'!BH31 -> 176 | AZ39: WIN | BA39: LOSE | BE39: SEATTLE MARINERS | BF39: =AU24 -> 20 | BG39: =AV24 -> 20 | BH39: -2 | BI39: E
B40: SAN DIEGO PADRES | C40: ='NL WEST 2024'!E93 -> 23 | D40: ='NL WEST 2024'!F93 -> 17 | E40: 7 | F40: ='NL WEST 2024'!I80 -> 148 | G40: ='NL WEST 2024'!J93 -> 140 | H40: LOSE | M40: MINNESOTA TWINS | N40: ='AL CENTRAL 2024'!E62 -> 18 | O40: ='AL CENTRAL 2024'!F62 -> 22 | P40: -5 | Q40: E | X40: CINCINNATI REDS | Y40: 22 | Z40: 18 | AA40: 7 | AB40: 180 | AC40: 186 | AD40: WIN | AE40: LOSE | AI40: LOS ANGELES ANGELS | AJ40: 19 | AK40: 21 | AL40: -2 | AM40: E | AT40: CLEVELAND GUARDIANS | AU40: =AU13 -> 22 | AV40: =AV13 -> 18 | AW40: 5 | AX40: =AX13 -> 215 | AY40: =AY13 -> 179 | AZ40: LOSE | BE40: OAKLAND ATHLETICS | BF40: =AU25 -> 19 | BG40: =AV25 -> 21 | BH40: -3 | BI40: E
B41: PHILADELPHIA PHILLIES | C41: ='NL EAST 2024'!E31 -> 23 | D41: ='NL EAST 2024'!F31 -> 17 | E41: 7 | F41: ='NL EAST 2024'!I18 -> 164 | G41: ='NL EAST 2024'!J31 -> 163 | H41: WIN | I41: LOSE | M41: TORONTO BLUE JAYS | N41: ='AL EAST 2024'!E93 -> 16 | O41: ='AL EAST 2024'!F93 -> 24 | P41: -7 | Q41: E | X41: SEATTLE MARINERS | Y41: 22 | Z41: 18 | AA41: 7 | AB41: 178 | AC41: 161 | AD41: LOSE | AI41: KANSAS CITY ROYALS | AJ41: 18 | AK41: 22 | AL41: -3 | AM41: E | AT41: LOS ANGELES ANGELS | AU41: =AU23 -> 22 | AV41: =AV23 -> 18 | AW41: 5 | AX41: =AX23 -> 186 | AY41: =AY23 -> 162 | AZ41: WIN | BA41: WIN | BB41: LOSE | BE41: TORONTO BLUE JAYS | BF41: =AU7 -> 17 | BG41: =AV7 -> 23 | BH41: -3 | BI41: E
B42: KANSAS CITY ROYALS | C42: ='AL CENTRAL 2024'!E124 -> 22 | D42: ='AL CENTRAL 2024'!F124 -> 18 | E42: 8 | F42: ='AL CENTRAL 2024'!I111 -> 165 | G42: ='AL CENTRAL 2024'!J124 -> 175 | M42: LOS ANGELES ANGELS | N42: ='AL WEST 2024'!E124 -> 16 | O42: ='AL WEST 2024'!F124 -> 24 | P42: -7 | Q42: E | X42: MINNESOTA TWINS | Y42: 21 | Z42: 19 | AA42: 8 | AB42: 193 | AC42: 178 | AD42: WIN | AE42: LOSE | AI42: CHICAGO WHITE SOX | AJ42: 16 | AK42: 24 | AL42: -5 | AM42: E | AT42: MILWAUKEE BREWERS | AU42: ='NL CENTRAL 2024'!BC124 -> 22 | AV42: ='NL CENTRAL 2024'!BD124 -> 18 | AW42: 5 | AX42: ='NL CENTRAL 2024'!BG111 -> 170 | AY42: ='NL CENTRAL 2024'!BH124 -> 180 | AZ42: WIN | BA42: LOSE | BE42: TAMPA BAY RAYS | BF42: =AU7 -> 17 | BG42: =AV7 -> 23 | BH42: -5 | BI42: E
B43: ARIZONA DIAMONDBACKS | C43: ='NL WEST 2024'!E155 -> 21 | D43: ='NL WEST 2024'!F155 -> 19 | E43: 9 | F43: ='NL WEST 2024'!I142 -> 220 | G43: ='NL WEST 2024'!J155 -> 166 | M43: OAKLAND ATHLETICS | N43: ='AL WEST 2024'!E155 -> 16 | O43: ='AL WEST 2024'!F155 -> 24 | P43: -7 | Q43: E | X43: SAN DIEGO PADRES | Y43: 21 | Z43: 19 | AA43: 8 | AB43: 140 | AC43: 153 | AI43: TEXAS RANGERS | AJ43: 15 | AK43: 25 | AL43: -6 | AM43: E | AT43: MINNESOTA TWINS | AU43: =AU15 -> 21 | AV43: =AV15 -> 19 | AW43: 6 | AX43: =AX15 -> 223 | AY43: =AY15 -> 178 | BE43: BALTIMORE ORIOLES | BF43: =AU8 -> 14 | BG43: =AV8 -> 26 | BH43: -8 | BI43: E
B44: DETROIT TIGERS | C44: ='AL CENTRAL 2024'!E93 -> 21 | D44: ='AL CENTRAL 2024'!F93 -> 19 | E44: 9 | F44: ='AL CENTRAL 2024'!I80 -> 192 | G44: ='AL CENTRAL 2024'!J93 -> 178 | M44: TAMPA BAY RAYS | N44: ='AL EAST 2024'!E155 -> 15 | O44: ='AL EAST 2024'!F155 -> 25 | P44: -8 | Q44: E | X44: NEW YORK YANKEES | Y44: 21 | Z44: 19 | AA44: 8 | AB44: 170 | AC44: 146 | AI44: OAKLAND ATHLETICS | AJ44: 14 | AK44: 26 | AL44: -7 | AM44: E | AT44: ATLANTA BRAVES | AU44: ='NL EAST 2024'!BC93 -> 21 | AV44: ='NL EAST 2024'!BD93 -> 19 | AW44: 6 | AX44: ='NL EAST 2024'!BG80 -> 165 | AY44: ='NL EAST 2024'!BH93 -> 174 | BE44: TEXAS RANGERS | BF44: =AU26 -> 13 | BG44: =AV26 -> 27 | BH44: -9 | BI44: E
B45: SAN FRANCISCO GIANTS | C45: ='NL WEST 2024'!E31 -> 21 | D45: ='NL WEST 2024'!F31 -> 19 | E45: 9 | F45: ='NL WEST 2024'!I18 -> 151 | G45: ='NL WEST 2024'!J31 -> 162 | M45: TEXAS RANGERS | N45: ='AL WEST 2024'!E93 -> 15 | O45: ='AL WEST 2024'!F93 -> 25 | P45: -8 | Q45: E | X45: TAMPA BAY RAYS | Y45: 21 | Z45: 19 | AA45: 8 | AB45: 169 | AC45: 137 | AI45: DETROIT TIGERS | AJ45: 14 | AK45: 26 | AL45: -7 | AM45: E | AT45: LOS ANGELES DODGERS | AU45: ='NL WEST 2024'!BC62 -> 21 | AV45: ='NL WEST 2024'!BD62 -> 19 | AW45: 6 | AX45: ='NL WEST 2024'!BG49 -> 142 | AY45: ='NL WEST 2024'!BH62 -> 143 | BE45: DETROIT TIGERS | BF45: =AU17 -> 12 | BG45: =AV17 -> 28 | BH45: -10 | BI45: E
B46: CHICAGO WHITE SOX | C46: ='AL CENTRAL 2024'!E155 -> 20 | D46: ='AL CENTRAL 2024'!F155 -> 20 | E46: 10 | F46: ='AL CENTRAL 2024'!I142 -> 181 | G46: ='AL CENTRAL 2024'!J155 -> 174 | X46: ST. LOUIS CARDINALS | Y46: 20 | Z46: 20 | AA46: 9 | AB46: 154 | AC46: 166 | AT46: CINCINNATI REDS | AU46: ='NL CENTRAL 2024'!BC93 -> 20 | AV46: ='NL CENTRAL 2024'!BD93 -> 20 | AW46: 7 | AX46: ='NL CENTRAL 2024'!BG80 -> 170 | AY46: ='NL CENTRAL 2024'!BH93 -> 155
B47: ST. LOUIS CARDINALS | C47: ='NL CENTRAL 2024'!E31 -> 19 | D47: ='NL CENTRAL 2024'!F31 -> 21 | E47: 11 | F47: ='NL CENTRAL 2024'!I18 -> 157 | G47: ='NL CENTRAL 2024'!J31 -> 164 | H47: LOSE | M47: TEAM | N47: WIN | O47: LOSS | P47: GB | Q47: $ | R47: WC | S47: DS | T47: CS | U47: WS | X47: PHILADELPHIA PHILLIES | Y47: 20 | Z47: 20 | AA47: 9 | AB47: 168 | AC47: 167 | AI47: TEAM | AJ47: WIN | AK47: LOSS | AL47: GB | AM47: $ | AN47: WC | AO47: DS | AP47: CS | AQ47: WS | AT47: WASHINGTON NATIONALS | AU47: ='NL EAST 2024'!BC124 -> 20 | AV47: ='NL EAST 2024'!BD124 -> 20 | AW47: 7 | AX47: ='NL EAST 2024'!BG111 -> 144 | AY47: ='NL EAST 2024'!BH124 -> 161 | BE47: TEAM | BF47: WIN | BG47: LOSS | BH47: GB | BI47: $ | BJ47: WC | BK47: DS | BL47: CS | BM47: WS
B48: MILWAUKEE BREWERS | C48: ='NL CENTRAL 2024'!E124 -> 19 | D48: ='NL CENTRAL 2024'!F124 -> 21 | E48: 11 | F48: ='NL CENTRAL 2024'!I111 -> 164 | G48: ='NL CENTRAL 2024'!J124 -> 131 | M48: NEW YORK METS | N48: ='NL EAST 2024'!E62 -> 30 | O48: ='NL EAST 2024'!F62 -> 10 | P48: +7 | Q48: #1 DIV | R48: BYE | S48: LOSE | X48: HOUSTON ASTROS | Y48: 20 | Z48: 20 | AA48: 9 | AB48: 175 | AC48: 167 | AI48: SAN FRANCISCO GIANTS | AJ48: 26 | AK48: 14 | AL48: +4 | AM48: #1 DIV | AN48: BYE | AO48: WIN | AP48: WIN | AQ48: LOSE | AT48: SEATTLE MARINERS | AU48: =AU24 -> 20 | AV48: =AV24 -> 20 | AW48: 7 | AX48: =AX24 -> 154 | AY48: =AY24 -> 152 | BE48: SAN FRANCISCO GIANTS | BF48: 27 | BG48: 13 | BH48: +5 | BI48: #1 DIV | BJ48: BYE | BK48: WIN | BL48: LOSE
B49: MINNESOTA TWINS | C49: ='AL CENTRAL 2024'!E62 -> 18 | D49: ='AL CENTRAL 2024'!F62 -> 22 | E49: 12 | F49: ='AL CENTRAL 2024'!I49 -> 172 | G49: ='AL CENTRAL 2024'!J62 -> 208 | M49: LOS ANGELES DODGERS | N49: ='NL WEST 2024'!E62 -> 25 | O49: ='NL WEST 2024'!F62 -> 15 | P49: +1 | Q49: #2 DIV | R49: BYE | S49: WIN | T49: WIN | U49: *WIN* | X49: LOS ANGELES ANGELS | Y49: 19 | Z49: 21 | AA49: 10 | AB49: 159 | AC49: 185 | AI49: ATLANTA BRAVES | AJ49: 25 | AK49: 15 | AL49: +3 | AM49: #2 DIV | AN49: BYE | AO49: LOSE | AT49: KANSAS CITY ROYALS | AU49: =AU16 -> 20 | AV49: =AV16 -> 20 | AW49: 7 | AX49: =AX16 -> 187 | AY49: =AY16 -> 187 | BE49: SAN DIEGO PADRES | BF49: 25 | BG49: 15 | BH49: +3 | BI49: #4 WC | BJ49: LOSE
B50: CHICAGO CUBS | C50: ='NL CENTRAL 2024'!E62 -> 18 | D50: ='NL CENTRAL 2024'!F62 -> 22 | E50: 12 | F50: ='NL CENTRAL 2024'!I49 -> 134 | G50: ='NL CENTRAL 2024'!J62 -> 180 | M50: ATLANTA BRAVES | N50: ='NL EAST 2024'!E93 -> 24 | O50: ='NL EAST 2024'!F93 -> 16 | P50: +1 | Q50: #4 WC | R50: WIN | S50: WIN | T50: LOSE | X50: KANSAS CITY ROYALS | Y50: 18 | Z50: 22 | AA50: 11 | AB50: 209 | AC50: 241 | AI50: CHICAGO CUBS | AJ50: 25 | AK50: 15 | AL50: +3 | AM50: #3 DIV | AN50: LOSE | AT50: OAKLAND ATHLETICS | AU50: =AU25 -> 19 | AV50: =AV25 -> 21 | AW50: 8 | AX50: =AX25 -> 181 | AY50: =AY25 -> 179 | BE50: PHILADELPHIA PHILLIES | BF50: 23 | BG50: 17 | BH50: +1 | BI50: #2 DIV | BJ50: BYE | BK50: WIN | BL50: WIN | BM50: *WIN*
B51: PITTSBURGH PIRATES | C51: ='NL CENTRAL 2024'!E155 -> 18 | D51: ='NL CENTRAL 2024'!F155 -> 22 | E51: 12 | F51: ='NL CENTRAL 2024'!I142 -> 147 | G51: ='NL CENTRAL 2024'!J155 -> 161 | M51: SAN DIEGO PADRES | N51: ='NL WEST 2024'!E93 -> 23 | O51: ='NL WEST 2024'!F93 -> 17 | P51: - | Q51: #5 WC | R51: LOSE | X51: MILWAUKEE BREWERS | Y51: 18 | Z51: 22 | AA51: 11 | AB51: 162 | AC51: 163 | AI51: LOS ANGELES DODGERS | AJ51: 24 | AK51: 16 | AL51: +2 | AM51: #4 WC | AN51: WIN | AO51: WIN | AP51: LOSE | AT51: TORONTO BLUE JAYS | AU51: =AU6 -> 19 | AV51: =AV6 -> 21 | AW51: 8 | AX51: =AX6 -> 198 | AY51: =AY6 -> 179 | BE51: MILWAUKEE BREWERS | BF51: 22 | BG51: 18 | BH51: - | BI51: #3 DIV | BJ51: WIN | BK51: LOSE
B52: MIAMI MARLINS | C52: ='NL EAST 2024'!E155 -> 17 | D52: ='NL EAST 2024'!F155 -> 23 | E52: 13 | F52: ='NL EAST 2024'!I142 -> 153 | G52: ='NL EAST 2024'!J155 -> 150 | M52: PHILADELPHIA PHILLIES | N52: ='NL EAST 2024'!E31 -> 23 | O52: ='NL EAST 2024'!F31 -> 17 | P52: - | Q52: #6 WC | R52: WIN | S52: LOSE | X52: WASHINGTON NATIONALS | Y52: 18 | Z52: 22 | AA52: 11 | AB52: 137 | AC52: 150 | AI52: NEW YORK METS | AJ52: 23 | AK52: 17 | AL52: +1 | AM52: #5 WC | AN52: LOSE | AT52: COLORADO ROCKIES | AU52: ='NL WEST 2024'!BC124 -> 18 | AV52: ='NL WEST 2024'!BD124 -> 22 | AW52: 9 | AX52: ='NL WEST 2024'!BG111 -> 189 | AY52: ='NL WEST 2024'!BH124 -> 221 | BE52: ST. LOUIS CARDINALS | BF52: 22 | BG52: 18 | BH52: - | BI52: #5 WC | BJ52: WIN | BK52: LOSE
B53: TORONTO BLUE JAYS | C53: ='AL EAST 2024'!E93 -> 16 | D53: ='AL EAST 2024'!F93 -> 24 | E53: 14 | F53: ='AL EAST 2024'!I80 -> 149 | G53: ='AL EAST 2024'!J93 -> 194 | M53: ARIZONA DIAMONDBACKS | N53: ='NL WEST 2024'!E155 -> 21 | O53: ='NL WEST 2024'!F155 -> 19 | P53: - | Q53: E | X53: MIAMI MARLINS | Y53: 17 | Z53: 23 | AA53: 12 | AB53: 129 | AC53: 169 | AI53: CINCINNATI REDS | AJ53: 22 | AK53: 18 | AL53: - | AM53: #6 WC | AN53: WIN | AO53: LOSE | AT53: MIAMI MARLINS | AU53: ='NL EAST 2024'!BC155 -> 17 | AV53: ='NL EAST 2024'!BD155 -> 23 | AW53: 10 | AX53: ='NL EAST 2024'!BG142 -> 136 | AY53: ='NL EAST 2024'!BH155 -> 167 | BE53: NEW YORK METS | BF53: 22 | BG53: 18 | BH53: - | BI53: #6 WC | BJ53: LOSE
B54: LOS ANGELES ANGELS | C54: ='AL WEST 2024'!E124 -> 16 | D54: ='AL WEST 2024'!F124 -> 24 | E54: 14 | F54: ='AL WEST 2024'!I111 -> 178 | G54: ='AL WEST 2024'!J124 -> 231 | M54: SAN FRANCISCO GIANTS | N54: ='NL WEST 2024'!E31 -> 21 | O54: ='NL WEST 2024'!F31 -> 19 | P54: -1 | Q54: E | X54: COLORADO ROCKIES | Y54: 16 | Z54: 24 | AA54: 13 | AB54: 155 | AC54: 208 | AI54: SAN DIEGO PADRES | AJ54: 21 | AK54: 19 | AL54: -1 | AM54: E | AT54: TAMPA BAY RAYS | AU54: =AU7 -> 17 | AV54: =AV7 -> 23 | AW54: 10 | AX54: =AX7 -> 183 | AY54: =AY7 -> 184 | BE54: LOS ANGELES DODGERS | BF54: 21 | BG54: 19 | BH54: -1 | BI54: E
B55: OAKLAND ATHLETICS | C55: ='AL WEST 2024'!E155 -> 16 | D55: ='AL WEST 2024'!F155 -> 24 | E55: 14 | F55: ='AL WEST 2024'!I142 -> 181 | G55: ='AL WEST 2024'!J155 -> 208 | M55: ST. LOUIS CARDINALS | N55: ='NL CENTRAL 2024'!E31 -> 19 | O55: ='NL CENTRAL 2024'!F31 -> 21 | P55: -2 | Q55: #3 DIV | R55: LOSE | X55: CHICAGO WHITE SOX | Y55: 16 | Z55: 24 | AA55: 13 | AB55: 171 | AC55: 165 | AI55: ST. LOUIS CARDINALS | AJ55: 20 | AK55: 20 | AL55: -2 | AM55: E | AT55: CHICAGO CUBS | AU55: ='NL CENTRAL 2024'!BC62 -> 17 | AV55: ='NL CENTRAL 2024'!BD62 -> 23 | AW55: 10 | AX55: ='NL CENTRAL 2024'!BG49 -> 167 | AY55: ='NL CENTRAL 2024'!BH62 -> 190 | BE55: ATLANTA BRAVES | BF55: 21 | BG55: 19 | BH55: -1 | BI55: E
B56: TEXAS RANGERS | C56: ='AL WEST 2024'!E93 -> 15 | D56: ='AL WEST 2024'!F93 -> 25 | E56: 15 | F56: ='AL WEST 2024'!I80 -> 161 | G56: ='AL WEST 2024'!J93 -> 206 | M56: MILWAUKEE BREWERS | N56: ='NL CENTRAL 2024'!E124 -> 19 | O56: ='NL CENTRAL 2024'!F124 -> 21 | P56: -4 | Q56: E | X56: TEXAS RANGERS | Y56: 15 | Z56: 25 | AA56: 14 | AB56: 161 | AC56: 188 | AI56: PHILADELPHIA PHILLIES | AJ56: 20 | AK56: 20 | AL56: -2 | AM56: E | AT56: ARIZONA DIAMONDBACKS | AU56: ='NL WEST 2024'!BC155 -> 15 | AV56: ='NL WEST 2024'!BD155 -> 25 | AW56: 12 | AX56: ='NL WEST 2024'!BG142 -> 173 | AY56: ='NL WEST 2024'!BH155 -> 198 | BE56: CINCINNATI REDS | BF56: 20 | BG56: 20 | BH56: -2 | BI56: E
B57: TAMPA BAY RAYS | C57: ='AL EAST 2024'!E155 -> 15 | D57: ='AL EAST 2024'!F155 -> 25 | E57: 15 | F57: ='AL EAST 2024'!I142 -> 170 | G57: ='AL EAST 2024'!J155 -> 190 | M57: CHICAGO CUBS | N57: ='NL CENTRAL 2024'!E62 -> 18 | O57: ='NL CENTRAL 2024'!F62 -> 22 | P57: -5 | Q57: E | X57: OAKLAND ATHLETICS | Y57: 14 | Z57: 26 | AA57: 15 | AB57: 139 | AC57: 193 | AI57: MILWAUKEE BREWERS | AJ57: 18 | AK57: 22 | AL57: -4 | AM57: E | AT57: BALTIMORE ORIOLES | AU57: =AU8 -> 14 | AV57: =AV8 -> 26 | AW57: 13 | AX57: =AX8 -> 145 | AY57: =AY8 -> 208 | BE57: WASHINGTON NATIONALS | BF57: 20 | BG57: 20 | BH57: -2 | BI57: E
B58: CINCINNATI REDS | C58: ='NL CENTRAL 2024'!E93 -> 14 | D58: ='NL CENTRAL 2024'!F93 -> 26 | E58: 16 | F58: ='NL CENTRAL 2024'!I80 -> 129 | G58: ='NL CENTRAL 2024'!J93 -> 174 | M58: PITTSBURGH PIRATES | N58: ='NL CENTRAL 2024'!E155 -> 18 | O58: ='NL CENTRAL 2024'!F155 -> 22 | P58: -5 | Q58: E | X58: DETROIT TIGERS | Y58: 14 | Z58: 26 | AA58: 15 | AB58: 151 | AC58: 229 | AI58: WASHINGTON NATIONALS | AJ58: 18 | AK58: 22 | AL58: -4 | AM58: E | AT58: PITTSBURGH PIRATES | AU58: ='NL CENTRAL 2024'!BC155 -> 14 | AV58: ='NL CENTRAL 2024'!BD155 -> 26 | AW58: 13 | AX58: ='NL CENTRAL 2024'!BG142 -> 177 | AY58: ='NL CENTRAL 2024'!BH155 -> 206 | BE58: COLORADO ROCKIES | BF58: 18 | BG58: 22 | BH58: -4 | BI58: E
B59: WASHINGTON NATIONALS | C59: ='NL EAST 2024'!E124 -> 13 | D59: ='NL EAST 2024'!F124 -> 27 | E59: 17 | F59: ='NL EAST 2024'!I111 -> 126 | G59: ='NL EAST 2024'!J124 -> 176 | M59: MIAMI MARLINS | N59: ='NL EAST 2024'!E155 -> 17 | O59: ='NL EAST 2024'!F155 -> 23 | P59: -6 | Q59: E | X59: PITTSBURGH PIRATES | Y59: 12 | Z59: 28 | AA59: 17 | AB59: 146 | AC59: 203 | AI59: MIAMI MARLINS | AJ59: 17 | AK59: 23 | AL59: -5 | AM59: E | AT59: TEXAS RANGERS | AU59: =AU26 -> 13 | AV59: =AV26 -> 27 | AW59: 14 | AX59: =AX26 -> 146 | AY59: =AY26 -> 195 | BE59: MIAMI MARLINS | BF59: 17 | BG59: 23 | BH59: -5 | BI59: E
B60: COLORADO ROCKIES | C60: ='NL WEST 2024'!E124 -> 13 | D60: ='NL WEST 2024'!F124 -> 27 | E60: 17 | F60: ='NL WEST 2024'!I111 -> 170 | G60: ='NL WEST 2024'!J124 -> 254 | M60: CINCINNATI REDS | N60: ='NL CENTRAL 2024'!E93 -> 14 | O60: ='NL CENTRAL 2024'!F93 -> 26 | P60: -7 | Q60: E | X60: ARIZONA DIAMONDBACKS | Y60: 12 | Z60: 28 | AA60: 17 | AB60: 118 | AC60: 191 | AI60: COLORADO ROCKIES | AJ60: 16 | AK60: 24 | AL60: -7 | AM60: E | AT60: DETROIT TIGERS | AU60: =AU17 -> 12 | AV60: =AV17 -> 28 | AW60: 15 | AX60: =AX17 -> 161 | AY60: =AY17 -> 244 | BE60: CHICAGO CUBS | BF60: 17 | BG60: 23 | BH60: -5 | BI60: E
M61: WASHINGTON NATIONALS | N61: ='NL EAST 2024'!E124 -> 13 | O61: ='NL EAST 2024'!F124 -> 27 | P61: -10 | Q61: E | AI61: PITTSBURGH PIRATES | AJ61: 12 | AK61: 28 | AL61: -10 | AM61: E | BE61: ARIZONA DIAMONDBACKS | BF61: 15 | BG61: 25 | BH61: -7 | BI61: E
M62: COLORADO ROCKIES | N62: ='NL WEST 2024'!E124 -> 13 | O62: ='NL WEST 2024'!F124 -> 27 | P62: -12 | Q62: E | AI62: ARIZONA DIAMONDBACKS | AJ62: 12 | AK62: 28 | AL62: -10 | AM62: E | BE62: PITTSBURGH PIRATES | BF62: 14 | BG62: 26 | BH62: -8 | BI62: E

Sheet AL EAST 2024
A1: AMERICAN LEAGUE EAST 2024 | Z1: AMERICAN LEAGUE EAST 2023 | AY1: AMERICAN LEAGUE EAST 2022
A2: NEW YORK YANKEES 24-16 *1st* | Z2: NEW YORK YANKEES 21-19 5th | AY2: NEW YORK YANKEES 23-17 2nd
A3: TM | B3: @ | C3: NAME | D3: BA | E3: OBP | F3: SLG | G3: G | H3: AB | I3: R | J3: H | K3: 2B | L3: 3B | M3: HR | N3: RBI | O3: BB | P3: K | Q3: SB | R3: HS | S3: LS | T3: TB | U3: OPS | V3: * | W3: # | Z3: TM | AA3: @ | AB3: NAME | AC3: BA | AD3: OBP | AE3: SLG | AF3: G | AG3: AB | AH3: R | AI3: H | AJ3: 2B | AK3: 3B | AL3: HR | AM3: RBI | AN3: BB | AO3: K | AP3: SB | AQ3: HS | AR3: LS | AS3: TB | AT3: OPS | AU3: * | AV3: # | AY3: TM | AZ3: @ | BA3: NAME | BB3: BA | BC3: OBP | BD3: SLG | BE3: G | BF3: AB | BG3: R | BH3: H | BI3: 2B | BJ3: 3B | BK3: HR | BL3: RBI | BM3: BB | BN3: K | BO3: SB | BP3: HS | BQ3: LS | BR3: TB | BS3: OPS | BT3: * | BU3: #
A4: NYY | B4: C | C4: J. Posada | D4: =IFERROR((NYY_H[[#This Row],[H]]/NYY_H[[#This Row],[AB]]),0) -> 0.28455285 | E4: =IFERROR((NYY_H[[#This Row],[H]]+NYY_H[[#This Row],[BB]])/(NYY_H[[#This Row],[AB]]+NYY_H[[#This Row],[BB]]),) -> 0.36231884 | F4: =IFERROR(((NYY_H[[#This Row],[H]]-NYY_H[[#This Row],[2B]]-NYY_H[[#This Row],[3B]]-NYY_H[[#This Row],[HR]])+(NYY_H[[#This Row],[2B]]*2)+(NYY_H[[#This Row],[3B]]*3)+(NYY_H[[#This Row],[HR]]*4))/NYY_H[[#This Row],[AB]],0) -> 0.4796748 | G4: 36 | H4: 123 | I4: 14 | J4: 35 | K4: 9 | L4: 0 | M4: 5 | N4: 18 | O4: 15 | P4: 39 | Q4: 0 | R4: 0 | S4: 6 | T4: =IFERROR((NYY_H[[#This Row],[H]]-NYY_H[[#This Row],[2B]]-NYY_H[[#This Row],[3B]]-NYY_H[[#This Row],[HR]])+(NYY_H[[#This Row],[2B]]*2)+(NYY_H[[#This Row],[3B]]*3)+(NYY_H[[#This Row],[HR]]*4),0) -> 59 | U4: =NYY_H[[#This Row],[OBP]]+NYY_H[[#This Row],[SLG]] -> 0.84199364 | V4: 4 | W4: 1 | Z4: NYY | AA4: C | AB4: J. Posada | AC4: =IFERROR((NYY_H304[[#This Row],[H]]/NYY_H304[[#This Row],[AB]]),0) -> 0.21929825 | AD4: =IFERROR((NYY_H304[[#This Row],[H]]+NYY_H304[[#This Row],[BB]])/(NYY_H304[[#This Row],[AB]]+NYY_H304[[#This Row],[BB]]),) -> 0.27642276 | AE4: =IFERROR(((NYY_H304[[#This Row],[H]]-NYY_H304[[#This Row],[2B]]-NYY_H304[[#This Row],[3B]]-NYY_H304[[#This Row],[HR]])+(NYY_H304[[#This Row],[2B]]*2)+(NYY_H304[[#This Row],[3B]]*3)+(NYY_H304[[#This Row],[HR]]*4))/NYY_H304[[#This Row],[AB]],0) -> 0.35087719 | AF4: 33 | AG4: 114 | AH4: 10 | AI4: 25 | AJ4: 6 | AK4: 0 | AL4: 3 | AM4: 13 | AN4: 9 | AO4: 29 | AP4: 0 | AQ4: 1 | AR4: 4 | AS4: =IFERROR((NYY_H304[[#This Row],[H]]-NYY_H304[[#This Row],[2B]]-NYY_H304[[#This Row],[3B]]-NYY_H304[[#This Row],[HR]])+(NYY_H304[[#This Row],[2B]]*2)+(NYY_H304[[#This Row],[3B]]*3)+(NYY_H304[[#This Row],[HR]]*4),0) -> 40 | AT4: =NYY_H304[[#This Row],[OBP]]+NYY_H304[[#This Row],[SLG]] -> 0.62729996 | AU4: 2 | AV4: 1 | AY4: NYY | AZ4: C | BA4: J. Posada | BB4: =IFERROR(NYY_H217[[#This Row],[H]]/NYY_H217[[#This Row],[AB]],0) -> 0.22619048 | BC4: =IFERROR((NYY_H217[[#This Row],[BB]]+NYY_H217[[#This Row],[H]])/(NYY_H217[[#This Row],[AB]]+NYY_H217[[#This Row],[BB]]),0) -> 0.33673469 | BD4: =IFERROR(((NYY_H217[[#This Row],[H]]-NYY_H217[[#This Row],[2B]]-NYY_H217[[#This Row],[3B]]-NYY_H217[[#This Row],[HR]])+(NYY_H217[[#This Row],[2B]]*2)+(NYY_H217[[#This Row],[3B]]*3)+(NYY_H217[[#This Row],[HR]]*4))/NYY_H217[[#This Row],[AB]],0) -> 0.33333333 | BE4: 26 | BF4: 84 | BG4: 8 | BH4: 19 | BI4: 3 | BJ4: =0 -> 0 | BK4: 2 | BL4: 14 | BM4: 14 | BN4: 19 | BO4: 0 | BP4: 2 | BQ4: 3 | BR4: =IFERROR((BH4-BI4-BJ4-BK4)+(BI4*2)+(BJ4*3)+(BK4*4),0) -> 28 | BS4: =IFERROR(NYY_H217[[#This Row],[OBP]]+NYY_H217[[#This Row],[SLG]],0) -> 0.67006803 | BT4: 2 | BU4: 1
A5: NYY | B5: 3B | C5: D. LeMahieu | D5: =IFERROR((NYY_H[[#This Row],[H]]/NYY_H[[#This Row],[AB]]),0) -> 0.31914894 | E5: =IFERROR((NYY_H[[#This Row],[H]]+NYY_H[[#This Row],[BB]])/(NYY_H[[#This Row],[AB]]+NYY_H[[#This Row],[BB]]),) -> 0.38064516 | F5: =IFERROR(((NYY_H[[#This Row],[H]]-NYY_H[[#This Row],[2B]]-NYY_H[[#This Row],[3B]]-NYY_H[[#This Row],[HR]])+(NYY_H[[#This Row],[2B]]*2)+(NYY_H[[#This Row],[3B]]*3)+(NYY_H[[#This Row],[HR]]*4))/NYY_H[[#This Row],[AB]],0) -> 0.46099291 | G5: 38 | H5: 141 | I5: 18 | J5: 45 | K5: 7 | L5: 2 | M5: 3 | N5: 20 | O5: 14 | P5: 31 | Q5: 0 | R5: 0 | S5: 10 | T5: =IFERROR((NYY_H[[#This Row],[H]]-NYY_H[[#This Row],[2B]]-NYY_H[[#This Row],[3B]]-NYY_H[[#This Row],[HR]])+(NYY_H[[#This Row],[2B]]*2)+(NYY_H[[#This Row],[3B]]*3)+(NYY_H[[#This Row],[HR]]*4),0) -> 65 | U5: =NYY_H[[#This Row],[OBP]]+NYY_H[[#This Row],[SLG]] -> 0.84163807 | V5: 0 | W5: 2 | Z5: NYY | AA5: 3B | AB5: D. LeMahieu | AC5: =IFERROR((NYY_H304[[#This Row],[H]]/NYY_H304[[#This Row],[AB]]),0) -> 0.31875 | AD5: =IFERROR((NYY_H304[[#This Row],[H]]+NYY_H304[[#This Row],[BB]])/(NYY_H304[[#This Row],[AB]]+NYY_H304[[#This Row],[BB]]),) -> 0.37356322 | AE5: =IFERROR(((NYY_H304[[#This Row],[H]]-NYY_H304[[#This Row],[2B]]-NYY_H304[[#This Row],[3B]]-NYY_H304[[#This Row],[HR]])+(NYY_H304[[#This Row],[2B]]*2)+(NYY_H304[[#This Row],[3B]]*3)+(NYY_H304[[#This Row],[HR]]*4))/NYY_H304[[#This Row],[AB]],0) -> 0.45 | AF5: 38 | AG5: 160 | AH5: 20 | AI5: 51 | AJ5: 9 | AK5: 3 | AL5: 2 | AM5: 21 | AN5: 14 | AO5: 21 | AP5: 0 | AQ5: 9 | AR5: 19 | AS5: =IFERROR((NYY_H304[[#This Row],[H]]-NYY_H304[[#This Row],[2B]]-NYY_H304[[#This Row],[3B]]-NYY_H304[[#This Row],[HR]])+(NYY_H304[[#This Row],[2B]]*2)+(NYY_H304[[#This Row],[3B]]*3)+(NYY_H304[[#This Row],[HR]]*4),0) -> 72 | AT5: =NYY_H304[[#This Row],[OBP]]+NYY_H304[[#This Row],[SLG]] -> 0.82356322 | AU5: 3 | AV5: 2 | AY5: NYY | AZ5: 3B | BA5: A. Rodriguez | BB5: =IFERROR(NYY_H217[[#This Row],[H]]/NYY_H217[[#This Row],[AB]],0) -> 0.24375 | BC5: =IFERROR((NYY_H217[[#This Row],[BB]]+NYY_H217[[#This Row],[H]])/(NYY_H217[[#This Row],[AB]]+NYY_H217[[#This Row],[BB]]),0) -> 0.29239766 | BD5: =IFERROR(((NYY_H217[[#This Row],[H]]-NYY_H217[[#This Row],[2B]]-NYY_H217[[#This Row],[3B]]-NYY_H217[[#This Row],[HR]])+(NYY_H217[[#This Row],[2B]]*2)+(NYY_H217[[#This Row],[3B]]*3)+(NYY_H217[[#This Row],[HR]]*4))/NYY_H217[[#This Row],[AB]],0) -> 0.43125 | BE5: 39 | BF5: 160 | BG5: 20 | BH5: 39 | BI5: 6 | BJ5: =0 -> 0 | BK5: 8 | BL5: 17 | BM5: 11 | BN5: 36 | BO5: 0 | BP5: 1 | BQ5: 5 | BR5: =IFERROR((BH5-BI5-BJ5-BK5)+(BI5*2)+(BJ5*3)+(BK5*4),0) -> 69 | BS5: =IFERROR(NYY_H217[[#This Row],[OBP]]+NYY_H217[[#This Row],[SLG]],0) -> 0.72364766 | BT5: 0 | BU5: 2
A6: NYY | B6: SS | C6: D. Jeter | D6: =IFERROR((NYY_H[[#This Row],[H]]/NYY_H[[#This Row],[AB]]),0) -> 0.27878788 | E6: =IFERROR((NYY_H[[#This Row],[H]]+NYY_H[[#This Row],[BB]])/(NYY_H[[#This Row],[AB]]+NYY_H[[#This Row],[BB]]),) -> 0.34972678 | F6: =IFERROR(((NYY_H[[#This Row],[H]]-NYY_H[[#This Row],[2B]]-NYY_H[[#This Row],[3B]]-NYY_H[[#This Row],[HR]])+(NYY_H[[#This Row],[2B]]*2)+(NYY_H[[#This Row],[3B]]*3)+(NYY_H[[#This Row],[HR]]*4))/NYY_H[[#This Row],[AB]],0) -> 0.36969697 | G6: 39 | H6: 165 | I6: 21 | J6: 46 | K6: 8 | L6: 2 | M6: 1 | N6: 15 | O6: 18 | P6: 33 | Q6: 1 | R6: 2 | S6: 6 | T6: =IFERROR((NYY_H[[#This Row],[H]]-NYY_H[[#This Row],[2B]]-NYY_H[[#This Row],[3B]]-NYY_H[[#This Row],[HR]])+(NYY_H[[#This Row],[2B]]*2)+(NYY_H[[#This Row],[3B]]*3)+(NYY_H[[#This Row],[HR]]*4),0) -> 61 | U6: =NYY_H[[#This Row],[OBP]]+NYY_H[[#This Row],[SLG]] -> 0.71942375 | V6: 2 | W6: 3 | Z6: NYY | AA6: SS | AB6: D. Jeter | AC6: =IFERROR((NYY_H304[[#This Row],[H]]/NYY_H304[[#This Row],[AB]]),0) -> 0.30769231 | AD6: =IFERROR((NYY_H304[[#This Row],[H]]+NYY_H304[[#This Row],[BB]])/(NYY_H304[[#This Row],[AB]]+NYY_H304[[#This Row],[BB]]),) -> 0.35329341 | AE6: =IFERROR(((NYY_H304[[#This Row],[H]]-NYY_H304[[#This Row],[2B]]-NYY_H304[[#This Row],[3B]]-NYY_H304[[#This Row],[HR]])+(NYY_H304[[#This Row],[2B]]*2)+(NYY_H304[[#This Row],[3B]]*3)+(NYY_H304[[#This Row],[HR]]*4))/NYY_H304[[#This Row],[AB]],0) -> 0.3974359 | AF6: 37 | AG6: 156 | AH6: 17 | AI6: 48 | AJ6: 9 | AK6: 1 | AL6: 1 | AM6: 12 | AN6: 11 | AO6: 37 | AP6: 7 | AQ6: 0 | AR6: 16 | AS6: =IFERROR((NYY_H304[[#This Row],[H]]-NYY_H304[[#This Row],[2B]]-NYY_H304[[#This Row],[3B]]-NYY_H304[[#This Row],[HR]])+(NYY_H304[[#This Row],[2B]]*2)+(NYY_H304[[#This Row],[3B]]*3)+(NYY_H304[[#This Row],[HR]]*4),0) -> 62 | AT6: =NYY_H304[[#This Row],[OBP]]+NYY_H304[[#This Row],[SLG]] -> 0.75072931 | AU6: 1 | AV6: 3 | AY6: NYY | AZ6: SS | BA6: D. Jeter | BB6: =IFERROR(NYY_H217[[#This Row],[H]]/NYY_H217[[#This Row],[AB]],0) -> 0.3125 | BC6: =IFERROR((NYY_H217[[#This Row],[BB]]+NYY_H217[[#This Row],[H]])/(NYY_H217[[#This Row],[AB]]+NYY_H217[[#This Row],[BB]]),0) -> 0.3989071 | BD6: =IFERROR(((NYY_H217[[#This Row],[H]]-NYY_H217[[#This Row],[2B]]-NYY_H217[[#This Row],[3B]]-NYY_H217[[#This Row],[HR]])+(NYY_H217[[#This Row],[2B]]*2)+(NYY_H217[[#This Row],[3B]]*3)+(NYY_H217[[#This Row],[HR]]*4))/NYY_H217[[#This Row],[AB]],0) -> 0.49375 | BE6: 40 | BF6: 160 | BG6: 20 | BH6: 50 | BI6: 12 | BJ6: 1 | BK6: 5 | BL6: 27 | BM6: 23 | BN6: 30 | BO6: 5 | BP6: 2 | BQ6: 9 | BR6: =IFERROR((BH6-BI6-BJ6-BK6)+(BI6*2)+(BJ6*3)+(BK6*4),0) -> 79 | BS6: =IFERROR(NYY_H217[[#This Row],[OBP]]+NYY_H217[[#This Row],[SLG]],0) -> 0.8926571 | BT6: 5 | BU6: 3
A7: NYY | B7: 2B | C7: G. Torres | D7: =IFERROR((NYY_H[[#This Row],[H]]/NYY_H[[#This Row],[AB]]),0) -> 0.2 | E7: =IFERROR((NYY_H[[#This Row],[H]]+NYY_H[[#This Row],[BB]])/(NYY_H[[#This Row],[AB]]+NYY_H[[#This Row],[BB]]),) -> 0.25827815 | F7: =IFERROR(((NYY_H[[#This Row],[H]]-NYY_H[[#This Row],[2B]]-NYY_H[[#This Row],[3B]]-NYY_H[[#This Row],[HR]])+(NYY_H[[#This Row],[2B]]*2)+(NYY_H[[#This Row],[3B]]*3)+(NYY_H[[#This Row],[HR]]*4))/NYY_H[[#This Row],[AB]],0) -> 0.35714286 | G7: 37 | H7: 140 | I7: 12 | J7: 28 | K7: 7 | L7: 0 | M7: 5 | N7: 14 | O7: 11 | P7: 40 | Q7: 0 | R7: 0 | S7: 5 | T7: =IFERROR((NYY_H[[#This Row],[H]]-NYY_H[[#This Row],[2B]]-NYY_H[[#This Row],[3B]]-NYY_H[[#This Row],[HR]])+(NYY_H[[#This Row],[2B]]*2)+(NYY_H[[#This Row],[3B]]*3)+(NYY_H[[#This Row],[HR]]*4),0) -> 50 | U7: =NYY_H[[#This Row],[OBP]]+NYY_H[[#This Row],[SLG]] -> 0.615421 | V7: 0 | W7: 4 | Z7: NYY | AA7: 2B | AB7: G. Torres | AC7: =IFERROR((NYY_H304[[#This Row],[H]]/NYY_H304[[#This Row],[AB]]),0) -> 0.24427481 | AD7: =IFERROR((NYY_H304[[#This Row],[H]]+NYY_H304[[#This Row],[BB]])/(NYY_H304[[#This Row],[AB]]+NYY_H304[[#This Row],[BB]]),) -> 0.32191781 | AE7: =IFERROR(((NYY_H304[[#This Row],[H]]-NYY_H304[[#This Row],[2B]]-NYY_H304[[#This Row],[3B]]-NYY_H304[[#This Row],[HR]])+(NYY_H304[[#This Row],[2B]]*2)+(NYY_H304[[#This Row],[3B]]*3)+(NYY_H304[[#This Row],[HR]]*4))/NYY_H304[[#This Row],[AB]],0) -> 0.58015267 | AF7: 36 | AG7: 131 | AH7: 23 | AI7: 32 | AJ7: 8 | AK7: 0 | AL7: 12 | AM7: 28 | AN7: 15 | AO7: 36 | AP7: 0 | AQ7: 6 | AR7: 6 | AS7: =IFERROR((NYY_H304[[#This Row],[H]]-NYY_H304[[#This Row],[2B]]-NYY_H304[[#This Row],[3B]]-NYY_H304[[#This Row],[HR]])+(NYY_H304[[#This Row],[2B]]*2)+(NYY_H304[[#This Row],[3B]]*3)+(NYY_H304[[#This Row],[HR]]*4),0) -> 76 | AT7: =NYY_H304[[#This Row],[OBP]]+NYY_H304[[#This Row],[SLG]] -> 0.90207048 | AU7: 6 | AV7: 4 | AY7: NYY | AZ7: 2B | BA7: D. LeMahieu | BB7: =IFERROR(NYY_H217[[#This Row],[H]]/NYY_H217[[#This Row],[AB]],0) -> 0.27407407 | BC7: =IFERROR((NYY_H217[[#This Row],[BB]]+NYY_H217[[#This Row],[H]])/(NYY_H217[[#This Row],[AB]]+NYY_H217[[#This Row],[BB]]),0) -> 0.36363636 | BD7: =IFERROR(((NYY_H217[[#This Row],[H]]-NYY_H217[[#This Row],[2B]]-NYY_H217[[#This Row],[3B]]-NYY_H217[[#This Row],[HR]])+(NYY_H217[[#This Row],[2B]]*2)+(NYY_H217[[#This Row],[3B]]*3)+(NYY_H217[[#This Row],[HR]]*4))/NYY_H217[[#This Row],[AB]],0) -> 0.45925926 | BE7: 38 | BF7: 135 | BG7: 22 | BH7: 37 | BI7: 8 | BJ7: 1 | BK7: 5 | BL7: 15 | BM7: 19 | BN7: 25 | BO7: 0 | BP7: 1 | BQ7: 8 | BR7: =IFERROR((BH7-BI7-BJ7-BK7)+(BI7*2)+(BJ7*3)+(BK7*4),0) -> 62 | BS7: =IFERROR(NYY_H217[[#This Row],[OBP]]+NYY_H217[[#This Row],[SLG]],0) -> 0.82289562 | BT7: 1 | BU7: 4
A8: NYY | B8: 1B | C8: D. Mattingly | D8: =IFERROR((NYY_H[[#This Row],[H]]/NYY_H[[#This Row],[AB]]),0) -> 0.27108434 | E8: =IFERROR((NYY_H[[#This Row],[H]]+NYY_H[[#This Row],[BB]])/(NYY_H[[#This Row],[AB]]+NYY_H[[#This Row],[BB]]),) -> 0.32022472 | F8: =IFERROR(((NYY_H[[#This Row],[H]]-NYY_H[[#This Row],[2B]]-NYY_H[[#This Row],[3B]]-NYY_H[[#This Row],[HR]])+(NYY_H[[#This Row],[2B]]*2)+(NYY_H[[#This Row],[3B]]*3)+(NYY_H[[#This Row],[HR]]*4))/NYY_H[[#This Row],[AB]],0) -> 0.37349398 | G8: 39 | H8: 166 | I8: 23 | J8: 45 | K8: 11 | L8: 0 | M8: 2 | N8: 14 | O8: 12 | P8: 23 | Q8: 0 | R8: 1 | S8: 8 | T8: =IFERROR((NYY_H[[#This Row],[H]]-NYY_H[[#This Row],[2B]]-NYY_H[[#This Row],[3B]]-NYY_H[[#This Row],[HR]])+(NYY_H[[#This Row],[2B]]*2)+(NYY_H[[#This Row],[3B]]*3)+(NYY_H[[#This Row],[HR]]*4),0) -> 62 | U8: =NYY_H[[#This Row],[OBP]]+NYY_H[[#This Row],[SLG]] -> 0.6937187 | V8: 3 | W8: 5 | Z8: NYY | AA8: 1B | AB8: D. Mattingly | AC8: =IFERROR((NYY_H304[[#This Row],[H]]/NYY_H304[[#This Row],[AB]]),0) -> 0.27631579 | AD8: =IFERROR((NYY_H304[[#This Row],[H]]+NYY_H304[[#This Row],[BB]])/(NYY_H304[[#This Row],[AB]]+NYY_H304[[#This Row],[BB]]),) -> 0.34911243 | AE8: =IFERROR(((NYY_H304[[#This Row],[H]]-NYY_H304[[#This Row],[2B]]-NYY_H304[[#This Row],[3B]]-NYY_H304[[#This Row],[HR]])+(NYY_H304[[#This Row],[2B]]*2)+(NYY_H304[[#This Row],[3B]]*3)+(NYY_H304[[#This Row],[HR]]*4))/NYY_H304[[#This Row],[AB]],0) -> 0.39473684 | AF8: 38 | AG8: 152 | AH8: 23 | AI8: 42 | AJ8: 9 | AK8: 0 | AL8: 3 | AM8: 16 | AN8: 17 | AO8: 40 | AP8: 0 | AQ8: 2 | AR8: 9 | AS8: =IFERROR((NYY_H304[[#This Row],[H]]-NYY_H304[[#This Row],[2B]]-NYY_H304[[#This Row],[3B]]-NYY_H304[[#This Row],[HR]])+(NYY_H304[[#This Row],[2B]]*2)+(NYY_H304[[#This Row],[3B]]*3)+(NYY_H304[[#This Row],[HR]]*4),0) -> 60 | AT8: =NYY_H304[[#This Row],[OBP]]+NYY_H304[[#This Row],[SLG]] -> 0.74384927 | AU8: 2 | AV8: 5 | AY8: NYY | AZ8: 1B | BA8: D. Mattingly | BB8: =IFERROR(NYY_H217[[#This Row],[H]]/NYY_H217[[#This Row],[AB]],0) -> 0.24817518 | BC8: =IFERROR((NYY_H217[[#This Row],[BB]]+NYY_H217[[#This Row],[H]])/(NYY_H217[[#This Row],[AB]]+NYY_H217[[#This Row],[BB]]),0) -> 0.31333333 | BD8: =IFERROR(((NYY_H217[[#This Row],[H]]-NYY_H217[[#This Row],[2B]]-NYY_H217[[#This Row],[3B]]-NYY_H217[[#This Row],[HR]])+(NYY_H217[[#This Row],[2B]]*2)+(NYY_H217[[#This Row],[3B]]*3)+(NYY_H217[[#This Row],[HR]]*4))/NYY_H217[[#This Row],[AB]],0) -> 0.40145985 | BE8: 37 | BF8: 137 | BG8: 14 | BH8: 34 | BI8: 6 | BJ8: =0 -> 0 | BK8: 5 | BL8: 14 | BM8: 13 | BN8: 22 | BO8: 0 | BP8: 0 | BQ8: 4 | BR8: =IFERROR((BH8-BI8-BJ8-BK8)+(BI8*2)+(BJ8*3)+(BK8*4),0) -> 55 | BS8: =IFERROR(NYY_H217[[#This Row],[OBP]]+NYY_H217[[#This Row],[SLG]],0) -> 0.71479319 | BT8: 0 | BU8: 5
A9: NYY | B9: LF | C9: G. Stanton | D9: =IFERROR((NYY_H[[#This Row],[H]]/NYY_H[[#This Row],[AB]]),0) -> 0.27083333 | E9: =IFERROR((NYY_H[[#This Row],[H]]+NYY_H[[#This Row],[BB]])/(NYY_H[[#This Row],[AB]]+NYY_H[[#This Row],[BB]]),) -> 0.37869822 | F9: =IFERROR(((NYY_H[[#This Row],[H]]-NYY_H[[#This Row],[2B]]-NYY_H[[#This Row],[3B]]-NYY_H[[#This Row],[HR]])+(NYY_H[[#This Row],[2B]]*2)+(NYY_H[[#This Row],[3B]]*3)+(NYY_H[[#This Row],[HR]]*4))/NYY_H[[#This Row],[AB]],0) -> 0.51388889 | G9: 39 | H9: 144 | I9: 26 | J9: 39 | K9: 8 | L9: 0 | M9: 9 | N9: 21 | O9: 25 | P9: 56 | Q9: 0 | R9: 1 | S9: 7 | T9: =IFERROR((NYY_H[[#This Row],[H]]-NYY_H[[#This Row],[2B]]-NYY_H[[#This Row],[3B]]-NYY_H[[#This Row],[HR]])+(NYY_H[[#This Row],[2B]]*2)+(NYY_H[[#This Row],[3B]]*3)+(NYY_H[[#This Row],[HR]]*4),0) -> 74 | U9: =NYY_H[[#This Row],[OBP]]+NYY_H[[#This Row],[SLG]] -> 0.89258711 | V9: 5 | W9: 6 | Z9: NYY | AA9: LF | AB9: H. Matsui | AC9: =IFERROR((NYY_H304[[#This Row],[H]]/NYY_H304[[#This Row],[AB]]),0) -> 0.29565217 | AD9: =IFERROR((NYY_H304[[#This Row],[H]]+NYY_H304[[#This Row],[BB]])/(NYY_H304[[#This Row],[AB]]+NYY_H304[[#This Row],[BB]]),) -> 0.37692308 | AE9: =IFERROR(((NYY_H304[[#This Row],[H]]-NYY_H304[[#This Row],[2B]]-NYY_H304[[#This Row],[3B]]-NYY_H304[[#This Row],[HR]])+(NYY_H304[[#This Row],[2B]]*2)+(NYY_H304[[#This Row],[3B]]*3)+(NYY_H304[[#This Row],[HR]]*4))/NYY_H304[[#This Row],[AB]],0) -> 0.48695652 | AF9: 31 | AG9: 115 | AH9: 17 | AI9: 34 | AJ9: 7 | AK9: 0 | AL9: 5 | AM9: 17 | AN9: 15 | AO9: 19 | AP9: 0 | AQ9: 1 | AR9: 7 | AS9: =IFERROR((NYY_H304[[#This Row],[H]]-NYY_H304[[#This Row],[2B]]-NYY_H304[[#This Row],[3B]]-NYY_H304[[#This Row],[HR]])+(NYY_H304[[#This Row],[2B]]*2)+(NYY_H304[[#This Row],[3B]]*3)+(NYY_H304[[#This Row],[HR]]*4),0) -> 56 | AT9: =NYY_H304[[#This Row],[OBP]]+NYY_H304[[#This Row],[SLG]] -> 0.8638796 | AU9: 1 | AV9: 6 | AY9: NYY | AZ9: LF | BA9: H. Matsui | BB9: =IFERROR(NYY_H217[[#This Row],[H]]/NYY_H217[[#This Row],[AB]],0) -> 0.32352941 | BC9: =IFERROR((NYY_H217[[#This Row],[BB]]+NYY_H217[[#This Row],[H]])/(NYY_H217[[#This Row],[AB]]+NYY_H217[[#This Row],[BB]]),0) -> 0.38392857 | BD9: =IFERROR(((NYY_H217[[#This Row],[H]]-NYY_H217[[#This Row],[2B]]-NYY_H217[[#This Row],[3B]]-NYY_H217[[#This Row],[HR]])+(NYY_H217[[#This Row],[2B]]*2)+(NYY_H217[[#This Row],[3B]]*3)+(NYY_H217[[#This Row],[HR]]*4))/NYY_H217[[#This Row],[AB]],0) -> 0.50980392 | BE9: 34 | BF9: 102 | BG9: 15 | BH9: 33 | BI9: 7 | BJ9: =0 -> 0 | BK9: 4 | BL9: 16 | BM9: 10 | BN9: 17 | BO9: 0 | BP9: 3 | BQ9: 9 | BR9: =IFERROR((BH9-BI9-BJ9-BK9)+(BI9*2)+(BJ9*3)+(BK9*4),0) -> 52 | BS9: =IFERROR(NYY_H217[[#This Row],[OBP]]+NYY_H217[[#This Row],[SLG]],0) -> 0.89373249 | BT9: 1 | BU9: 6
A10: NYY | B10: CF | C10: B. Gardner | D10: =IFERROR((NYY_H[[#This Row],[H]]/NYY_H[[#This Row],[AB]]),0) -> 0.20353982 | E10: =IFERROR((NYY_H[[#This Row],[H]]+NYY_H[[#This Row],[BB]])/(NYY_H[[#This Row],[AB]]+NYY_H[[#This Row],[BB]]),) -> 0.29133858 | F10: =IFERROR(((NYY_H[[#This Row],[H]]-NYY_H[[#This Row],[2B]]-NYY_H[[#This Row],[3B]]-NYY_H[[#This Row],[HR]])+(NYY_H[[#This Row],[2B]]*2)+(NYY_H[[#This Row],[3B]]*3)+(NYY_H[[#This Row],[HR]]*4))/NYY_H[[#This Row],[AB]],0) -> 0.38053097 | G10: 34 | H10: 113 | I10: 13 | J10: 23 | K10: 6 | L10: 1 | M10: 4 | N10: 12 | O10: 14 | P10: 39 | Q10: 4 | R10: 0 | S10: 6 | T10: =IFERROR((NYY_H[[#This Row],[H]]-NYY_H[[#This Row],[2B]]-NYY_H[[#This Row],[3B]]-NYY_H[[#This Row],[HR]])+(NYY_H[[#This Row],[2B]]*2)+(NYY_H[[#This Row],[3B]]*3)+(NYY_H[[#This Row],[HR]]*4),0) -> 43 | U10: =NYY_H[[#This Row],[OBP]]+NYY_H[[#This Row],[SLG]] -> 0.67186956 | V10: 1 | W10: 7 | Z10: NYY | AA10: CF | AB10: A. Hicks | AC10: =IFERROR((NYY_H304[[#This Row],[H]]/NYY_H304[[#This Row],[AB]]),0) -> 0.22641509 | AD10: =IFERROR((NYY_H304[[#This Row],[H]]+NYY_H304[[#This Row],[BB]])/(NYY_H304[[#This Row],[AB]]+NYY_H304[[#This Row],[BB]]),) -> 0.28070175 | AE10: =IFERROR(((NYY_H304[[#This Row],[H]]-NYY_H304[[#This Row],[2B]]-NYY_H304[[#This Row],[3B]]-NYY_H304[[#This Row],[HR]])+(NYY_H304[[#This Row],[2B]]*2)+(NYY_H304[[#This Row],[3B]]*3)+(NYY_H304[[#This Row],[HR]]*4))/NYY_H304[[#This Row],[AB]],0) -> 0.45283019 | AF10: 16 | AG10: 53 | AH10: 10 | AI10: 12 | AJ10: 1 | AK10: 1 | AL10: 3 | AM10: 4 | AN10: 4 | AO10: 20 | AP10: 0 | AQ10: 2 | AR10: 2 | AS10: =IFERROR((NYY_H304[[#This Row],[H]]-NYY_H304[[#This Row],[2B]]-NYY_H304[[#This Row],[3B]]-NYY_H304[[#This Row],[HR]])+(NYY_H304[[#This Row],[2B]]*2)+(NYY_H304[[#This Row],[3B]]*3)+(NYY_H304[[#This Row],[HR]]*4),0) -> 24 | AT10: =NYY_H304[[#This Row],[OBP]]+NYY_H304[[#This Row],[SLG]] -> 0.73353194 | AU10: 0 | AV10: 7 | AY10: NYY | AZ10: CF | BA10: A. Hicks | BB10: =IFERROR(NYY_H217[[#This Row],[H]]/NYY_H217[[#This Row],[AB]],0) -> 0.25974026 | BC10: =IFERROR((NYY_H217[[#This Row],[BB]]+NYY_H217[[#This Row],[H]])/(NYY_H217[[#This Row],[AB]]+NYY_H217[[#This Row],[BB]]),0) -> 0.32941176 | BD10: =IFERROR(((NYY_H217[[#This Row],[H]]-NYY_H217[[#This Row],[2B]]-NYY_H217[[#This Row],[3B]]-NYY_H217[[#This Row],[HR]])+(NYY_H217[[#This Row],[2B]]*2)+(NYY_H217[[#This Row],[3B]]*3)+(NYY_H217[[#This Row],[HR]]*4))/NYY_H217[[#This Row],[AB]],0) -> 0.4025974 | BE10: 32 | BF10: 77 | BG10: 11 | BH10: 20 | BI10: 2 | BJ10: =0 -> 0 | BK10: 3 | BL10: 10 | BM10: 8 | BN10: 21 | BO10: 0 | BP10: 2 | BQ10: 3 | BR10: =IFERROR((BH10-BI10-BJ10-BK10)+(BI10*2)+(BJ10*3)+(BK10*4),0) -> 31 | BS10: =IFERROR(NYY_H217[[#This Row],[OBP]]+NYY_H217[[#This Row],[SLG]],0) -> 0.73200917 | BT10: 2 | BU10: 7
A11: NYY | B11: RF | C11: A. Judge | D11: =IFERROR((NYY_H[[#This Row],[H]]/NYY_H[[#This Row],[AB]]),0) -> 0.275 | E11: =IFERROR((NYY_H[[#This Row],[H]]+NYY_H[[#This Row],[BB]])/(NYY_H[[#This Row],[AB]]+NYY_H[[#This Row],[BB]]),) -> 0.36612022 | F11: =IFERROR(((NYY_H[[#This Row],[H]]-NYY_H[[#This Row],[2B]]-NYY_H[[#This Row],[3B]]-NYY_H[[#This Row],[HR]])+(NYY_H[[#This Row],[2B]]*2)+(NYY_H[[#This Row],[3B]]*3)+(NYY_H[[#This Row],[HR]]*4))/NYY_H[[#This Row],[AB]],0) -> 0.60625 | G11: 40 | H11: 160 | I11: 31 | J11: 44 | K11: 8 | L11: 0 | M11: 15 | N11: 30 | O11: 23 | P11: 58 | Q11: 0 | R11: 0 | S11: 8 | T11: =IFERROR((NYY_H[[#This Row],[H]]-NYY_H[[#This Row],[2B]]-NYY_H[[#This Row],[3B]]-NYY_H[[#This Row],[HR]])+(NYY_H[[#This Row],[2B]]*2)+(NYY_H[[#This Row],[3B]]*3)+(NYY_H[[#This Row],[HR]]*4),0) -> 97 | U11: =NYY_H[[#This Row],[OBP]]+NYY_H[[#This Row],[SLG]] -> 0.97237022 | V11: 7 | W11: 8 | Z11: NYY | AA11: RF | AB11: A. Judge | AC11: =IFERROR((NYY_H304[[#This Row],[H]]/NYY_H304[[#This Row],[AB]]),0) -> 0.28 | AD11: =IFERROR((NYY_H304[[#This Row],[H]]+NYY_H304[[#This Row],[BB]])/(NYY_H304[[#This Row],[AB]]+NYY_H304[[#This Row],[BB]]),) -> 0.34939759 | AE11: =IFERROR(((NYY_H304[[#This Row],[H]]-NYY_H304[[#This Row],[2B]]-NYY_H304[[#This Row],[3B]]-NYY_H304[[#This Row],[HR]])+(NYY_H304[[#This Row],[2B]]*2)+(NYY_H304[[#This Row],[3B]]*3)+(NYY_H304[[#This Row],[HR]]*4))/NYY_H304[[#This Row],[AB]],0) -> 0.52666667 | AF11: 38 | AG11: 150 | AH11: 20 | AI11: 42 | AJ11: 10 | AK11: 0 | AL11: 9 | AM11: 27 | AN11: 16 | AO11: 55 | AP11: 0 | AQ11: 0 | AR11: 8 | AS11: =IFERROR((NYY_H304[[#This Row],[H]]-NYY_H304[[#This Row],[2B]]-NYY_H304[[#This Row],[3B]]-NYY_H304[[#This Row],[HR]])+(NYY_H304[[#This Row],[2B]]*2)+(NYY_H304[[#This Row],[3B]]*3)+(NYY_H304[[#This Row],[HR]]*4),0) -> 79 | AT11: =NYY_H304[[#This Row],[OBP]]+NYY_H304[[#This Row],[SLG]] -> 0.87606426 | AU11: 3 | AV11: 8 | AY11: NYY | AZ11: RF | BA11: A. Judge | BB11: =IFERROR(NYY_H217[[#This Row],[H]]/NYY_H217[[#This Row],[AB]],0) -> 0.20121951 | BC11: =IFERROR((NYY_H217[[#This Row],[BB]]+NYY_H217[[#This Row],[H]])/(NYY_H217[[#This Row],[AB]]+NYY_H217[[#This Row],[BB]]),0) -> 0.29569892 | BD11: =IFERROR(((NYY_H217[[#This Row],[H]]-NYY_H217[[#This Row],[2B]]-NYY_H217[[#This Row],[3B]]-NYY_H217[[#This Row],[HR]])+(NYY_H217[[#This Row],[2B]]*2)+(NYY_H217[[#This Row],[3B]]*3)+(NYY_H217[[#This Row],[HR]]*4))/NYY_H217[[#This Row],[AB]],0) -> 0.40243902 | BE11: 40 | BF11: 164 | BG11: 23 | BH11: 33 | BI11: 6 | BJ11: =0 -> 0 | BK11: 9 | BL11: 26 | BM11: 22 | BN11: 62 | BO11: 0 | BP11: 5 | BQ11: 5 | BR11: =IFERROR((BH11-BI11-BJ11-BK11)+(BI11*2)+(BJ11*3)+(BK11*4),0) -> 66 | BS11: =IFERROR(NYY_H217[[#This Row],[OBP]]+NYY_H217[[#This Row],[SLG]],0) -> 0.69813795 | BT11: 4 | BU11: 8
A12: NYY | B12: DH | C12: H. Matsui | D12: =IFERROR((NYY_H[[#This Row],[H]]/NYY_H[[#This Row],[AB]]),0) -> 0.33566434 | E12: =IFERROR((NYY_H[[#This Row],[H]]+NYY_H[[#This Row],[BB]])/(NYY_H[[#This Row],[AB]]+NYY_H[[#This Row],[BB]]),) -> 0.38709677 | F12: =IFERROR(((NYY_H[[#This Row],[H]]-NYY_H[[#This Row],[2B]]-NYY_H[[#This Row],[3B]]-NYY_H[[#This Row],[HR]])+(NYY_H[[#This Row],[2B]]*2)+(NYY_H[[#This Row],[3B]]*3)+(NYY_H[[#This Row],[HR]]*4))/NYY_H[[#This Row],[AB]],0) -> 0.56643357 | G12: 36 | H12: 143 | I12: 15 | J12: 48 | K12: 12 | L12: 0 | M12: 7 | N12: 28 | O12: 12 | P12: 35 | Q12: 0 | R12: 1 | S12: 9 | T12: =IFERROR((NYY_H[[#This Row],[H]]-NYY_H[[#This Row],[2B]]-NYY_H[[#This Row],[3B]]-NYY_H[[#This Row],[HR]])+(NYY_H[[#This Row],[2B]]*2)+(NYY_H[[#This Row],[3B]]*3)+(NYY_H[[#This Row],[HR]]*4),0) -> 81 | U12: =NYY_H[[#This Row],[OBP]]+NYY_H[[#This Row],[SLG]] -> 0.95353034 | V12: 2 | W12: 9 | Z12: NYY | AA12: DH | AB12: G. Stanton | AC12: =IFERROR((NYY_H304[[#This Row],[H]]/NYY_H304[[#This Row],[AB]]),0) -> 0.16666667 | AD12: =IFERROR((NYY_H304[[#This Row],[H]]+NYY_H304[[#This Row],[BB]])/(NYY_H304[[#This Row],[AB]]+NYY_H304[[#This Row],[BB]]),) -> 0.23566879 | AE12: =IFERROR(((NYY_H304[[#This Row],[H]]-NYY_H304[[#This Row],[2B]]-NYY_H304[[#This Row],[3B]]-NYY_H304[[#This Row],[HR]])+(NYY_H304[[#This Row],[2B]]*2)+(NYY_H304[[#This Row],[3B]]*3)+(NYY_H304[[#This Row],[HR]]*4))/NYY_H304[[#This Row],[AB]],0) -> 0.31944444 | AF12: 37 | AG12: 144 | AH12: 12 | AI12: 24 | AJ12: 4 | AK12: 0 | AL12: 6 | AM12: 17 | AN12: 13 | AO12: 57 | AP12: 0 | AQ12: 0 | AR12: 6 | AS12: =IFERROR((NYY_H304[[#This Row],[H]]-NYY_H304[[#This Row],[2B]]-NYY_H304[[#This Row],[3B]]-NYY_H304[[#This Row],[HR]])+(NYY_H304[[#This Row],[2B]]*2)+(NYY_H304[[#This Row],[3B]]*3)+(NYY_H304[[#This Row],[HR]]*4),0) -> 46 | AT12: =NYY_H304[[#This Row],[OBP]]+NYY_H304[[#This Row],[SLG]] -> 0.55511323 | AU12: 2 | AV12: 9 | AY12: NYY | AZ12: DH | BA12: G. Stanton | BB12: =IFERROR(NYY_H217[[#This Row],[H]]/NYY_H217[[#This Row],[AB]],0) -> 0.29655172 | BC12: =IFERROR((NYY_H217[[#This Row],[BB]]+NYY_H217[[#This Row],[H]])/(NYY_H217[[#This Row],[AB]]+NYY_H217[[#This Row],[BB]]),0) -> 0.38554217 | BD12: =IFERROR(((NYY_H217[[#This Row],[H]]-NYY_H217[[#This Row],[2B]]-NYY_H217[[#This Row],[3B]]-NYY_H217[[#This Row],[HR]])+(NYY_H217[[#This Row],[2B]]*2)+(NYY_H217[[#This Row],[3B]]*3)+(NYY_H217[[#This Row],[HR]]*4))/NYY_H217[[#This Row],[AB]],0) -> 0.68275862 | BE12: 39 | BF12: 145 | BG12: 37 | BH12: 43 | BI12: 5 | BJ12: =0 -> 0 | BK12: 17 | BL12: 36 | BM12: 21 | BN12: 42 | BO12: 0 | BP12: 1 | BQ12: 16 | BR12: =IFERROR((BH12-BI12-BJ12-BK12)+(BI12*2)+(BJ12*3)+(BK12*4),0) -> 99 | BS12: =IFERROR(NYY_H217[[#This Row],[OBP]]+NYY_H217[[#This Row],[SLG]],0) -> 1.0683008 | BT12: 5 | BU12: 9
A13: NYY | B13: C | C13: G. Sanchez | D13: =IFERROR((NYY_H[[#This Row],[H]]/NYY_H[[#This Row],[AB]]),0) -> 0.16 | E13: =IFERROR((NYY_H[[#This Row],[H]]+NYY_H[[#This Row],[BB]])/(NYY_H[[#This Row],[AB]]+NYY_H[[#This Row],[BB]]),) -> 0.19230769 | F13: =IFERROR(((NYY_H[[#This Row],[H]]-NYY_H[[#This Row],[2B]]-NYY_H[[#This Row],[3B]]-NYY_H[[#This Row],[HR]])+(NYY_H[[#This Row],[2B]]*2)+(NYY_H[[#This Row],[3B]]*3)+(NYY_H[[#This Row],[HR]]*4))/NYY_H[[#This Row],[AB]],0) -> 0.16 | G13: 9 | H13: 25 | I13: 0 | J13: 4 | K13: 0 | L13: 0 | M13: 0 | N13: 1 | O13: 1 | P13: 5 | Q13: 0 | R13: 2 | S13: 2 | T13: =IFERROR((NYY_H[[#This Row],[H]]-NYY_H[[#This Row],[2B]]-NYY_H[[#This Row],[3B]]-NYY_H[[#This Row],[HR]])+(NYY_H[[#This Row],[2B]]*2)+(NYY_H[[#This Row],[3B]]*3)+(NYY_H[[#This Row],[HR]]*4),0) -> 4 | U13: =NYY_H[[#This Row],[OBP]]+NYY_H[[#This Row],[SLG]] -> 0.35230769 | V13: 0 | W13: 10 | Z13: NYY | AA13: C | AB13: G. Sanchez | AC13: =IFERROR((NYY_H304[[#This Row],[H]]/NYY_H304[[#This Row],[AB]]),0) -> 0.24 | AD13: =IFERROR((NYY_H304[[#This Row],[H]]+NYY_H304[[#This Row],[BB]])/(NYY_H304[[#This Row],[AB]]+NYY_H304[[#This Row],[BB]]),) -> 0.26923077 | AE13: =IFERROR(((NYY_H304[[#This Row],[H]]-NYY_H304[[#This Row],[2B]]-NYY_H304[[#This Row],[3B]]-NYY_H304[[#This Row],[HR]])+(NYY_H304[[#This Row],[2B]]*2)+(NYY_H304[[#This Row],[3B]]*3)+(NYY_H304[[#This Row],[HR]]*4))/NYY_H304[[#This Row],[AB]],0) -> 0.52 | AF13: 8 | AG13: 25 | AH13: 3 | AI13: 6 | AJ13: 1 | AK13: 0 | AL13: 2 | AM13: 3 | AN13: 1 | AO13: 7 | AP13: 0 | AQ13: 2 | AR13: 3 | AS13: =IFERROR((NYY_H304[[#This Row],[H]]-NYY_H304[[#This Row],[2B]]-NYY_H304[[#This Row],[3B]]-NYY_H304[[#This Row],[HR]])+(NYY_H304[[#This Row],[2B]]*2)+(NYY_H304[[#This Row],[3B]]*3)+(NYY_H304[[#This Row],[HR]]*4),0) -> 13 | AT13: =NYY_H304[[#This Row],[OBP]]+NYY_H304[[#This Row],[SLG]] -> 0.78923077 | AU13: 0 | AV13: 10 | AY13: NYY | AZ13: C | BA13: G. Sanchez | BB13: =IFERROR(NYY_H217[[#This Row],[H]]/NYY_H217[[#This Row],[AB]],0) -> 0.17241379 | BC13: =IFERROR((NYY_H217[[#This Row],[BB]]+NYY_H217[[#This Row],[H]])/(NYY_H217[[#This Row],[AB]]+NYY_H217[[#This Row],[BB]]),0) -> 0.23809524 | BD13: =IFERROR(((NYY_H217[[#This Row],[H]]-NYY_H217[[#This Row],[2B]]-NYY_H217[[#This Row],[3B]]-NYY_H217[[#This Row],[HR]])+(NYY_H217[[#This Row],[2B]]*2)+(NYY_H217[[#This Row],[3B]]*3)+(NYY_H217[[#This Row],[HR]]*4))/NYY_H217[[#This Row],[AB]],0) -> 0.36206897 | BE13: 21 | BF13: 58 | BG13: 9 | BH13: 10 | BI13: 2 | BJ13: =0 -> 0 | BK13: 3 | BL13: 7 | BM13: 5 | BN13: 15 | BO13: 0 | BP13: 1 | BQ13: 3 | BR13: =IFERROR((BH13-BI13-BJ13-BK13)+(BI13*2)+(BJ13*3)+(BK13*4),0) -> 21 | BS13: =IFERROR(NYY_H217[[#This Row],[OBP]]+NYY_H217[[#This Row],[SLG]],0) -> 0.6001642 | BT13: 2 | BU13: 10
A14: NYY | B14: INF | C14: A. Volpe | D14: =IFERROR((NYY_H[[#This Row],[H]]/NYY_H[[#This Row],[AB]]),0) -> 0.25 | E14: =IFERROR((NYY_H[[#This Row],[H]]+NYY_H[[#This Row],[BB]])/(NYY_H[[#This Row],[AB]]+NYY_H[[#This Row],[BB]]),) -> 0.33333333 | F14: =IFERROR(((NYY_H[[#This Row],[H]]-NYY_H[[#This Row],[2B]]-NYY_H[[#This Row],[3B]]-NYY_H[[#This Row],[HR]])+(NYY_H[[#This Row],[2B]]*2)+(NYY_H[[#This Row],[3B]]*3)+(NYY_H[[#This Row],[HR]]*4))/NYY_H[[#This Row],[AB]],0) -> 0.4375 | G14: 8 | H14: 16 | I14: 4 | J14: 4 | K14: 1 | L14: 1 | M14: 0 | N14: 1 | O14: 2 | P14: 3 | Q14: 0 | R14: 0 | S14: 4 | T14: =IFERROR((NYY_H[[#This Row],[H]]-NYY_H[[#This Row],[2B]]-NYY_H[[#This Row],[3B]]-NYY_H[[#This Row],[HR]])+(NYY_H[[#This Row],[2B]]*2)+(NYY_H[[#This Row],[3B]]*3)+(NYY_H[[#This Row],[HR]]*4),0) -> 7 | U14: =NYY_H[[#This Row],[OBP]]+NYY_H[[#This Row],[SLG]] -> 0.77083333 | V14: 0 | W14: 11 | Z14: NYY | AA14: INF® | AB14: A. Volpe | AC14: =IFERROR((NYY_H304[[#This Row],[H]]/NYY_H304[[#This Row],[AB]]),0) -> 0.30769231 | AD14: =IFERROR((NYY_H304[[#This Row],[H]]+NYY_H304[[#This Row],[BB]])/(NYY_H304[[#This Row],[AB]]+NYY_H304[[#This Row],[BB]]),) -> 0.35714286 | AE14: =IFERROR(((NYY_H304[[#This Row],[H]]-NYY_H304[[#This Row],[2B]]-NYY_H304[[#This Row],[3B]]-NYY_H304[[#This Row],[HR]])+(NYY_H304[[#This Row],[2B]]*2)+(NYY_H304[[#This Row],[3B]]*3)+(NYY_H304[[#This Row],[HR]]*4))/NYY_H304[[#This Row],[AB]],0) -> 0.61538462 | AF14: 5 | AG14: 13 | AH14: 2 | AI14: 4 | AJ14: 1 | AK14: 0 | AL14: 1 | AM14: 2 | AN14: 1 | AO14: 5 | AP14: 0 | AQ14: 1 | AR14: 1 | AS14: =IFERROR((NYY_H304[[#This Row],[H]]-NYY_H304[[#This Row],[2B]]-NYY_H304[[#This Row],[3B]]-NYY_H304[[#This Row],[HR]])+(NYY_H304[[#This Row],[2B]]*2)+(NYY_H304[[#This Row],[3B]]*3)+(NYY_H304[[#This Row],[HR]]*4),0) -> 8 | AT14: =NYY_H304[[#This Row],[OBP]]+NYY_H304[[#This Row],[SLG]] -> 0.97252747 | AU14: 0 | AV14: 11 | AY14: NYY | AZ14: INF | BA14: G. Torres | BB14: =IFERROR(NYY_H217[[#This Row],[H]]/NYY_H217[[#This Row],[AB]],0) -> 0.21212121 | BC14: =IFERROR((NYY_H217[[#This Row],[BB]]+NYY_H217[[#This Row],[H]])/(NYY_H217[[#This Row],[AB]]+NYY_H217[[#This Row],[BB]]),0) -> 0.31578947 | BD14: =IFERROR(((NYY_H217[[#This Row],[H]]-NYY_H217[[#This Row],[2B]]-NYY_H217[[#This Row],[3B]]-NYY_H217[[#This Row],[HR]])+(NYY_H217[[#This Row],[2B]]*2)+(NYY_H217[[#This Row],[3B]]*3)+(NYY_H217[[#This Row],[HR]]*4))/NYY_H217[[#This Row],[AB]],0) -> 0.45454545 | BE14: 12 | BF14: 33 | BG14: 3 | BH14: 7 | BI14: 2 | BJ14: 0 | BK14: 2 | BL14: 6 | BM14: 5 | BN14: 7 | BO14: 0 | BP14: 0 | BQ14: 3 | BR14: =IFERROR((BH14-BI14-BJ14-BK14)+(BI14*2)+(BJ14*3)+(BK14*4),0) -> 15 | BS14: =IFERROR(NYY_H217[[#This Row],[OBP]]+NYY_H217[[#This Row],[SLG]],0) -> 0.77033493 | BT14: 1 | BU14: 11
A15: NYY | B15: INF | C15: O. Cabrera | D15: =IFERROR((NYY_H[[#This Row],[H]]/NYY_H[[#This Row],[AB]]),0) -> 0.15384615 | E15: =IFERROR((NYY_H[[#This Row],[H]]+NYY_H[[#This Row],[BB]])/(NYY_H[[#This Row],[AB]]+NYY_H[[#This Row],[BB]]),) -> 0.21428571 | F15: =IFERROR(((NYY_H[[#This Row],[H]]-NYY_H[[#This Row],[2B]]-NYY_H[[#This Row],[3B]]-NYY_H[[#This Row],[HR]])+(NYY_H[[#This Row],[2B]]*2)+(NYY_H[[#This Row],[3B]]*3)+(NYY_H[[#This Row],[HR]]*4))/NYY_H[[#This Row],[AB]],0) -> 0.30769231 | G15: 5 | H15: 13 | I15: 2 | J15: 2 | K15: 2 | L15: 0 | M15: 0 | N15: 0 | O15: 1 | P15: 5 | Q15: 0 | R15: 0 | S15: 2 | T15: =IFERROR((NYY_H[[#This Row],[H]]-NYY_H[[#This Row],[2B]]-NYY_H[[#This Row],[3B]]-NYY_H[[#This Row],[HR]])+(NYY_H[[#This Row],[2B]]*2)+(NYY_H[[#This Row],[3B]]*3)+(NYY_H[[#This Row],[HR]]*4),0) -> 4 | U15: =NYY_H[[#This Row],[OBP]]+NYY_H[[#This Row],[SLG]] -> 0.52197802 | V15: 0 | W15: 12 | Z15: NYY | AA15: INF® | AB15: O. Cabrera | AC15: =IFERROR((NYY_H304[[#This Row],[H]]/NYY_H304[[#This Row],[AB]]),0) -> 0.33333333 | AD15: =IFERROR((NYY_H304[[#This Row],[H]]+NYY_H304[[#This Row],[BB]])/(NYY_H304[[#This Row],[AB]]+NYY_H304[[#This Row],[BB]]),) -> 0.6 | AE15: =IFERROR(((NYY_H304[[#This Row],[H]]-NYY_H304[[#This Row],[2B]]-NYY_H304[[#This Row],[3B]]-NYY_H304[[#This Row],[HR]])+(NYY_H304[[#This Row],[2B]]*2)+(NYY_H304[[#This Row],[3B]]*3)+(NYY_H304[[#This Row],[HR]]*4))/NYY_H304[[#This Row],[AB]],0) -> 0.33333333 | AF15: 2 | AG15: 3 | AH15: 2 | AI15: 1 | AJ15: 0 | AK15: 0 | AL15: 0 | AM15: 0 | AN15: 2 | AO15: 1 | AP15: 0 | AQ15: 1 | AR15: 1 | AS15: =IFERROR((NYY_H304[[#This Row],[H]]-NYY_H304[[#This Row],[2B]]-NYY_H304[[#This Row],[3B]]-NYY_H304[[#This Row],[HR]])+(NYY_H304[[#This Row],[2B]]*2)+(NYY_H304[[#This Row],[3B]]*3)+(NYY_H304[[#This Row],[HR]]*4),0) -> 1 | AT15: =NYY_H304[[#This Row],[OBP]]+NYY_H304[[#This Row],[SLG]] -> 0.93333333 | AU15: 0 | AV15: 12 | AY15: NYY | AZ15: INF | BA15: L. Voit | BB15: =IFERROR(NYY_H217[[#This Row],[H]]/NYY_H217[[#This Row],[AB]],0) -> 0.15384615 | BC15: =IFERROR((NYY_H217[[#This Row],[BB]]+NYY_H217[[#This Row],[H]])/(NYY_H217[[#This Row],[AB]]+NYY_H217[[#This Row],[BB]]),0) -> 0.15384615 | BD15: =IFERROR(((NYY_H217[[#This Row],[H]]-NYY_H217[[#This Row],[2B]]-NYY_H217[[#This Row],[3B]]-NYY_H217[[#This Row],[HR]])+(NYY_H217[[#This Row],[2B]]*2)+(NYY_H217[[#This Row],[3B]]*3)+(NYY_H217[[#This Row],[HR]]*4))/NYY_H217[[#This Row],[AB]],0) -> 0.26923077 | BE15: 9 | BF15: 26 | BG15: 2 | BH15: 4 | BI15: 0 | BJ15: 0 | BK15: 1 | BL15: 1 | BM15: 0 | BN15: 11 | BO15: 0 | BP15: 0 | BQ15: 2 | BR15: =IFERROR((BH15-BI15-BJ15-BK15)+(BI15*2)+(BJ15*3)+(BK15*4),0) -> 7 | BS15: =IFERROR(NYY_H217[[#This Row],[OBP]]+NYY_H217[[#This Row],[SLG]],0) -> 0.42307692 | BT15: 0 | BU15: 12
A16: NYY | B16: OF® | C16: J. Dominguez | D16: =IFERROR((NYY_H[[#This Row],[H]]/NYY_H[[#This Row],[AB]]),0) -> 0.26923077 | E16: =IFERROR((NYY_H[[#This Row],[H]]+NYY_H[[#This Row],[BB]])/(NYY_H[[#This Row],[AB]]+NYY_H[[#This Row],[BB]]),) -> 0.36666667 | F16: =IFERROR(((NYY_H[[#This Row],[H]]-NYY_H[[#This Row],[2B]]-NYY_H[[#This Row],[3B]]-NYY_H[[#This Row],[HR]])+(NYY_H[[#This Row],[2B]]*2)+(NYY_H[[#This Row],[3B]]*3)+(NYY_H[[#This Row],[HR]]*4))/NYY_H[[#This Row],[AB]],0) -> 0.5 | G16: 9 | H16: 26 | I16: 4 | J16: 7 | K16: 0 | L16: 0 | M16: 2 | N16: 4 | O16: 4 | P16: 5 | Q16: 0 | R16: 0 | S16: 5 | T16: =IFERROR((NYY_H[[#This Row],[H]]-NYY_H[[#This Row],[2B]]-NYY_H[[#This Row],[3B]]-NYY_H[[#This Row],[HR]])+(NYY_H[[#This Row],[2B]]*2)+(NYY_H[[#This Row],[3B]]*3)+(NYY_H[[#This Row],[HR]]*4),0) -> 13 | U16: =NYY_H[[#This Row],[OBP]]+NYY_H[[#This Row],[SLG]] -> 0.86666667 | V16: 0 | W16: 13 | Z16: NYY | AA16: OF | AB16: H. Bader | AC16: =IFERROR((NYY_H304[[#This Row],[H]]/NYY_H304[[#This Row],[AB]]),0) -> 0.15151515 | AD16: =IFERROR((NYY_H304[[#This Row],[H]]+NYY_H304[[#This Row],[BB]])/(NYY_H304[[#This Row],[AB]]+NYY_H304[[#This Row],[BB]]),) -> 0.1641791 | AE16: =IFERROR(((NYY_H304[[#This Row],[H]]-NYY_H304[[#This Row],[2B]]-NYY_H304[[#This Row],[3B]]-NYY_H304[[#This Row],[HR]])+(NYY_H304[[#This Row],[2B]]*2)+(NYY_H304[[#This Row],[3B]]*3)+(NYY_H304[[#This Row],[HR]]*4))/NYY_H304[[#This Row],[AB]],0) -> 0.22727273 | AF16: 19 | AG16: 66 | AH16: 5 | AI16: 10 | AJ16: 0 | AK16: 1 | AL16: 1 | AM16: 5 | AN16: 1 | AO16: 24 | AP16: 0 | AQ16: 0 | AR16: 2 | AS16: =IFERROR((NYY_H304[[#This Row],[H]]-NYY_H304[[#This Row],[2B]]-NYY_H304[[#This Row],[3B]]-NYY_H304[[#This Row],[HR]])+(NYY_H304[[#This Row],[2B]]*2)+(NYY_H304[[#This Row],[3B]]*3)+(NYY_H304[[#This Row],[HR]]*4),0) -> 15 | AT16: =NYY_H304[[#This Row],[OBP]]+NYY_H304[[#This Row],[SLG]] -> 0.39145183 | AU16: 1 | AV16: 13 | AY16: NYY | AZ16: OF | BA16: C. Frazier | BB16: =IFERROR(NYY_H217[[#This Row],[H]]/NYY_H217[[#This Row],[AB]],0) -> 0.35714286 | BC16: =IFERROR((NYY_H217[[#This Row],[BB]]+NYY_H217[[#This Row],[H]])/(NYY_H217[[#This Row],[AB]]+NYY_H217[[#This Row],[BB]]),0) -> 0.4 | BD16: =IFERROR(((NYY_H217[[#This Row],[H]]-NYY_H217[[#This Row],[2B]]-NYY_H217[[#This Row],[3B]]-NYY_H217[[#This Row],[HR]])+(NYY_H217[[#This Row],[2B]]*2)+(NYY_H217[[#This Row],[3B]]*3)+(NYY_H217[[#This Row],[HR]]*4))/NYY_H217[[#This Row],[AB]],0) -> 0.5 | BE16: 17 | BF16: 42 | BG16: 7 | BH16: 15 | BI16: 3 | BJ16: =0 -> 0 | BK16: 1 | BL16: 6 | BM16: 3 | BN16: 9 | BO16: 0 | BP16: 0 | BQ16: 9 | BR16: =IFERROR((BH16-BI16-BJ16-BK16)+(BI16*2)+(BJ16*3)+(BK16*4),0) -> 21 | BS16: =IFERROR(NYY_H217[[#This Row],[OBP]]+NYY_H217[[#This Row],[SLG]],0) -> 0.9 | BT16: 0 | BU16: 13
A17: NYY | B17: OF | C17: A. Hicks | D17: =IFERROR((NYY_H[[#This Row],[H]]/NYY_H[[#This Row],[AB]]),0) -> 0.19047619 | E17: =IFERROR((NYY_H[[#This Row],[H]]+NYY_H[[#This Row],[BB]])/(NYY_H[[#This Row],[AB]]+NYY_H[[#This Row],[BB]]),) -> 0.34615385 | F17: =IFERROR(((NYY_H[[#This Row],[H]]-NYY_H[[#This Row],[2B]]-NYY_H[[#This Row],[3B]]-NYY_H[[#This Row],[HR]])+(NYY_H[[#This Row],[2B]]*2)+(NYY_H[[#This Row],[3B]]*3)+(NYY_H[[#This Row],[HR]]*4))/NYY_H[[#This Row],[AB]],0) -> 0.23809524 | G17: 12 | H17: 21 | I17: 0 | J17: 4 | K17: 1 | L17: 0 | M17: 0 | N17: 1 | O17: 5 | P17: 11 | Q17: 0 | R17: 1 | S17: 1 | T17: =IFERROR((NYY_H[[#This Row],[H]]-NYY_H[[#This Row],[2B]]-NYY_H[[#This Row],[3B]]-NYY_H[[#This Row],[HR]])+(NYY_H[[#This Row],[2B]]*2)+(NYY_H[[#This Row],[3B]]*3)+(NYY_H[[#This Row],[HR]]*4),0) -> 5 | U17: =NYY_H[[#This Row],[OBP]]+NYY_H[[#This Row],[SLG]] -> 0.58424908 | V17: 0 | W17: 14 | Z17: NYY | AA17: OF | AB17: B. Gardner | AC17: =IFERROR((NYY_H304[[#This Row],[H]]/NYY_H304[[#This Row],[AB]]),0) -> 0.22727273 | AD17: =IFERROR((NYY_H304[[#This Row],[H]]+NYY_H304[[#This Row],[BB]])/(NYY_H304[[#This Row],[AB]]+NYY_H304[[#This Row],[BB]]),) -> 0.30612245 | AE17: =IFERROR(((NYY_H304[[#This Row],[H]]-NYY_H304[[#This Row],[2B]]-NYY_H304[[#This Row],[3B]]-NYY_H304[[#This Row],[HR]])+(NYY_H304[[#This Row],[2B]]*2)+(NYY_H304[[#This Row],[3B]]*3)+(NYY_H304[[#This Row],[HR]]*4))/NYY_H304[[#This Row],[AB]],0) -> 0.40909091 | AF17: 16 | AG17: 44 | AH17: 6 | AI17: 10 | AJ17: 5 | AK17: 0 | AL17: 1 | AM17: 2 | AN17: 5 | AO17: 11 | AP17: 1 | AQ17: 1 | AR17: 4 | AS17: =IFERROR((NYY_H304[[#This Row],[H]]-NYY_H304[[#This Row],[2B]]-NYY_H304[[#This Row],[3B]]-NYY_H304[[#This Row],[HR]])+(NYY_H304[[#This Row],[2B]]*2)+(NYY_H304[[#This Row],[3B]]*3)+(NYY_H304[[#This Row],[HR]]*4),0) -> 18 | AT17: =NYY_H304[[#This Row],[OBP]]+NYY_H304[[#This Row],[SLG]] -> 0.71521336 | AU17: 0 | AV17: 14 | AY17: NYY | AZ17: OF | BA17: B. Gardner | BB17: =IFERROR(NYY_H217[[#This Row],[H]]/NYY_H217[[#This Row],[AB]],0) -> 0.296875 | BC17: =IFERROR((NYY_H217[[#This Row],[BB]]+NYY_H217[[#This Row],[H]])/(NYY_H217[[#This Row],[AB]]+NYY_H217[[#This Row],[BB]]),0) -> 0.38356164 | BD17: =IFERROR(((NYY_H217[[#This Row],[H]]-NYY_H217[[#This Row],[2B]]-NYY_H217[[#This Row],[3B]]-NYY_H217[[#This Row],[HR]])+(NYY_H217[[#This Row],[2B]]*2)+(NYY_H217[[#This Row],[3B]]*3)+(NYY_H217[[#This Row],[HR]]*4))/NYY_H217[[#This Row],[AB]],0) -> 0.34375 | BE17: 31 | BF17: 64 | BG17: 11 | BH17: 19 | BI17: 3 | BJ17: 0 | BK17: 0 | BL17: 5 | BM17: 9 | BN17: 17 | BO17: 8 | BP17: 0 | BQ17: 3 | BR17: =IFERROR((BH17-BI17-BJ17-BK17)+(BI17*2)+(BJ17*3)+(BK17*4),0) -> 22 | BS17: =IFERROR(NYY_H217[[#This Row],[OBP]]+NYY_H217[[#This Row],[SLG]],0) -> 0.72731164 | BT17: 0 | BU17: 14
C18: TOTALS | D18: =J18/H18 -> 0.26790831 | E18: =(J18+O18)/(O18+H18) -> 0.34191887 | F18: =((J18-K18-L18-M18)+(K18*2)+(L18*3)+(M18*4))/H18 -> 0.44770774 | H18: =SUBTOTAL(109,NYY_H[AB]) -> 1396 | I18: =SUBTOTAL(109,NYY_H[R]) -> 183 | J18: =SUBTOTAL(109,NYY_H[H]) -> 374 | K18: =SUBTOTAL(109,NYY_H[2B]) -> 80 | L18: =SUBTOTAL(109,NYY_H[3B]) -> 6 | M18: =SUBTOTAL(109,NYY_H[HR]) -> 53 | N18: =SUBTOTAL(109,NYY_H[RBI]) -> 179 | O18: =SUBTOTAL(109,NYY_H[BB]) -> 157 | P18: =SUBTOTAL(109,NYY_H[K]) -> 383 | Q18: =SUBTOTAL(109,NYY_H[SB]) -> 5 | T18: =SUBTOTAL(109,NYY_H[TB]) -> 625 | U18: =E18+F18 -> 0.7896266 | V18: =SUBTOTAL(109,NYY_H[*]) -> 24 | AB18: TOTALS | AC18: =AI18/AG18 -> 0.2571644 | AD18: =(AI18+AN18)/(AN18+AG18) -> 0.32068966 | AE18: =((AI18-AJ18-AK18-AL18)+(AJ18*2)+(AK18*3)+(AL18*4))/AG18 -> 0.42986425 | AG18: =SUBTOTAL(109,NYY_H304[AB]) -> 1326 | AH18: =SUBTOTAL(109,NYY_H304[R]) -> 170 | AI18: =SUBTOTAL(109,NYY_H304[H]) -> 341 | AJ18: =SUBTOTAL(109,NYY_H304[2B]) -> 70 | AK18: =SUBTOTAL(109,NYY_H304[3B]) -> 6 | AL18: =SUBTOTAL(109,NYY_H304[HR]) -> 49 | AM18: =SUBTOTAL(109,NYY_H304[RBI]) -> 167 | AN18: =SUBTOTAL(109,NYY_H304[BB]) -> 124 | AO18: =SUBTOTAL(109,NYY_H304[K]) -> 362 | AP18: =SUBTOTAL(109,NYY_H304[SB]) -> 8 | AS18: =SUBTOTAL(109,NYY_H304[TB]) -> 570 | AT18: =AD18+AE18 -> 0.75055391 | AU18: =SUBTOTAL(109,NYY_H304[*]) -> 21 | BA18: TOTALS | BB18: =IFERROR(BH18/BF18,0) -> 0.26171593 | BC18: =IFERROR((BH18+BM18)/(BF18+BM18),0) -> 0.33935484 | BD18: =IFERROR(((BH18-BI18-BJ18-BK18)+(BI18*2)+(BJ18*3)+(BK18*4))/BF18,0) -> 0.45205479 | BF18: =SUM(BF4:BF17) -> 1387 | BG18: =SUM(BG4:BG17) -> 202 | BH18: =SUM(BH4:BH17) -> 363 | BI18: =SUM(BI4:BI17) -> 65 | BJ18: =SUM(BJ4:BJ17) -> 2 | BK18: =SUM(BK4:BK17) -> 65 | BL18: =SUM(BL4:BL17) -> 200 | BM18: =SUM(BM4:BM17) -> 163 | ... BO18: =SUM(BO4:BO17) -> 13 | BR18: =IFERROR((BH18-BI18-BJ18-BK18)+(BI18*2)+(BJ18*3)+(BK18*4),0) -> 627 | BS18: =IFERROR(BC18+BD18,0) -> 0.79140963 | BT18: =SUBTOTAL(109,NYY_H217[*]) -> 23
A20: TM | B20: @ | C20: NAME | D20: ERA | E20: W | F20: L | G20: G | H20: IP | I20: H | J20: R | K20: BB | L20: K | M20: SV | N20: WH | O20: QS | P20: UQ | Q20: CG | R20: SH | S20: # | Z20: TM | AA20: @ | AB20: NAME | AC20: ERA | AD20: W | AE20: L | AF20: G | AG20: IP | AH20: H | AI20: R | AJ20: BB | AK20: K | AL20: SV | AM20: WH | AN20: QS | AO20: UQ | AP20: CG | AQ20: SH | AR20: # | AY20: TM | AZ20: @ | BA20: NAME | BB20: ERA | BC20: W | BD20: L | BE20: G | BF20: IP | BG20: H | BH20: R | BI20: BB | BJ20: K | BK20: SV | BL20: WH | BM20: QS | BN20: UQ | BO20: CG | BP20: SH | BQ20: #
A21: NYY | B21: SP | C21: G. Cole | D21: =IFERROR((NYY_P[[#This Row],[R]]*9)/NYY_P[[#This Row],[IP]],0) -> 2.3641642 | E21: 7 | F21: 1 | G21: 10 | H21: 72.33 | I21: 57 | J21: 19 | K21: 21 | L21: 90 | M21: 0 | N21: =IFERROR((NYY_P[[#This Row],[BB]]+NYY_P[[#This Row],[H]])/NYY_P[[#This Row],[IP]],) -> 1.0783907 | O21: 7 | P21: 7 | Q21: 2 | R21: 2 | S21: 1 | Z21: NYY | AA21: SP | AB21: G. Cole | AC21: =IFERROR((NYY_P305[[#This Row],[R]]*9)/NYY_P305[[#This Row],[IP]],0) -> 1.4936806 | AD21: 6 | AE21: 2 | AF21: 10 | AG21: 78.33 | AH21: 42 | AI21: 13 | AJ21: 24 | AK21: 103 | AL21: 0 | AM21: =IFERROR((NYY_P305[[#This Row],[BB]]+NYY_P305[[#This Row],[H]])/NYY_P305[[#This Row],[IP]],) -> 0.84258905 | AN21: 9 | AO21: 6 | AP21: 3 | AQ21: 2 | AR21: 1 | AY21: NYY | AZ21: SP | BA21: G. Cole | BB21: =IFERROR((NYY_P218[[#This Row],[R]]*9)/NYY_P218[[#This Row],[IP]],0) -> 3.1838121 | BC21: 3 | BD21: 4 | BE21: 10 | BF21: 70.67 | BG21: 54 | BH21: 25 | BI21: 15 | BJ21: 92 | BK21: 0 | BL21: =IFERROR((NYY_P218[[#This Row],[BB]]+NYY_P218[[#This Row],[H]])/NYY_P218[[#This Row],[IP]],0) -> 0.97636904 | BM21: 7 | BN21: 5 | BO21: 2 | BP21: 1 | BQ21: 1
A22: NYY | B22: SP | C22: N. Cortes | D22: =IFERROR((NYY_P[[#This Row],[R]]*9)/NYY_P[[#This Row],[IP]],0) -> 5.2051328 | E22: 1 | F22: 3 | G22: 10 | H22: 55.33 | I22: 71 | J22: 32 | K22: 14 | L22: 52 | M22: 0 | N22: =IFERROR((NYY_P[[#This Row],[BB]]+NYY_P[[#This Row],[H]])/NYY_P[[#This Row],[IP]],) -> 1.5362371 | O22: 4 | P22: 0 | Q22: 0 | R22: 0 | S22: 2 | Z22: NYY | AA22: SP | AB22: N. Cortes | AC22: =IFERROR((NYY_P305[[#This Row],[R]]*9)/NYY_P305[[#This Row],[IP]],0) -> 2.6599675 | AD22: 4 | AE22: 3 | AF22: 10 | AG22: 67.67 | AH22: 54 | AI22: 20 | AJ22: 15 | AK22: 73 | AL22: 0 | AM22: =IFERROR((NYY_P305[[#This Row],[BB]]+NYY_P305[[#This Row],[H]])/NYY_P305[[#This Row],[IP]],) -> 1.0196542 | AN22: 9 | AO22: 4 | AP22: 1 | AQ22: 1 | AR22: 2 | AY22: NYY | AZ22: SP | BA22: L. Severino | BB22: =IFERROR((NYY_P218[[#This Row],[R]]*9)/NYY_P218[[#This Row],[IP]],0) -> 3.1764706 | BC22: 6 | BD22: 2 | BE22: 10 | BF22: 68 | BG22: 48 | BH22: 24 | BI22: 15 | BJ22: 74 | BK22: 0 | BL22: =IFERROR((NYY_P218[[#This Row],[BB]]+NYY_P218[[#This Row],[H]])/NYY_P218[[#This Row],[IP]],0) -> 0.92647059 | BM22: 8 | BN22: 5 | BO22: 2 | BP22: 2 | BQ22: 2
A23: NYY | B23: SP | C23: L. Severino | D23: =IFERROR((NYY_P[[#This Row],[R]]*9)/NYY_P[[#This Row],[IP]],0) -> 4.9655172 | E23: 1 | F23: 3 | G23: 10 | H23: 58 | I23: 66 | J23: 32 | K23: 22 | L23: 57 | M23: 0 | N23: =IFERROR((NYY_P[[#This Row],[BB]]+NYY_P[[#This Row],[H]])/NYY_P[[#This Row],[IP]],) -> 1.5172414 | O23: 5 | P23: 3 | Q23: 0 | R23: 0 | S23: 3 | Z23: NYY | AA23: SP | AB23: L. Severino | AC23: =IFERROR((NYY_P305[[#This Row],[R]]*9)/NYY_P305[[#This Row],[IP]],0) -> 5.2537701 | AD23: 1 | AE23: 5 | AF23: 10 | AG23: 61.67 | AH23: 76 | AI23: 36 | AJ23: 17 | AK23: 64 | AL23: 0 | AM23: =IFERROR((NYY_P305[[#This Row],[BB]]+NYY_P305[[#This Row],[H]])/NYY_P305[[#This Row],[IP]],) -> 1.5080266 | AN23: 4 | AO23: 3 | AP23: 1 | AQ23: 1 | AR23: 3 | AY23: NYY | AZ23: SP | BA23: J. Montgomery | BB23: =IFERROR((NYY_P218[[#This Row],[R]]*9)/NYY_P218[[#This Row],[IP]],0) -> 4.4486109 | BC23: 6 | BD23: 3 | BE23: 10 | BF23: 58.67 | BG23: 69 | BH23: 29 | BI23: 11 | BJ23: 54 | BK23: 0 | BL23: =IFERROR((NYY_P218[[#This Row],[BB]]+NYY_P218[[#This Row],[H]])/NYY_P218[[#This Row],[IP]],0) -> 1.3635589 | BM23: 6 | BN23: 1 | BO23: 0 | BP23: 0 | BQ23: 3
A24: NYY | B24: SP | C24: M. Tanaka | D24: =IFERROR((NYY_P[[#This Row],[R]]*9)/NYY_P[[#This Row],[IP]],0) -> 3.5803083 | E24: 4 | F24: 3 | G24: 10 | H24: 60.33 | I24: 50 | J24: 24 | K24: 19 | L24: 50 | M24: 0 | N24: =IFERROR((NYY_P[[#This Row],[BB]]+NYY_P[[#This Row],[H]])/NYY_P[[#This Row],[IP]],) -> 1.1437096 | O24: 6 | P24: 3 | Q24: 0 | R24: 0 | S24: 4 | Z24: NYY | AA24: SP | AB24: M. Tanaka | AC24: =IFERROR((NYY_P305[[#This Row],[R]]*9)/NYY_P305[[#This Row],[IP]],0) -> 4.5789474 | AD24: 4 | AE24: 2 | AF24: 10 | AG24: 57 | AH24: 67 | AI24: 29 | AJ24: 16 | AK24: 43 | AL24: 0 | AM24: =IFERROR((NYY_P305[[#This Row],[BB]]+NYY_P305[[#This Row],[H]])/NYY_P305[[#This Row],[IP]],) -> 1.4561404 | AN24: 6 | AO24: 2 | AP24: 0 | AQ24: 0 | AR24: 4 | AY24: NYY | AZ24: SP | BA24: M. Tanaka | BB24: =IFERROR((NYY_P218[[#This Row],[R]]*9)/NYY_P218[[#This Row],[IP]],0) -> 6.7504964 | BC24: 3 | BD24: 4 | BE24: 9 | BF24: 45.33 | BG24: 66 | BH24: 34 | BI24: 12 | BJ24: 43 | BK24: 0 | BL24: =IFERROR((NYY_P218[[#This Row],[BB]]+NYY_P218[[#This Row],[H]])/NYY_P218[[#This Row],[IP]],0) -> 1.7207148 | BM24: 4 | BN24: 0 | BO24: 0 | BP24: 0 | BQ24: 4
A25: NYY | B25: RP® | C25: G. Weissert | D25: =IFERROR((NYY_P[[#This Row],[R]]*9)/NYY_P[[#This Row],[IP]],0) -> 0 | E25: 0 | F25: 0 | G25: 0 | H25: 0 | I25: 0 | J25: 0 | K25: 0 | L25: 0 | M25: 0 | N25: =IFERROR((NYY_P[[#This Row],[BB]]+NYY_P[[#This Row],[H]])/NYY_P[[#This Row],[IP]],) -> 0 | O25: 0 | P25: 0 | Q25: 0 | R25: 0 | S25: 5 | Z25: NYY | AA25: RP | AB25: D. German | AC25: =IFERROR((NYY_P305[[#This Row],[R]]*9)/NYY_P305[[#This Row],[IP]],0) -> 0 | AD25: 0 | AE25: 0 | AF25: 0 | AG25: 0 | AH25: 0 | AI25: 0 | AJ25: 0 | AK25: 0 | AL25: 0 | AM25: =IFERROR((NYY_P305[[#This Row],[BB]]+NYY_P305[[#This Row],[H]])/NYY_P305[[#This Row],[IP]],) -> 0 | AN25: 0 | AO25: 0 | AP25: 0 | AQ25: 0 | AR25: 5 | AY25: NYY | AZ25: RP | BA25: N. Cortes | BB25: =IFERROR((NYY_P218[[#This Row],[R]]*9)/NYY_P218[[#This Row],[IP]],0) -> 5.4782609 | BC25: 1 | BD25: 0 | BE25: 10 | BF25: 23 | BG25: 26 | BH25: 14 | BI25: 10 | BJ25: 29 | BK25: 0 | BL25: =IFERROR((NYY_P218[[#This Row],[BB]]+NYY_P218[[#This Row],[H]])/NYY_P218[[#This Row],[IP]],0) -> 1.5652174 | BM25: 0 | BN25: 0 | BO25: 0 | BP25: 0 | BQ25: 5
A26: NYY | B26: RP | C26: C. Schmidt | D26: =IFERROR((NYY_P[[#This Row],[R]]*9)/NYY_P[[#This Row],[IP]],0) -> 2.1318595 | E26: 2 | F26: 0 | G26: 14 | H26: 25.33 | I26: 22 | J26: 6 | K26: 6 | L26: 25 | M26: 0 | N26: =IFERROR((NYY_P[[#This Row],[BB]]+NYY_P[[#This Row],[H]])/NYY_P[[#This Row],[IP]],) -> 1.1054086 | O26: 0 | P26: 0 | Q26: 0 | R26: 0 | S26: 6 | Z26: NYY | AA26: RP | AB26: C. Schmidt | AC26: =IFERROR((NYY_P305[[#This Row],[R]]*9)/NYY_P305[[#This Row],[IP]],0) -> 8.5240726 | AD26: 0 | AE26: 0 | AF26: 7 | AG26: 12.67 | AH26: 16 | AI26: 12 | AJ26: 4 | AK26: 3 | AL26: 0 | AM26: =IFERROR((NYY_P305[[#This Row],[BB]]+NYY_P305[[#This Row],[H]])/NYY_P305[[#This Row],[IP]],) -> 1.578532 | AN26: 0 | AO26: 0 | AP26: 0 | AQ26: 0 | AR26: 6 | AY26: NYY | AZ26: RP® | BA26: C. Schmidt | BB26: =IFERROR((NYY_P218[[#This Row],[R]]*9)/NYY_P218[[#This Row],[IP]],0) -> 10.380623 | BC26: 0 | BD26: 0 | BE26: 6 | BF26: 8.67 | BG26: 7 | BH26: 10 | BI26: 7 | BJ26: 12 | BK26: 0 | BL26: =IFERROR((NYY_P218[[#This Row],[BB]]+NYY_P218[[#This Row],[H]])/NYY_P218[[#This Row],[IP]],0) -> 1.6147636 | BM26: 0 | BN26: 0 | BO26: 0 | BP26: 0 | BQ26: 6
A27: NYY | B27: RP® | C27: L. Gil | D27: =IFERROR((NYY_P[[#This Row],[R]]*9)/NYY_P[[#This Row],[IP]],0) -> 2.7391304 | E27: 1 | F27: 0 | G27: 12 | H27: 23 | I27: 13 | J27: 7 | K27: 16 | L27: 29 | M27: 0 | N27: =IFERROR((NYY_P[[#This Row],[BB]]+NYY_P[[#This Row],[H]])/NYY_P[[#This Row],[IP]],) -> 1.2608696 | O27: 0 | P27: 0 | Q27: 0 | R27: 0 | S27: 7 | Z27: NYY | AA27: RP | AB27: M. King | AC27: =IFERROR((NYY_P305[[#This Row],[R]]*9)/NYY_P305[[#This Row],[IP]],0) -> 4.3777868 | AD27: 1 | AE27: 3 | AF27: 13 | AG27: 24.67 | AH27: 21 | AI27: 12 | AJ27: 9 | AK27: 25 | AL27: 0 | AM27: =IFERROR((NYY_P305[[#This Row],[BB]]+NYY_P305[[#This Row],[H]])/NYY_P305[[#This Row],[IP]],) -> 1.2160519 | AN27: 0 | AO27: 0 | AP27: 0 | AQ27: 0 | AR27: 7 | AY27: NYY | AZ27: RP | BA27: M. King | BB27: =IFERROR((NYY_P218[[#This Row],[R]]*9)/NYY_P218[[#This Row],[IP]],0) -> 6.1875 | BC27: 0 | BD27: 0 | BE27: 12 | BF27: 16 | BG27: 22 | BH27: 11 | BI27: 9 | BJ27: 14 | BK27: 0 | BL27: =IFERROR((NYY_P218[[#This Row],[BB]]+NYY_P218[[#This Row],[H]])/NYY_P218[[#This Row],[IP]],0) -> 1.9375 | BM27: 0 | BN27: 0 | BO27: 0 | BP27: 0 | BQ27: 7
A28: NYY | B28: RP | C28: C. Holmes | D28: =IFERROR((NYY_P[[#This Row],[R]]*9)/NYY_P[[#This Row],[IP]],0) -> 3.1304348 | E28: 3 | F28: 1 | G28: 20 | H28: 23 | I28: 21 | J28: 8 | K28: 9 | L28: 20 | M28: 0 | N28: =IFERROR((NYY_P[[#This Row],[BB]]+NYY_P[[#This Row],[H]])/NYY_P[[#This Row],[IP]],) -> 1.3043478 | O28: 0 | P28: 0 | Q28: 0 | R28: 0 | S28: 8 | Z28: NYY | AA28: RP | AB28: C. Holmes | AC28: =IFERROR((NYY_P305[[#This Row],[R]]*9)/NYY_P305[[#This Row],[IP]],0) -> 4.1179461 | AD28: 2 | AE28: 1 | AF28: 14 | AG28: 19.67 | AH28: 17 | AI28: 9 | AJ28: 8 | AK28: 21 | AL28: 0 | AM28: =IFERROR((NYY_P305[[#This Row],[BB]]+NYY_P305[[#This Row],[H]])/NYY_P305[[#This Row],[IP]],) -> 1.270971 | AN28: 0 | AO28: 0 | AP28: 0 | AQ28: 0 | AR28: 8 | AY28: NYY | AZ28: RP | BA28: C. Holmes | BB28: =IFERROR((NYY_P218[[#This Row],[R]]*9)/NYY_P218[[#This Row],[IP]],0) -> 7.5949367 | BC28: 0 | BD28: 0 | BE28: 20 | BF28: 21.33 | BG28: 31 | BH28: 18 | BI28: 6 | BJ28: 25 | BK28: 0 | BL28: =IFERROR((NYY_P218[[#This Row],[BB]]+NYY_P218[[#This Row],[H]])/NYY_P218[[#This Row],[IP]],0) -> 1.734646 | BM28: 0 | BN28: 0 | BO28: 0 | BP28: 0 | BQ28: 8
A29: NYY | B29: RP | C29: A. Miller | D29: =IFERROR((NYY_P[[#This Row],[R]]*9)/NYY_P[[#This Row],[IP]],0) -> 3.7974684 | E29: 3 | F29: 1 | G29: 20 | H29: 21.33 | I29: 16 | J29: 9 | K29: 3 | L29: 26 | M29: 1 | N29: =IFERROR((NYY_P[[#This Row],[BB]]+NYY_P[[#This Row],[H]])/NYY_P[[#This Row],[IP]],) -> 0.89076418 | O29: 0 | P29: 0 | Q29: 0 | R29: 0 | S29: 9 | Z29: NYY | AA29: RP | AB29: D. Betances | AC29: =IFERROR((NYY_P305[[#This Row],[R]]*9)/NYY_P305[[#This Row],[IP]],0) -> 6.1875 | AD29: 2 | AE29: 1 | AF29: 11 | AG29: 16 | AH29: 20 | AI29: 11 | AJ29: 12 | AK29: 8 | AL29: 0 | AM29: =IFERROR((NYY_P305[[#This Row],[BB]]+NYY_P305[[#This Row],[H]])/NYY_P305[[#This Row],[IP]],) -> 2 | AN29: 0 | AO29: 0 | AP29: 0 | AQ29: 0 | AR29: 9 | AY29: NYY | AZ29: RP | BA29: D. Betances | BB29: =IFERROR((NYY_P218[[#This Row],[R]]*9)/NYY_P218[[#This Row],[IP]],0) -> 1.8835019 | BC29: 3 | BD29: 1 | BE29: 28 | BF29: 28.67 | BG29: 16 | BH29: 6 | BI29: 18 | BJ29: 45 | BK29: 0 | BL29: =IFERROR((NYY_P218[[#This Row],[BB]]+NYY_P218[[#This Row],[H]])/NYY_P218[[#This Row],[IP]],0) -> 1.1859086 | BM29: 0 | BN29: 0 | BO29: 0 | BP29: 0 | BQ29: 9
A30: NYY | B30: RP | C30: A. Chapman | D30: =IFERROR((NYY_P[[#This Row],[R]]*9)/NYY_P[[#This Row],[IP]],0) -> 4.2434634 | E30: 2 | F30: 4 | G30: 23 | H30: 23.33 | I30: 17 | J30: 11 | K30: 16 | L30: 30 | M30: 7 | N30: =IFERROR((NYY_P[[#This Row],[BB]]+NYY_P[[#This Row],[H]])/NYY_P[[#This Row],[IP]],) -> 1.4144878 | O30: 0 | P30: 0 | Q30: 0 | R30: 0 | S30: 10 | Z30: NYY | AA30: RP | AB30: A. Chapman | AC30: =IFERROR((NYY_P305[[#This Row],[R]]*9)/NYY_P305[[#This Row],[IP]],0) -> 1.4024153 | AD30: 1 | AE30: 2 | AF30: 22 | AG30: 25.67 | AH30: 14 | AI30: 4 | AJ30: 16 | AK30: 38 | AL30: 6 | AM30: =IFERROR((NYY_P305[[#This Row],[BB]]+NYY_P305[[#This Row],[H]])/NYY_P305[[#This Row],[IP]],) -> 1.1686794 | AN30: 0 | AO30: 0 | AP30: 0 | AQ30: 0 | AR30: 10 | AY30: NYY | AZ30: RP | BA30: A. Chapman | BB30: =IFERROR((NYY_P218[[#This Row],[R]]*9)/NYY_P218[[#This Row],[IP]],0) -> 2.3478261 | BC30: 1 | BD30: 3 | BE30: 23 | BF30: 23 | BG30: 11 | BH30: 6 | BI30: 17 | BJ30: 34 | BK30: 6 | BL30: =IFERROR((NYY_P218[[#This Row],[BB]]+NYY_P218[[#This Row],[H]])/NYY_P218[[#This Row],[IP]],0) -> 1.2173913 | BM30: 0 | BN30: 0 | BO30: 0 | BP30: 0 | BQ30: 10
C31: TOTALS | D31: =(J31*9)/H31 -> 3.6797613 | E31: =SUBTOTAL(109,NYY_P[W]) -> 24 | F31: =SUBTOTAL(109,NYY_P[L]) -> 16 | H31: =SUBTOTAL(109,NYY_P[IP]) -> 361.98 | I31: =SUBTOTAL(109,NYY_P[H]) -> 333 | J31: =SUBTOTAL(109,NYY_P[R]) -> 148 | K31: =SUBTOTAL(109,NYY_P[BB]) -> 126 | L31: =SUBTOTAL(109,NYY_P[K]) -> 379 | M31: =SUBTOTAL(109,NYY_P[SV]) -> 8 | N31: =(K31+I31)/H31 -> 1.2680259 | O31: =SUBTOTAL(109,NYY_P[QS]) -> 22 | P31: =SUBTOTAL(109,NYY_P[UQ]) -> 13 | Q31: =SUBTOTAL(109,NYY_P[CG]) -> 2 | R31: =SUBTOTAL(109,NYY_P[SH]) -> 2 | AB31: TOTALS | AC31: =(AI31*9)/AG31 -> 3.6163479 | AD31: =SUBTOTAL(109,NYY_P305[W]) -> 21 | AE31: =SUBTOTAL(109,NYY_P305[L]) -> 19 | AG31: =SUBTOTAL(109,NYY_P305[IP]) -> 363.35 | AH31: =SUBTOTAL(109,NYY_P305[H]) -> 327 | AI31: =SUBTOTAL(109,NYY_P305[R]) -> 146 | AJ31: =SUBTOTAL(109,NYY_P305[BB]) -> 121 | AK31: =SUBTOTAL(109,NYY_P305[K]) -> 378 | AL31: =SUBTOTAL(109,NYY_P305[SV]) -> 6 | AM31: =(AJ31+AH31)/AG31 -> 1.232971 | AN31: =SUBTOTAL(109,NYY_P305[QS]) -> 28 | AO31: =SUBTOTAL(109,NYY_P305[UQ]) -> 15 | AP31: =SUBTOTAL(109,NYY_P305[CG]) -> 5 | AQ31: =SUBTOTAL(109,NYY_P305[SH]) -> 4 | BA31: TOTALS | BB31: =IFERROR((BH31*9)/BF31,0) -> 4.3843232 | BC31: =SUM(BC21:BC30) -> 23 | BD31: =SUM(BD21:BD30) -> 17 | BF31: =SUM(BF21:BF30) -> 363.34 | BG31: =SUM(BG21:BG30) -> 350 | BH31: =SUBTOTAL(109,NYY_P218[R]) -> 177 | BI31: =SUM(BI21:BI30) -> 120 | BJ31: =SUM(BJ21:BJ30) -> 422 | BK31: =SUM(BK21:BK30) -> 6 | BL31: =(BI31+BG31)/BF31 -> 1.2935542 | BM31: =SUM(BM21:BM30) -> 25 | BN31: =SUM(BN21:BN30) -> 11 | BO31: =SUM(BO21:BO30) -> 4 | BP31: =SUM(BP21:BP30) -> 3
A33: BOSTON RED SOX 23-17 3rd | Z33: BOSTON RED SOX 25-15 2nd | AY33: BOSTON RED SOX 27-13 *1st*
A34: TM | B34: @ | C34: NAME | D34: BA | E34: OBP | F34: SLG | G34: G | H34: AB | I34: R | J34: H | K34: 2B | L34: 3B | M34: HR | N34: RBI | O34: BB | P34: K | Q34: SB | R34: HS | S34: LS | T34: TB | U34: OPS | V34: * | W34: # | Z34: TM | AA34: @ | AB34: NAME | AC34: BA | AD34: OBP | AE34: SLG | AF34: G | AG34: AB | AH34: R | AI34: H | AJ34: 2B | AK34: 3B | AL34: HR | AM34: RBI | AN34: BB | AO34: K | AP34: SB | AQ34: HS | AR34: LS | AS34: TB | AT34: OPS | AU34: * | AV34: # | AY34: TM | AZ34: @ | BA34: NAME | BB34: BA | BC34: OBP | BD34: SLG | BE34: G | BF34: AB | BG34: R | BH34: H | BI34: 2B | BJ34: 3B | BK34: HR | BL34: RBI | BM34: BB | BN34: K | BO34: SB | BP34: HS | BQ34: LS | BR34: TB | BS34: OPS | BT34: * | BU34: #
A35: BOS | B35: C | C35: J. Varitek | D35: =IFERROR(BOS_H[[#This Row],[H]]/BOS_H[[#This Row],[AB]],0) -> 0.28461538 | E35: =IFERROR((BOS_H[[#This Row],[H]]+BOS_H[[#This Row],[BB]])/(BOS_H[[#This Row],[AB]]+BOS_H[[#This Row],[BB]]),0) -> 0.36734694 | F35: =IFERROR(((BOS_H[[#This Row],[H]]-BOS_H[[#This Row],[2B]]-BOS_H[[#This Row],[3B]]-BOS_H[[#This Row],[HR]])+(BOS_H[[#This Row],[2B]]*2)+(BOS_H[[#This Row],[3B]]*3)+(BOS_H[[#This Row],[HR]]*4))/BOS_H[[#This Row],[AB]],0) -> 0.45384615 | G35: 38 | H35: 130 | I35: 20 | J35: 37 | K35: 10 | L35: 0 | M35: 4 | N35: 14 | O35: 17 | P35: 39 | Q35: 0 | R35: 3 | S35: 8 | T35: =IFERROR((BOS_H[[#This Row],[H]]-BOS_H[[#This Row],[2B]]-BOS_H[[#This Row],[3B]]-BOS_H[[#This Row],[HR]])+(BOS_H[[#This Row],[2B]]*2)+(BOS_H[[#This Row],[3B]]*3)+(BOS_H[[#This Row],[HR]]*4),0) -> 59 | U35: =BOS_H[[#This Row],[OBP]]+BOS_H[[#This Row],[SLG]] -> 0.82119309 | V35: 1 | W35: 1 | Z35: BOS | AA35: C | AB35: J. Varitek | AC35: =IFERROR(BOS_H299[[#This Row],[H]]/BOS_H299[[#This Row],[AB]],0) -> 0.21875 | AD35: =IFERROR((BOS_H299[[#This Row],[H]]+BOS_H299[[#This Row],[BB]])/(BOS_H299[[#This Row],[AB]]+BOS_H299[[#This Row],[BB]]),0) -> 0.31506849 | AE35: =IFERROR(((BOS_H299[[#This Row],[H]]-BOS_H299[[#This Row],[2B]]-BOS_H299[[#This Row],[3B]]-BOS_H299[[#This Row],[HR]])+(BOS_H299[[#This Row],[2B]]*2)+(BOS_H299[[#This Row],[3B]]*3)+(BOS_H299[[#This Row],[HR]]*4))/BOS_H299[[#This Row],[AB]],0) -> 0.3125 | AF35: 38 | AG35: 128 | AH35: 12 | AI35: 28 | AJ35: 6 | AK35: 0 | AL35: 2 | AM35: 14 | AN35: 18 | AO35: 30 | AP35: 0 | AQ35: 0 | AR35: 4 | AS35: =IFERROR((BOS_H299[[#This Row],[H]]-BOS_H299[[#This Row],[2B]]-BOS_H299[[#This Row],[3B]]-BOS_H299[[#This Row],[HR]])+(BOS_H299[[#This Row],[2B]]*2)+(BOS_H299[[#This Row],[3B]]*3)+(BOS_H299[[#This Row],[HR]]*4),0) -> 40 | AT35: =BOS_H299[[#This Row],[OBP]]+BOS_H299[[#This Row],[SLG]] -> 0.62756849 | AU35: 0 | AV35: 1 | AY35: BOS | AZ35: C | BA35: J. Varitek | BB35: =IFERROR(BOS_H212[[#This Row],[H]]/BOS_H212[[#This Row],[AB]],0) -> 0.26315789 | BC35: =IFERROR((BOS_H212[[#This Row],[BB]]+BOS_H212[[#This Row],[H]])/(BOS_H212[[#This Row],[AB]]+BOS_H212[[#This Row],[BB]]),0) -> 0.38235294 | BD35: =IFERROR(((BOS_H212[[#This Row],[H]]-BOS_H212[[#This Row],[2B]]-BOS_H212[[#This Row],[3B]]-BOS_H212[[#This Row],[HR]])+(BOS_H212[[#This Row],[2B]]*2)+(BOS_H212[[#This Row],[3B]]*3)+(BOS_H212[[#This Row],[HR]]*4))/BOS_H212[[#This Row],[AB]],0) -> 0.42105263 | BE35: 38 | BF35: 114 | BG35: 20 | BH35: 30 | BI35: 12 | BJ35: =0 -> 0 | BK35: 2 | BL35: 12 | BM35: 22 | BN35: 29 | BO35: 0 | BP35: 0 | BQ35: 7 | BR35: =IFERROR((BH35-BI35-BJ35-BK35)+(BI35*2)+(BJ35*3)+(BK35*4),0) -> 48 | BS35: =IFERROR(BOS_H212[[#This Row],[OBP]]+BOS_H212[[#This Row],[SLG]],0) -> 0.80340557 | BT35: 0 | BU35: 1
A36: BOS | B36: 3B | C36: W. Boggs | D36: =IFERROR(BOS_H[[#This Row],[H]]/BOS_H[[#This Row],[AB]],0) -> 0.36075949 | E36: =IFERROR((BOS_H[[#This Row],[H]]+BOS_H[[#This Row],[BB]])/(BOS_H[[#This Row],[AB]]+BOS_H[[#This Row],[BB]]),0) -> 0.41954023 | F36: =IFERROR(((BOS_H[[#This Row],[H]]-BOS_H[[#This Row],[2B]]-BOS_H[[#This Row],[3B]]-BOS_H[[#This Row],[HR]])+(BOS_H[[#This Row],[2B]]*2)+(BOS_H[[#This Row],[3B]]*3)+(BOS_H[[#This Row],[HR]]*4))/BOS_H[[#This Row],[AB]],0) -> 0.51265823 | G36: 40 | H36: 158 | I36: 24 | J36: 57 | K36: 11 | L36: 2 | M36: 3 | N36: 25 | O36: 16 | P36: 31 | Q36: 0 | R36: 0 | S36: 16 | T36: =IFERROR((BOS_H[[#This Row],[H]]-BOS_H[[#This Row],[2B]]-BOS_H[[#This Row],[3B]]-BOS_H[[#This Row],[HR]])+(BOS_H[[#This Row],[2B]]*2)+(BOS_H[[#This Row],[3B]]*3)+(BOS_H[[#This Row],[HR]]*4),0) -> 81 | U36: =BOS_H[[#This Row],[OBP]]+BOS_H[[#This Row],[SLG]] -> 0.93219846 | V36: 3 | W36: 2 | Z36: BOS | AA36: 3B | AB36: W. Boggs | AC36: =IFERROR(BOS_H299[[#This Row],[H]]/BOS_H299[[#This Row],[AB]],0) -> 0.29824561 | AD36: =IFERROR((BOS_H299[[#This Row],[H]]+BOS_H299[[#This Row],[BB]])/(BOS_H299[[#This Row],[AB]]+BOS_H299[[#This Row],[BB]]),0) -> 0.3814433 | AE36: =IFERROR(((BOS_H299[[#This Row],[H]]-BOS_H299[[#This Row],[2B]]-BOS_H299[[#This Row],[3B]]-BOS_H299[[#This Row],[HR]])+(BOS_H299[[#This Row],[2B]]*2)+(BOS_H299[[#This Row],[3B]]*3)+(BOS_H299[[#This Row],[HR]]*4))/BOS_H299[[#This Row],[AB]],0) -> 0.42690058 | AF36: 39 | AG36: 171 | AH36: 25 | AI36: 51 | AJ36: 12 | AK36: 2 | AL36: 2 | AM36: 13 | AN36: 23 | AO36: 29 | AP36: 0 | AQ36: 3 | AR36: 9 | AS36: =IFERROR((BOS_H299[[#This Row],[H]]-BOS_H299[[#This Row],[2B]]-BOS_H299[[#This Row],[3B]]-BOS_H299[[#This Row],[HR]])+(BOS_H299[[#This Row],[2B]]*2)+(BOS_H299[[#This Row],[3B]]*3)+(BOS_H299[[#This Row],[HR]]*4),0) -> 73 | AT36: =BOS_H299[[#This Row],[OBP]]+BOS_H299[[#This Row],[SLG]] -> 0.80834388 | AU36: 2 | AV36: 2 | AY36: BOS | AZ36: 3B | BA36: W. Boggs | BB36: =IFERROR(BOS_H212[[#This Row],[H]]/BOS_H212[[#This Row],[AB]],0) -> 0.34161491 | BC36: =IFERROR((BOS_H212[[#This Row],[BB]]+BOS_H212[[#This Row],[H]])/(BOS_H212[[#This Row],[AB]]+BOS_H212[[#This Row],[BB]]),0) -> 0.40782123 | BD36: =IFERROR(((BOS_H212[[#This Row],[H]]-BOS_H212[[#This Row],[2B]]-BOS_H212[[#This Row],[3B]]-BOS_H212[[#This Row],[HR]])+(BOS_H212[[#This Row],[2B]]*2)+(BOS_H212[[#This Row],[3B]]*3)+(BOS_H212[[#This Row],[HR]]*4))/BOS_H212[[#This Row],[AB]],0) -> 0.49068323 | BE36: 40 | BF36: 161 | BG36: 24 | BH36: 55 | BI36: 13 | BJ36: 1 | BK36: 3 | BL36: 31 | BM36: 18 | BN36: 35 | BO36: 0 | BP36: 0 | BQ36: 13 | BR36: =IFERROR((BH36-BI36-BJ36-BK36)+(BI36*2)+(BJ36*3)+(BK36*4),0) -> 79 | BS36: =IFERROR(BOS_H212[[#This Row],[OBP]]+BOS_H212[[#This Row],[SLG]],0) -> 0.89850446 | BT36: 4 | BU36: 2
A37: BOS | B37: SS® | C37: C. Rafaela | D37: =IFERROR(BOS_H[[#This Row],[H]]/BOS_H[[#This Row],[AB]],0) -> 0.26573427 | E37: =IFERROR((BOS_H[[#This Row],[H]]+BOS_H[[#This Row],[BB]])/(BOS_H[[#This Row],[AB]]+BOS_H[[#This Row],[BB]]),0) -> 0.30921053 | F37: =IFERROR(((BOS_H[[#This Row],[H]]-BOS_H[[#This Row],[2B]]-BOS_H[[#This Row],[3B]]-BOS_H[[#This Row],[HR]])+(BOS_H[[#This Row],[2B]]*2)+(BOS_H[[#This Row],[3B]]*3)+(BOS_H[[#This Row],[HR]]*4))/BOS_H[[#This Row],[AB]],0) -> 0.41958042 | G37: 40 | H37: 143 | I37: 21 | J37: 38 | K37: 5 | L37: 1 | M37: 5 | N37: 17 | O37: 9 | P37: 50 | Q37: 0 | R37: 0 | S37: 12 | T37: =IFERROR((BOS_H[[#This Row],[H]]-BOS_H[[#This Row],[2B]]-BOS_H[[#This Row],[3B]]-BOS_H[[#This Row],[HR]])+(BOS_H[[#This Row],[2B]]*2)+(BOS_H[[#This Row],[3B]]*3)+(BOS_H[[#This Row],[HR]]*4),0) -> 60 | U37: =BOS_H[[#This Row],[OBP]]+BOS_H[[#This Row],[SLG]] -> 0.72879095 | V37: 1 | W37: 3 | Z37: BOS | AA37: SS | AB37: X. Bogaerts | AC37: =IFERROR(BOS_H299[[#This Row],[H]]/BOS_H299[[#This Row],[AB]],0) -> 0.28301887 | AD37: =IFERROR((BOS_H299[[#This Row],[H]]+BOS_H299[[#This Row],[BB]])/(BOS_H299[[#This Row],[AB]]+BOS_H299[[#This Row],[BB]]),0) -> 0.32544379 | AE37: =IFERROR(((BOS_H299[[#This Row],[H]]-BOS_H299[[#This Row],[2B]]-BOS_H299[[#This Row],[3B]]-BOS_H299[[#This Row],[HR]])+(BOS_H299[[#This Row],[2B]]*2)+(BOS_H299[[#This Row],[3B]]*3)+(BOS_H299[[#This Row],[HR]]*4))/BOS_H299[[#This Row],[AB]],0) -> 0.45283019 | AF37: 39 | AG37: 159 | AH37: 21 | AI37: 45 | AJ37: 6 | AK37: 0 | AL37: 7 | AM37: 22 | AN37: 10 | AO37: 42 | AP37: 0 | AQ37: 1 | AR37: 10 | AS37: =IFERROR((BOS_H299[[#This Row],[H]]-BOS_H299[[#This Row],[2B]]-BOS_H299[[#This Row],[3B]]-BOS_H299[[#This Row],[HR]])+(BOS_H299[[#This Row],[2B]]*2)+(BOS_H299[[#This Row],[3B]]*3)+(BOS_H299[[#This Row],[HR]]*4),0) -> 72 | AT37: =BOS_H299[[#This Row],[OBP]]+BOS_H299[[#This Row],[SLG]] -> 0.77827398 | AU37: 4 | AV37: 3 | AY37: BOS | AZ37: SS | BA37: X. Bogaerts | BB37: =IFERROR(BOS_H212[[#This Row],[H]]/BOS_H212[[#This Row],[AB]],0) -> 0.27516779 | BC37: =IFERROR((BOS_H212[[#This Row],[BB]]+BOS_H212[[#This Row],[H]])/(BOS_H212[[#This Row],[AB]]+BOS_H212[[#This Row],[BB]]),0) -> 0.35714286 | BD37: =IFERROR(((BOS_H212[[#This Row],[H]]-BOS_H212[[#This Row],[2B]]-BOS_H212[[#This Row],[3B]]-BOS_H212[[#This Row],[HR]])+(BOS_H212[[#This Row],[2B]]*2)+(BOS_H212[[#This Row],[3B]]*3)+(BOS_H212[[#This Row],[HR]]*4))/BOS_H212[[#This Row],[AB]],0) -> 0.46308725 | BE37: 40 | BF37: 149 | BG37: 24 | BH37: 41 | BI37: 10 | BJ37: =0 -> 0 | BK37: 6 | BL37: 28 | BM37: 19 | BN37: 44 | BO37: 0 | BP37: 6 | BQ37: 7 | BR37: =IFERROR((BH37-BI37-BJ37-BK37)+(BI37*2)+(BJ37*3)+(BK37*4),0) -> 69 | BS37: =IFERROR(BOS_H212[[#This Row],[OBP]]+BOS_H212[[#This Row],[SLG]],0) -> 0.82023011 | BT37: 5 | BU37: 3
A38: BOS | B38: 2B | C38: D. Pedroia | D38: =IFERROR(BOS_H[[#This Row],[H]]/BOS_H[[#This Row],[AB]],0) -> 0.33333333 | E38: =IFERROR((BOS_H[[#This Row],[H]]+BOS_H[[#This Row],[BB]])/(BOS_H[[#This Row],[AB]]+BOS_H[[#This Row],[BB]]),0) -> 0.40983607 | F38: =IFERROR(((BOS_H[[#This Row],[H]]-BOS_H[[#This Row],[2B]]-BOS_H[[#This Row],[3B]]-BOS_H[[#This Row],[HR]])+(BOS_H[[#This Row],[2B]]*2)+(BOS_H[[#This Row],[3B]]*3)+(BOS_H[[#This Row],[HR]]*4))/BOS_H[[#This Row],[AB]],0) -> 0.44444444 | G38: 40 | H38: 162 | I38: 32 | J38: 54 | K38: 12 | L38: 0 | M38: 2 | N38: 15 | O38: 21 | P38: 28 | Q38: 0 | R38: 3 | S38: 8 | T38: =IFERROR((BOS_H[[#This Row],[H]]-BOS_H[[#This Row],[2B]]-BOS_H[[#This Row],[3B]]-BOS_H[[#This Row],[HR]])+(BOS_H[[#This Row],[2B]]*2)+(BOS_H[[#This Row],[3B]]*3)+(BOS_H[[#This Row],[HR]]*4),0) -> 72 | U38: =BOS_H[[#This Row],[OBP]]+BOS_H[[#This Row],[SLG]] -> 0.85428051 | V38: 2 | W38: 4 | Z38: BOS | AA38: 2B | AB38: D. Pedroia | AC38: =IFERROR(BOS_H299[[#This Row],[H]]/BOS_H299[[#This Row],[AB]],0) -> 0.26315789 | AD38: =IFERROR((BOS_H299[[#This Row],[H]]+BOS_H299[[#This Row],[BB]])/(BOS_H299[[#This Row],[AB]]+BOS_H299[[#This Row],[BB]]),0) -> 0.32978723 | AE38: =IFERROR(((BOS_H299[[#This Row],[H]]-BOS_H299[[#This Row],[2B]]-BOS_H299[[#This Row],[3B]]-BOS_H299[[#This Row],[HR]])+(BOS_H299[[#This Row],[2B]]*2)+(BOS_H299[[#This Row],[3B]]*3)+(BOS_H299[[#This Row],[HR]]*4))/BOS_H299[[#This Row],[AB]],0) -> 0.42105263 | AF38: 39 | AG38: 171 | AH38: 24 | AI38: 45 | AJ38: 9 | AK38: 0 | AL38: 6 | AM38: 19 | AN38: 17 | AO38: 24 | AP38: 0 | AQ38: 3 | AR38: 10 | AS38: =IFERROR((BOS_H299[[#This Row],[H]]-BOS_H299[[#This Row],[2B]]-BOS_H299[[#This Row],[3B]]-BOS_H299[[#This Row],[HR]])+(BOS_H299[[#This Row],[2B]]*2)+(BOS_H299[[#This Row],[3B]]*3)+(BOS_H299[[#This Row],[HR]]*4),0) -> 72 | AT38: =BOS_H299[[#This Row],[OBP]]+BOS_H299[[#This Row],[SLG]] -> 0.75083987 | AU38: 3 | AV38: 4 | AY38: BOS | AZ38: 2B | BA38: D. Pedroia | BB38: =IFERROR(BOS_H212[[#This Row],[H]]/BOS_H212[[#This Row],[AB]],0) -> 0.40251572 | BC38: =IFERROR((BOS_H212[[#This Row],[BB]]+BOS_H212[[#This Row],[H]])/(BOS_H212[[#This Row],[AB]]+BOS_H212[[#This Row],[BB]]),0) -> 0.44444444 | BD38: =IFERROR(((BOS_H212[[#This Row],[H]]-BOS_H212[[#This Row],[2B]]-BOS_H212[[#This Row],[3B]]-BOS_H212[[#This Row],[HR]])+(BOS_H212[[#This Row],[2B]]*2)+(BOS_H212[[#This Row],[3B]]*3)+(BOS_H212[[#This Row],[HR]]*4))/BOS_H212[[#This Row],[AB]],0) -> 0.53459119 | BE38: 40 | BF38: 159 | BG38: 31 | BH38: 64 | BI38: 12 | BJ38: 0 | BK38: 3 | BL38: 19 | BM38: 12 | BN38: 20 | BO38: 0 | BP38: 0 | BQ38: 22 | BR38: =IFERROR((BH38-BI38-BJ38-BK38)+(BI38*2)+(BJ38*3)+(BK38*4),0) -> 85 | BS38: =IFERROR(BOS_H212[[#This Row],[OBP]]+BOS_H212[[#This Row],[SLG]],0) -> 0.97903564 | BT38: 4 | BU38: 4
A39: BOS | B39: 1B | C39: R. Devers | D39: =IFERROR(BOS_H[[#This Row],[H]]/BOS_H[[#This Row],[AB]],0) -> 0.22972973 | E39: =IFERROR((BOS_H[[#This Row],[H]]+BOS_H[[#This Row],[BB]])/(BOS_H[[#This Row],[AB]]+BOS_H[[#This Row],[BB]]),0) -> 0.30909091 | F39: =IFERROR(((BOS_H[[#This Row],[H]]-BOS_H[[#This Row],[2B]]-BOS_H[[#This Row],[3B]]-BOS_H[[#This Row],[HR]])+(BOS_H[[#This Row],[2B]]*2)+(BOS_H[[#This Row],[3B]]*3)+(BOS_H[[#This Row],[HR]]*4))/BOS_H[[#This Row],[AB]],0) -> 0.39189189 | G39: 40 | H39: 148 | I39: 16 | J39: 34 | K39: 12 | L39: 0 | M39: 4 | N39: 20 | O39: 17 | P39: 44 | Q39: 0 | R39: 1 | S39: 4 | T39: =IFERROR((BOS_H[[#This Row],[H]]-BOS_H[[#This Row],[2B]]-BOS_H[[#This Row],[3B]]-BOS_H[[#This Row],[HR]])+(BOS_H[[#This Row],[2B]]*2)+(BOS_H[[#This Row],[3B]]*3)+(BOS_H[[#This Row],[HR]]*4),0) -> 58 | U39: =BOS_H[[#This Row],[OBP]]+BOS_H[[#This Row],[SLG]] -> 0.7009828 | V39: 1 | W39: 5 | Z39: BOS | AA39: 1B | AB39: R. Devers | AC39: =IFERROR(BOS_H299[[#This Row],[H]]/BOS_H299[[#This Row],[AB]],0) -> 0.23225806 | AD39: =IFERROR((BOS_H299[[#This Row],[H]]+BOS_H299[[#This Row],[BB]])/(BOS_H299[[#This Row],[AB]]+BOS_H299[[#This Row],[BB]]),0) -> 0.30409357 | AE39: =IFERROR(((BOS_H299[[#This Row],[H]]-BOS_H299[[#This Row],[2B]]-BOS_H299[[#This Row],[3B]]-BOS_H299[[#This Row],[HR]])+(BOS_H299[[#This Row],[2B]]*2)+(BOS_H299[[#This Row],[3B]]*3)+(BOS_H299[[#This Row],[HR]]*4))/BOS_H299[[#This Row],[AB]],0) -> 0.44516129 | AF39: 39 | AG39: 155 | AH39: 19 | AI39: 36 | AJ39: 9 | AK39: 0 | AL39: 8 | AM39: 19 | AN39: 16 | AO39: 44 | AP39: 0 | AQ39: 0 | AR39: 6 | AS39: =IFERROR((BOS_H299[[#This Row],[H]]-BOS_H299[[#This Row],[2B]]-BOS_H299[[#This Row],[3B]]-BOS_H299[[#This Row],[HR]])+(BOS_H299[[#This Row],[2B]]*2)+(BOS_H299[[#This Row],[3B]]*3)+(BOS_H299[[#This Row],[HR]]*4),0) -> 69 | AT39: =BOS_H299[[#This Row],[OBP]]+BOS_H299[[#This Row],[SLG]] -> 0.74925486 | AU39: 3 | AV39: 5 | AY39: BOS | AZ39: 1B | BA39: R. Devers | BB39: =IFERROR(BOS_H212[[#This Row],[H]]/BOS_H212[[#This Row],[AB]],0) -> 0.25531915 | BC39: =IFERROR((BOS_H212[[#This Row],[BB]]+BOS_H212[[#This Row],[H]])/(BOS_H212[[#This Row],[AB]]+BOS_H212[[#This Row],[BB]]),0) -> 0.30463576 | BD39: =IFERROR(((BOS_H212[[#This Row],[H]]-BOS_H212[[#This Row],[2B]]-BOS_H212[[#This Row],[3B]]-BOS_H212[[#This Row],[HR]])+(BOS_H212[[#This Row],[2B]]*2)+(BOS_H212[[#This Row],[3B]]*3)+(BOS_H212[[#This Row],[HR]]*4))/BOS_H212[[#This Row],[AB]],0) -> 0.39716312 | BE39: 36 | BF39: 141 | BG39: 18 | BH39: 36 | BI39: 12 | BJ39: 1 | BK39: 2 | BL39: 19 | BM39: 10 | BN39: 33 | BO39: 0 | BP39: 0 | BQ39: 9 | BR39: =IFERROR((BH39-BI39-BJ39-BK39)+(BI39*2)+(BJ39*3)+(BK39*4),0) -> 56 | BS39: =IFERROR(BOS_H212[[#This Row],[OBP]]+BOS_H212[[#This Row],[SLG]],0) -> 0.70179888 | BT39: 1 | BU39: 5
A40: BOS | B40: LF | C40: M. Yoshida | D40: =IFERROR(BOS_H[[#This Row],[H]]/BOS_H[[#This Row],[AB]],0) -> 0.32258065 | E40: =IFERROR((BOS_H[[#This Row],[H]]+BOS_H[[#This Row],[BB]])/(BOS_H[[#This Row],[AB]]+BOS_H[[#This Row],[BB]]),0) -> 0.37125749 | F40: =IFERROR(((BOS_H[[#This Row],[H]]-BOS_H[[#This Row],[2B]]-BOS_H[[#This Row],[3B]]-BOS_H[[#This Row],[HR]])+(BOS_H[[#This Row],[2B]]*2)+(BOS_H[[#This Row],[3B]]*3)+(BOS_H[[#This Row],[HR]]*4))/BOS_H[[#This Row],[AB]],0) -> 0.55483871 | G40: 40 | H40: 155 | I40: 26 | J40: 50 | K40: 9 | L40: 0 | M40: 9 | N40: 31 | O40: 12 | P40: 24 | Q40: 0 | R40: 2 | S40: 12 | T40: =IFERROR((BOS_H[[#This Row],[H]]-BOS_H[[#This Row],[2B]]-BOS_H[[#This Row],[3B]]-BOS_H[[#This Row],[HR]])+(BOS_H[[#This Row],[2B]]*2)+(BOS_H[[#This Row],[3B]]*3)+(BOS_H[[#This Row],[HR]]*4),0) -> 86 | U40: =BOS_H[[#This Row],[OBP]]+BOS_H[[#This Row],[SLG]] -> 0.92609619 | V40: 4 | W40: 6 | Z40: BOS | AA40: LF® | AB40: M. Yoshida | AC40: =IFERROR(BOS_H299[[#This Row],[H]]/BOS_H299[[#This Row],[AB]],0) -> 0.32432432 | AD40: =IFERROR((BOS_H299[[#This Row],[H]]+BOS_H299[[#This Row],[BB]])/(BOS_H299[[#This Row],[AB]]+BOS_H299[[#This Row],[BB]]),0) -> 0.42857143 | AE40: =IFERROR(((BOS_H299[[#This Row],[H]]-BOS_H299[[#This Row],[2B]]-BOS_H299[[#This Row],[3B]]-BOS_H299[[#This Row],[HR]])+(BOS_H299[[#This Row],[2B]]*2)+(BOS_H299[[#This Row],[3B]]*3)+(BOS_H299[[#This Row],[HR]]*4))/BOS_H299[[#This Row],[AB]],0) -> 0.52027027 | AF40: 40 | AG40: 148 | AH40: 29 | AI40: 48 | AJ40: 8 | AK40: 0 | AL40: 7 | AM40: 18 | AN40: 27 | AO40: 18 | AP40: 0 | AQ40: 0 | AR40: 8 | AS40: =IFERROR((BOS_H299[[#This Row],[H]]-BOS_H299[[#This Row],[2B]]-BOS_H299[[#This Row],[3B]]-BOS_H299[[#This Row],[HR]])+(BOS_H299[[#This Row],[2B]]*2)+(BOS_H299[[#This Row],[3B]]*3)+(BOS_H299[[#This Row],[HR]]*4),0) -> 77 | AT40: =BOS_H299[[#This Row],[OBP]]+BOS_H299[[#This Row],[SLG]] -> 0.9488417 | AU40: 2 | AV40: 6 | AY40: BOS | AZ40: LF | BA40: A. Verdugo | BB40: =IFERROR(BOS_H212[[#This Row],[H]]/BOS_H212[[#This Row],[AB]],0) -> 0.30872483 | BC40: =IFERROR((BOS_H212[[#This Row],[BB]]+BOS_H212[[#This Row],[H]])/(BOS_H212[[#This Row],[AB]]+BOS_H212[[#This Row],[BB]]),0) -> 0.35625 | BD40: =IFERROR(((BOS_H212[[#This Row],[H]]-BOS_H212[[#This Row],[2B]]-BOS_H212[[#This Row],[3B]]-BOS_H212[[#This Row],[HR]])+(BOS_H212[[#This Row],[2B]]*2)+(BOS_H212[[#This Row],[3B]]*3)+(BOS_H212[[#This Row],[HR]]*4))/BOS_H212[[#This Row],[AB]],0) -> 0.47651007 | BE40: 39 | BF40: 149 | BG40: 20 | BH40: 46 | BI40: 10 | BJ40: =0 -> 0 | BK40: 5 | BL40: 17 | BM40: 11 | BN40: 22 | BO40: 0 | BP40: 0 | BQ40: 9 | BR40: =IFERROR((BH40-BI40-BJ40-BK40)+(BI40*2)+(BJ40*3)+(BK40*4),0) -> 71 | BS40: =IFERROR(BOS_H212[[#This Row],[OBP]]+BOS_H212[[#This Row],[SLG]],0) -> 0.83276007 | BT40: 2 | BU40: 6
A41: BOS | B41: CF | C41: J. Duran | D41: =IFERROR(BOS_H[[#This Row],[H]]/BOS_H[[#This Row],[AB]],0) -> 0.30322581 | E41: =IFERROR((BOS_H[[#This Row],[H]]+BOS_H[[#This Row],[BB]])/(BOS_H[[#This Row],[AB]]+BOS_H[[#This Row],[BB]]),0) -> 0.34939759 | F41: =IFERROR(((BOS_H[[#This Row],[H]]-BOS_H[[#This Row],[2B]]-BOS_H[[#This Row],[3B]]-BOS_H[[#This Row],[HR]])+(BOS_H[[#This Row],[2B]]*2)+(BOS_H[[#This Row],[3B]]*3)+(BOS_H[[#This Row],[HR]]*4))/BOS_H[[#This Row],[AB]],0) -> 0.57419355 | G41: 40 | H41: 155 | I41: 18 | J41: 47 | K41: 16 | L41: 4 | M41: 6 | N41: 27 | O41: 11 | P41: 43 | Q41: 5 | R41: 3 | S41: 7 | T41: =IFERROR((BOS_H[[#This Row],[H]]-BOS_H[[#This Row],[2B]]-BOS_H[[#This Row],[3B]]-BOS_H[[#This Row],[HR]])+(BOS_H[[#This Row],[2B]]*2)+(BOS_H[[#This Row],[3B]]*3)+(BOS_H[[#This Row],[HR]]*4),0) -> 89 | U41: =BOS_H[[#This Row],[OBP]]+BOS_H[[#This Row],[SLG]] -> 0.92359114 | V41: 4 | W41: 7 | Z41: BOS | AA41: CF | AB41: A. Verdugo | AC41: =IFERROR(BOS_H299[[#This Row],[H]]/BOS_H299[[#This Row],[AB]],0) -> 0.3525641 | AD41: =IFERROR((BOS_H299[[#This Row],[H]]+BOS_H299[[#This Row],[BB]])/(BOS_H299[[#This Row],[AB]]+BOS_H299[[#This Row],[BB]]),0) -> 0.39156627 | AE41: =IFERROR(((BOS_H299[[#This Row],[H]]-BOS_H299[[#This Row],[2B]]-BOS_H299[[#This Row],[3B]]-BOS_H299[[#This Row],[HR]])+(BOS_H299[[#This Row],[2B]]*2)+(BOS_H299[[#This Row],[3B]]*3)+(BOS_H299[[#This Row],[HR]]*4))/BOS_H299[[#This Row],[AB]],0) -> 0.52564103 | AF41: 39 | AG41: 156 | AH41: 19 | AI41: 55 | AJ41: 15 | AK41: 0 | AL41: 4 | AM41: 23 | AN41: 10 | AO41: 32 | AP41: 0 | AQ41: 1 | AR41: 6 | AS41: =IFERROR((BOS_H299[[#This Row],[H]]-BOS_H299[[#This Row],[2B]]-BOS_H299[[#This Row],[3B]]-BOS_H299[[#This Row],[HR]])+(BOS_H299[[#This Row],[2B]]*2)+(BOS_H299[[#This Row],[3B]]*3)+(BOS_H299[[#This Row],[HR]]*4),0) -> 82 | AT41: =BOS_H299[[#This Row],[OBP]]+BOS_H299[[#This Row],[SLG]] -> 0.91720729 | AU41: 1 | AV41: 7 | AY41: BOS | AZ41: CF | BA41: J. Bradley | BB41: =IFERROR(BOS_H212[[#This Row],[H]]/BOS_H212[[#This Row],[AB]],0) -> 0.2300885 | BC41: =IFERROR((BOS_H212[[#This Row],[BB]]+BOS_H212[[#This Row],[H]])/(BOS_H212[[#This Row],[AB]]+BOS_H212[[#This Row],[BB]]),0) -> 0.33587786 | BD41: =IFERROR(((BOS_H212[[#This Row],[H]]-BOS_H212[[#This Row],[2B]]-BOS_H212[[#This Row],[3B]]-BOS_H212[[#This Row],[HR]])+(BOS_H212[[#This Row],[2B]]*2)+(BOS_H212[[#This Row],[3B]]*3)+(BOS_H212[[#This Row],[HR]]*4))/BOS_H212[[#This Row],[AB]],0) -> 0.36283186 | BE41: 38 | BF41: 113 | BG41: 19 | BH41: 26 | BI41: 6 | BJ41: =0 -> 0 | BK41: 3 | BL41: 13 | BM41: 18 | BN41: 35 | BO41: 1 | BP41: 2 | BQ41: 3 | BR41: =IFERROR((BH41-BI41-BJ41-BK41)+(BI41*2)+(BJ41*3)+(BK41*4),0) -> 41 | BS41: =IFERROR(BOS_H212[[#This Row],[OBP]]+BOS_H212[[#This Row],[SLG]],0) -> 0.69870972 | BT41: 0 | BU41: 7
A42: BOS | B42: RF® | C42: W. Abreu | D42: =IFERROR(BOS_H[[#This Row],[H]]/BOS_H[[#This Row],[AB]],0) -> 0.29032258 | E42: =IFERROR((BOS_H[[#This Row],[H]]+BOS_H[[#This Row],[BB]])/(BOS_H[[#This Row],[AB]]+BOS_H[[#This Row],[BB]]),0) -> 0.34653465 | F42: =IFERROR(((BOS_H[[#This Row],[H]]-BOS_H[[#This Row],[2B]]-BOS_H[[#This Row],[3B]]-BOS_H[[#This Row],[HR]])+(BOS_H[[#This Row],[2B]]*2)+(BOS_H[[#This Row],[3B]]*3)+(BOS_H[[#This Row],[HR]]*4))/BOS_H[[#This Row],[AB]],0) -> 0.48387097 | G42: 28 | H42: 93 | I42: 11 | J42: 27 | K42: 6 | L42: 0 | M42: 4 | N42: 15 | O42: 8 | P42: 28 | Q42: 0 | R42: 2 | S42: 6 | T42: =IFERROR((BOS_H[[#This Row],[H]]-BOS_H[[#This Row],[2B]]-BOS_H[[#This Row],[3B]]-BOS_H[[#This Row],[HR]])+(BOS_H[[#This Row],[2B]]*2)+(BOS_H[[#This Row],[3B]]*3)+(BOS_H[[#This Row],[HR]]*4),0) -> 45 | U42: =BOS_H[[#This Row],[OBP]]+BOS_H[[#This Row],[SLG]] -> 0.83040562 | V42: 2 | W42: 8 | Z42: BOS | AA42: RF | AB42: J. Martinez | AC42: =IFERROR(BOS_H299[[#This Row],[H]]/BOS_H299[[#This Row],[AB]],0) -> 0.29943503 | AD42: =IFERROR((BOS_H299[[#This Row],[H]]+BOS_H299[[#This Row],[BB]])/(BOS_H299[[#This Row],[AB]]+BOS_H299[[#This Row],[BB]]),0) -> 0.34042553 | AE42: =IFERROR(((BOS_H299[[#This Row],[H]]-BOS_H299[[#This Row],[2B]]-BOS_H299[[#This Row],[3B]]-BOS_H299[[#This Row],[HR]])+(BOS_H299[[#This Row],[2B]]*2)+(BOS_H299[[#This Row],[3B]]*3)+(BOS_H299[[#This Row],[HR]]*4))/BOS_H299[[#This Row],[AB]],0) -> 0.50282486 | AF42: 39 | AG42: 177 | AH42: 20 | AI42: 53 | AJ42: 12 | AK42: 0 | AL42: 8 | AM42: 34 | AN42: 11 | AO42: 43 | AP42: 0 | AQ42: 1 | AR42: 9 | AS42: =IFERROR((BOS_H299[[#This Row],[H]]-BOS_H299[[#This Row],[2B]]-BOS_H299[[#This Row],[3B]]-BOS_H299[[#This Row],[HR]])+(BOS_H299[[#This Row],[2B]]*2)+(BOS_H299[[#This Row],[3B]]*3)+(BOS_H299[[#This Row],[HR]]*4),0) -> 89 | AT42: =BOS_H299[[#This Row],[OBP]]+BOS_H299[[#This Row],[SLG]] -> 0.84325039 | AU42: 4 | AV42: 8 | AY42: BOS | AZ42: RF | BA42: J. Martinez | BB42: =IFERROR(BOS_H212[[#This Row],[H]]/BOS_H212[[#This Row],[AB]],0) -> 0.31952663 | BC42: =IFERROR((BOS_H212[[#This Row],[BB]]+BOS_H212[[#This Row],[H]])/(BOS_H212[[#This Row],[AB]]+BOS_H212[[#This Row],[BB]]),0) -> 0.36464088 | BD42: =IFERROR(((BOS_H212[[#This Row],[H]]-BOS_H212[[#This Row],[2B]]-BOS_H212[[#This Row],[3B]]-BOS_H212[[#This Row],[HR]])+(BOS_H212[[#This Row],[2B]]*2)+(BOS_H212[[#This Row],[3B]]*3)+(BOS_H212[[#This Row],[HR]]*4))/BOS_H212[[#This Row],[AB]],0) -> 0.66863905 | BE42: 40 | BF42: 169 | BG42: 36 | BH42: 54 | BI42: 17 | BJ42: =0 -> 0 | BK42: 14 | BL42: 44 | BM42: 12 | BN42: 52 | BO42: 0 | BP42: 0 | BQ42: 14 | BR42: =IFERROR((BH42-BI42-BJ42-BK42)+(BI42*2)+(BJ42*3)+(BK42*4),0) -> 113 | BS42: =IFERROR(BOS_H212[[#This Row],[OBP]]+BOS_H212[[#This Row],[SLG]],0) -> 1.0332799 | BT42: 8 | BU42: 8
A43: BOS | B43: DH | C43: D. Ortiz | D43: =IFERROR(BOS_H[[#This Row],[H]]/BOS_H[[#This Row],[AB]],0) -> 0.30718954 | E43: =IFERROR((BOS_H[[#This Row],[H]]+BOS_H[[#This Row],[BB]])/(BOS_H[[#This Row],[AB]]+BOS_H[[#This Row],[BB]]),0) -> 0.37647059 | F43: =IFERROR(((BOS_H[[#This Row],[H]]-BOS_H[[#This Row],[2B]]-BOS_H[[#This Row],[3B]]-BOS_H[[#This Row],[HR]])+(BOS_H[[#This Row],[2B]]*2)+(BOS_H[[#This Row],[3B]]*3)+(BOS_H[[#This Row],[HR]]*4))/BOS_H[[#This Row],[AB]],0) -> 0.54901961 | G43: 40 | H43: 153 | I43: 23 | J43: 47 | K43: 7 | L43: 0 | M43: 10 | N43: 27 | O43: 17 | P43: 35 | Q43: 0 | R43: 0 | S43: 10 | T43: =IFERROR((BOS_H[[#This Row],[H]]-BOS_H[[#This Row],[2B]]-BOS_H[[#This Row],[3B]]-BOS_H[[#This Row],[HR]])+(BOS_H[[#This Row],[2B]]*2)+(BOS_H[[#This Row],[3B]]*3)+(BOS_H[[#This Row],[HR]]*4),0) -> 84 | U43: =BOS_H[[#This Row],[OBP]]+BOS_H[[#This Row],[SLG]] -> 0.9254902 | V43: 5 | W43: 9 | Z43: BOS | AA43: DH | AB43: D. Ortiz | AC43: =IFERROR(BOS_H299[[#This Row],[H]]/BOS_H299[[#This Row],[AB]],0) -> 0.2875817 | AD43: =IFERROR((BOS_H299[[#This Row],[H]]+BOS_H299[[#This Row],[BB]])/(BOS_H299[[#This Row],[AB]]+BOS_H299[[#This Row],[BB]]),0) -> 0.4076087 | AE43: =IFERROR(((BOS_H299[[#This Row],[H]]-BOS_H299[[#This Row],[2B]]-BOS_H299[[#This Row],[3B]]-BOS_H299[[#This Row],[HR]])+(BOS_H299[[#This Row],[2B]]*2)+(BOS_H299[[#This Row],[3B]]*3)+(BOS_H299[[#This Row],[HR]]*4))/BOS_H299[[#This Row],[AB]],0) -> 0.58169935 | AF43: 40 | AG43: 153 | AH43: 27 | AI43: 44 | AJ43: 12 | AK43: 0 | AL43: 11 | AM43: 35 | AN43: 31 | AO43: 38 | AP43: 0 | AQ43: 1 | AR43: 14 | AS43: =IFERROR((BOS_H299[[#This Row],[H]]-BOS_H299[[#This Row],[2B]]-BOS_H299[[#This Row],[3B]]-BOS_H299[[#This Row],[HR]])+(BOS_H299[[#This Row],[2B]]*2)+(BOS_H299[[#This Row],[3B]]*3)+(BOS_H299[[#This Row],[HR]]*4),0) -> 89 | AT43: =BOS_H299[[#This Row],[OBP]]+BOS_H299[[#This Row],[SLG]] -> 0.98930804 | AU43: 5 | AV43: 9 | AY43: BOS | AZ43: DH | BA43: D. Ortiz | BB43: =IFERROR(BOS_H212[[#This Row],[H]]/BOS_H212[[#This Row],[AB]],0) -> 0.32413793 | BC43: =IFERROR((BOS_H212[[#This Row],[BB]]+BOS_H212[[#This Row],[H]])/(BOS_H212[[#This Row],[AB]]+BOS_H212[[#This Row],[BB]]),0) -> 0.37579618 | BD43: =IFERROR(((BOS_H212[[#This Row],[H]]-BOS_H212[[#This Row],[2B]]-BOS_H212[[#This Row],[3B]]-BOS_H212[[#This Row],[HR]])+(BOS_H212[[#This Row],[2B]]*2)+(BOS_H212[[#This Row],[3B]]*3)+(BOS_H212[[#This Row],[HR]]*4))/BOS_H212[[#This Row],[AB]],0) -> 0.62068966 | BE43: 37 | BF43: 145 | BG43: 20 | BH43: 47 | BI43: 16 | BJ43: =0 -> 0 | BK43: 9 | BL43: 35 | BM43: 12 | BN43: 29 | BO43: 0 | BP43: 3 | BQ43: 6 | BR43: =IFERROR((BH43-BI43-BJ43-BK43)+(BI43*2)+(BJ43*3)+(BK43*4),0) -> 90 | BS43: =IFERROR(BOS_H212[[#This Row],[OBP]]+BOS_H212[[#This Row],[SLG]],0) -> 0.99648583 | BT43: 3 | BU43: 9
A44: BOS | B44: C | C44: C. Vazquez | D44: =IFERROR(BOS_H[[#This Row],[H]]/BOS_H[[#This Row],[AB]],0) -> 0.42857143 | E44: =IFERROR((BOS_H[[#This Row],[H]]+BOS_H[[#This Row],[BB]])/(BOS_H[[#This Row],[AB]]+BOS_H[[#This Row],[BB]]),0) -> 0.42857143 | F44: =IFERROR(((BOS_H[[#This Row],[H]]-BOS_H[[#This Row],[2B]]-BOS_H[[#This Row],[3B]]-BOS_H[[#This Row],[HR]])+(BOS_H[[#This Row],[2B]]*2)+(BOS_H[[#This Row],[3B]]*3)+(BOS_H[[#This Row],[HR]]*4))/BOS_H[[#This Row],[AB]],0) -> 0.85714286 | G44: 4 | H44: 7 | I44: 1 | J44: 3 | K44: 0 | L44: 0 | M44: 1 | N44: 1 | O44: 0 | P44: 1 | Q44: 0 | R44: 2 | S44: 2 | T44: =IFERROR((BOS_H[[#This Row],[H]]-BOS_H[[#This Row],[2B]]-BOS_H[[#This Row],[3B]]-BOS_H[[#This Row],[HR]])+(BOS_H[[#This Row],[2B]]*2)+(BOS_H[[#This Row],[3B]]*3)+(BOS_H[[#This Row],[HR]]*4),0) -> 6 | U44: =BOS_H[[#This Row],[OBP]]+BOS_H[[#This Row],[SLG]] -> 1.2857143 | V44: 0 | W44: 10 | Z44: BOS | AA44: C | AB44: C. Vazquez | AC44: =IFERROR(BOS_H299[[#This Row],[H]]/BOS_H299[[#This Row],[AB]],0) -> 0.33333333 | AD44: =IFERROR((BOS_H299[[#This Row],[H]]+BOS_H299[[#This Row],[BB]])/(BOS_H299[[#This Row],[AB]]+BOS_H299[[#This Row],[BB]]),0) -> 0.45454545 | AE44: =IFERROR(((BOS_H299[[#This Row],[H]]-BOS_H299[[#This Row],[2B]]-BOS_H299[[#This Row],[3B]]-BOS_H299[[#This Row],[HR]])+(BOS_H299[[#This Row],[2B]]*2)+(BOS_H299[[#This Row],[3B]]*3)+(BOS_H299[[#This Row],[HR]]*4))/BOS_H299[[#This Row],[AB]],0) -> 0.44444444 | AF44: 5 | AG44: 9 | AH44: 1 | AI44: 3 | AJ44: 1 | AK44: 0 | AL44: 0 | AM44: 0 | AN44: 2 | AO44: 3 | AP44: 0 | AQ44: 3 | AR44: 3 | AS44: =IFERROR((BOS_H299[[#This Row],[H]]-BOS_H299[[#This Row],[2B]]-BOS_H299[[#This Row],[3B]]-BOS_H299[[#This Row],[HR]])+(BOS_H299[[#This Row],[2B]]*2)+(BOS_H299[[#This Row],[3B]]*3)+(BOS_H299[[#This Row],[HR]]*4),0) -> 4 | AT44: =BOS_H299[[#This Row],[OBP]]+BOS_H299[[#This Row],[SLG]] -> 0.8989899 | AU44: 0 | AV44: 10 | AY44: BOS | AZ44: C | BA44: C. Vazquez | BB44: =IFERROR(BOS_H212[[#This Row],[H]]/BOS_H212[[#This Row],[AB]],0) -> 0.083333333 | BC44: =IFERROR((BOS_H212[[#This Row],[BB]]+BOS_H212[[#This Row],[H]])/(BOS_H212[[#This Row],[AB]]+BOS_H212[[#This Row],[BB]]),0) -> 0.18518519 | BD44: =IFERROR(((BOS_H212[[#This Row],[H]]-BOS_H212[[#This Row],[2B]]-BOS_H212[[#This Row],[3B]]-BOS_H212[[#This Row],[HR]])+(BOS_H212[[#This Row],[2B]]*2)+(BOS_H212[[#This Row],[3B]]*3)+(BOS_H212[[#This Row],[HR]]*4))/BOS_H212[[#This Row],[AB]],0) -> 0.083333333 | BE44: 17 | BF44: 24 | BG44: 2 | BH44: 2 | BI44: =0 -> 0 | BJ44: =0 -> 0 | BK44: =0 -> 0 | BL44: =0 -> 0 | BM44: 3 | BN44: 7 | BO44: 0 | BP44: 0 | BQ44: 1 | BR44: =IFERROR((BH44-BI44-BJ44-BK44)+(BI44*2)+(BJ44*3)+(BK44*4),0) -> 2 | BS44: =IFERROR(BOS_H212[[#This Row],[OBP]]+BOS_H212[[#This Row],[SLG]],0) -> 0.26851852 | BT44: 0 | BU44: 10
A45: BOS | B45: INF | C45: T. Casas | D45: =IFERROR(BOS_H[[#This Row],[H]]/BOS_H[[#This Row],[AB]],0) -> 0.33333333 | E45: =IFERROR((BOS_H[[#This Row],[H]]+BOS_H[[#This Row],[BB]])/(BOS_H[[#This Row],[AB]]+BOS_H[[#This Row],[BB]]),0) -> 0.4 | F45: =IFERROR(((BOS_H[[#This Row],[H]]-BOS_H[[#This Row],[2B]]-BOS_H[[#This Row],[3B]]-BOS_H[[#This Row],[HR]])+(BOS_H[[#This Row],[2B]]*2)+(BOS_H[[#This Row],[3B]]*3)+(BOS_H[[#This Row],[HR]]*4))/BOS_H[[#This Row],[AB]],0) -> 1 | G45: 6 | H45: 9 | I45: 3 | J45: 3 | K45: 0 | L45: 0 | M45: 2 | N45: 5 | O45: 1 | P45: 1 | Q45: 0 | R45: 3 | S45: 3 | T45: =IFERROR((BOS_H[[#This Row],[H]]-BOS_H[[#This Row],[2B]]-BOS_H[[#This Row],[3B]]-BOS_H[[#This Row],[HR]])+(BOS_H[[#This Row],[2B]]*2)+(BOS_H[[#This Row],[3B]]*3)+(BOS_H[[#This Row],[HR]]*4),0) -> 9 | U45: =BOS_H[[#This Row],[OBP]]+BOS_H[[#This Row],[SLG]] -> 1.4 | V45: 0 | W45: 11 | Z45: BOS | AA45: INF® | AB45: T. Casas | AC45: =IFERROR(BOS_H299[[#This Row],[H]]/BOS_H299[[#This Row],[AB]],0) -> 0 | AD45: =IFERROR((BOS_H299[[#This Row],[H]]+BOS_H299[[#This Row],[BB]])/(BOS_H299[[#This Row],[AB]]+BOS_H299[[#This Row],[BB]]),0) -> 0.3 | AE45: =IFERROR(((BOS_H299[[#This Row],[H]]-BOS_H299[[#This Row],[2B]]-BOS_H299[[#This Row],[3B]]-BOS_H299[[#This Row],[HR]])+(BOS_H299[[#This Row],[2B]]*2)+(BOS_H299[[#This Row],[3B]]*3)+(BOS_H299[[#This Row],[HR]]*4))/BOS_H299[[#This Row],[AB]],0) -> 0 | AF45: 3 | AG45: 7 | AH45: 0 | AI45: 0 | AJ45: 0 | AK45: 0 | AL45: 0 | AM45: 0 | AN45: 3 | AO45: 1 | AP45: 0 | AQ45: 0 | AR45: 0 | AS45: =IFERROR((BOS_H299[[#This Row],[H]]-BOS_H299[[#This Row],[2B]]-BOS_H299[[#This Row],[3B]]-BOS_H299[[#This Row],[HR]])+(BOS_H299[[#This Row],[2B]]*2)+(BOS_H299[[#This Row],[3B]]*3)+(BOS_H299[[#This Row],[HR]]*4),0) -> 0 | AT45: =BOS_H299[[#This Row],[OBP]]+BOS_H299[[#This Row],[SLG]] -> 0.3 | AU45: 0 | AV45: 11 | AY45: BOS | AZ45: INF® | BA45: B. Dalbec | BB45: =IFERROR(BOS_H212[[#This Row],[H]]/BOS_H212[[#This Row],[AB]],0) -> 0.21568627 | BC45: =IFERROR((BOS_H212[[#This Row],[BB]]+BOS_H212[[#This Row],[H]])/(BOS_H212[[#This Row],[AB]]+BOS_H212[[#This Row],[BB]]),0) -> 0.27272727 | BD45: =IFERROR(((BOS_H212[[#This Row],[H]]-BOS_H212[[#This Row],[2B]]-BOS_H212[[#This Row],[3B]]-BOS_H212[[#This Row],[HR]])+(BOS_H212[[#This Row],[2B]]*2)+(BOS_H212[[#This Row],[3B]]*3)+(BOS_H212[[#This Row],[HR]]*4))/BOS_H212[[#This Row],[AB]],0) -> 0.52941176 | BE45: 17 | BF45: 51 | BG45: 6 | BH45: 11 | BI45: 2 | BJ45: 1 | BK45: 4 | BL45: 9 | BM45: 4 | BN45: 12 | BO45: 0 | BP45: 0 | BQ45: 2 | BR45: =IFERROR((BH45-BI45-BJ45-BK45)+(BI45*2)+(BJ45*3)+(BK45*4),0) -> 27 | BS45: =IFERROR(BOS_H212[[#This Row],[OBP]]+BOS_H212[[#This Row],[SLG]],0) -> 0.80213904 | BT45: 0 | BU45: 11
A46: BOS | B46: INF® | C46: K. Campbell | D46: =IFERROR(BOS_H[[#This Row],[H]]/BOS_H[[#This Row],[AB]],0) -> 0 | E46: =IFERROR((BOS_H[[#This Row],[H]]+BOS_H[[#This Row],[BB]])/(BOS_H[[#This Row],[AB]]+BOS_H[[#This Row],[BB]]),0) -> 0 | F46: =IFERROR(((BOS_H[[#This Row],[H]]-BOS_H[[#This Row],[2B]]-BOS_H[[#This Row],[3B]]-BOS_H[[#This Row],[HR]])+(BOS_H[[#This Row],[2B]]*2)+(BOS_H[[#This Row],[3B]]*3)+(BOS_H[[#This Row],[HR]]*4))/BOS_H[[#This Row],[AB]],0) -> 0 | G46: 0 | H46: 0 | I46: 0 | J46: 0 | K46: 0 | L46: 0 | M46: 0 | N46: 0 | O46: 0 | P46: 0 | Q46: 0 | R46: 0 | S46: 0 | T46: =IFERROR((BOS_H[[#This Row],[H]]-BOS_H[[#This Row],[2B]]-BOS_H[[#This Row],[3B]]-BOS_H[[#This Row],[HR]])+(BOS_H[[#This Row],[2B]]*2)+(BOS_H[[#This Row],[3B]]*3)+(BOS_H[[#This Row],[HR]]*4),0) -> 0 | U46: =BOS_H[[#This Row],[OBP]]+BOS_H[[#This Row],[SLG]] -> 0 | V46: 0 | W46: 12 | Z46: BOS | AA46: INF | AB46: M. Chavis | AC46: =IFERROR(BOS_H299[[#This Row],[H]]/BOS_H299[[#This Row],[AB]],0) -> 0.33333333 | AD46: =IFERROR((BOS_H299[[#This Row],[H]]+BOS_H299[[#This Row],[BB]])/(BOS_H299[[#This Row],[AB]]+BOS_H299[[#This Row],[BB]]),0) -> 0.33333333 | AE46: =IFERROR(((BOS_H299[[#This Row],[H]]-BOS_H299[[#This Row],[2B]]-BOS_H299[[#This Row],[3B]]-BOS_H299[[#This Row],[HR]])+(BOS_H299[[#This Row],[2B]]*2)+(BOS_H299[[#This Row],[3B]]*3)+(BOS_H299[[#This Row],[HR]]*4))/BOS_H299[[#This Row],[AB]],0) -> 1.1111111 | AF46: 3 | AG46: 9 | AH46: 3 | AI46: 3 | AJ46: 1 | AK46: 0 | AL46: 2 | AM46: 3 | AN46: 0 | AO46: 1 | AP46: 0 | AQ46: 2 | AR46: 2 | AS46: =IFERROR((BOS_H299[[#This Row],[H]]-BOS_H299[[#This Row],[2B]]-BOS_H299[[#This Row],[3B]]-BOS_H299[[#This Row],[HR]])+(BOS_H299[[#This Row],[2B]]*2)+(BOS_H299[[#This Row],[3B]]*3)+(BOS_H299[[#This Row],[HR]]*4),0) -> 10 | AT46: =BOS_H299[[#This Row],[OBP]]+BOS_H299[[#This Row],[SLG]] -> 1.4444444 | AU46: 0 | AV46: 12 | AY46: BOS | AZ46: INF | BA46: M. Chavis | BB46: =IFERROR(BOS_H212[[#This Row],[H]]/BOS_H212[[#This Row],[AB]],0) -> 0.18181818 | BC46: =IFERROR((BOS_H212[[#This Row],[BB]]+BOS_H212[[#This Row],[H]])/(BOS_H212[[#This Row],[AB]]+BOS_H212[[#This Row],[BB]]),0) -> 0.28 | BD46: =IFERROR(((BOS_H212[[#This Row],[H]]-BOS_H212[[#This Row],[2B]]-BOS_H212[[#This Row],[3B]]-BOS_H212[[#This Row],[HR]])+(BOS_H212[[#This Row],[2B]]*2)+(BOS_H212[[#This Row],[3B]]*3)+(BOS_H212[[#This Row],[HR]]*4))/BOS_H212[[#This Row],[AB]],0) -> 0.36363636 | BE46: 11 | BF46: 22 | BG46: 5 | BH46: 4 | BI46: 1 | BJ46: 0 | BK46: 1 | BL46: 1 | BM46: 3 | BN46: 3 | BO46: 0 | BP46: 1 | BQ46: 2 | BR46: =IFERROR((BH46-BI46-BJ46-BK46)+(BI46*2)+(BJ46*3)+(BK46*4),0) -> 8 | BS46: =IFERROR(BOS_H212[[#This Row],[OBP]]+BOS_H212[[#This Row],[SLG]],0) -> 0.64363636 | BT46: 0 | BU46: 12
A47: BOS | B47: OF | C47: A. Verdugo | D47: =IFERROR(BOS_H[[#This Row],[H]]/BOS_H[[#This Row],[AB]],0) -> 0.21666667 | E47: =IFERROR((BOS_H[[#This Row],[H]]+BOS_H[[#This Row],[BB]])/(BOS_H[[#This Row],[AB]]+BOS_H[[#This Row],[BB]]),0) -> 0.29850746 | F47: =IFERROR(((BOS_H[[#This Row],[H]]-BOS_H[[#This Row],[2B]]-BOS_H[[#This Row],[3B]]-BOS_H[[#This Row],[HR]])+(BOS_H[[#This Row],[2B]]*2)+(BOS_H[[#This Row],[3B]]*3)+(BOS_H[[#This Row],[HR]]*4))/BOS_H[[#This Row],[AB]],0) -> 0.36666667 | G47: 16 | H47: 60 | I47: 8 | J47: 13 | K47: 4 | L47: 1 | M47: 1 | N47: 7 | O47: 7 | P47: 18 | Q47: 0 | R47: 0 | S47: 2 | T47: =IFERROR((BOS_H[[#This Row],[H]]-BOS_H[[#This Row],[2B]]-BOS_H[[#This Row],[3B]]-BOS_H[[#This Row],[HR]])+(BOS_H[[#This Row],[2B]]*2)+(BOS_H[[#This Row],[3B]]*3)+(BOS_H[[#This Row],[HR]]*4),0) -> 22 | U47: =BOS_H[[#This Row],[OBP]]+BOS_H[[#This Row],[SLG]] -> 0.66517413 | V47: 0 | W47: 13 | Z47: BOS | AA47: OF | AB47: J. Duran | AC47: =IFERROR(BOS_H299[[#This Row],[H]]/BOS_H299[[#This Row],[AB]],0) -> 0.22222222 | AD47: =IFERROR((BOS_H299[[#This Row],[H]]+BOS_H299[[#This Row],[BB]])/(BOS_H299[[#This Row],[AB]]+BOS_H299[[#This Row],[BB]]),0) -> 0.3 | AE47: =IFERROR(((BOS_H299[[#This Row],[H]]-BOS_H299[[#This Row],[2B]]-BOS_H299[[#This Row],[3B]]-BOS_H299[[#This Row],[HR]])+(BOS_H299[[#This Row],[2B]]*2)+(BOS_H299[[#This Row],[3B]]*3)+(BOS_H299[[#This Row],[HR]]*4))/BOS_H299[[#This Row],[AB]],0) -> 0.44444444 | AF47: 6 | AG47: 9 | AH47: 3 | AI47: 2 | AJ47: 0 | AK47: 1 | AL47: 0 | AM47: 0 | AN47: 1 | AO47: 2 | AP47: 0 | AQ47: 1 | AR47: 1 | AS47: =IFERROR((BOS_H299[[#This Row],[H]]-BOS_H299[[#This Row],[2B]]-BOS_H299[[#This Row],[3B]]-BOS_H299[[#This Row],[HR]])+(BOS_H299[[#This Row],[2B]]*2)+(BOS_H299[[#This Row],[3B]]*3)+(BOS_H299[[#This Row],[HR]]*4),0) -> 4 | AT47: =BOS_H299[[#This Row],[OBP]]+BOS_H299[[#This Row],[SLG]] -> 0.74444444 | AU47: 0 | AV47: 13 | AY47: BOS | AZ47: OF® | BA47: J. Duran | BB47: =IFERROR(BOS_H212[[#This Row],[H]]/BOS_H212[[#This Row],[AB]],0) -> 0.2 | BC47: =IFERROR((BOS_H212[[#This Row],[BB]]+BOS_H212[[#This Row],[H]])/(BOS_H212[[#This Row],[AB]]+BOS_H212[[#This Row],[BB]]),0) -> 0.30434783 | BD47: =IFERROR(((BOS_H212[[#This Row],[H]]-BOS_H212[[#This Row],[2B]]-BOS_H212[[#This Row],[3B]]-BOS_H212[[#This Row],[HR]])+(BOS_H212[[#This Row],[2B]]*2)+(BOS_H212[[#This Row],[3B]]*3)+(BOS_H212[[#This Row],[HR]]*4))/BOS_H212[[#This Row],[AB]],0) -> 0.3 | BE47: 15 | BF47: 20 | BG47: 4 | BH47: 4 | BI47: 2 | BJ47: 0 | BK47: 0 | BL47: 2 | BM47: 3 | BN47: 5 | BO47: 0 | BP47: 2 | BQ47: 2 | BR47: =IFERROR((BH47-BI47-BJ47-BK47)+(BI47*2)+(BJ47*3)+(BK47*4),0) -> 6 | BS47: =IFERROR(BOS_H212[[#This Row],[OBP]]+BOS_H212[[#This Row],[SLG]],0) -> 0.60434783 | BT47: 0 | BU47: 13
A48: BOS | B48: OF | C48: J. Bradley | D48: =IFERROR(BOS_H[[#This Row],[H]]/BOS_H[[#This Row],[AB]],0) -> 0 | E48: =IFERROR((BOS_H[[#This Row],[H]]+BOS_H[[#This Row],[BB]])/(BOS_H[[#This Row],[AB]]+BOS_H[[#This Row],[BB]]),0) -> 0.5 | F48: =IFERROR(((BOS_H[[#This Row],[H]]-BOS_H[[#This Row],[2B]]-BOS_H[[#This Row],[3B]]-BOS_H[[#This Row],[HR]])+(BOS_H[[#This Row],[2B]]*2)+(BOS_H[[#This Row],[3B]]*3)+(BOS_H[[#This Row],[HR]]*4))/BOS_H[[#This Row],[AB]],0) -> 0 | G48: 6 | H48: 1 | I48: 3 | J48: 0 | K48: 0 | L48: 0 | M48: 0 | N48: 0 | O48: 1 | P48: 0 | Q48: 0 | R48: 0 | S48: 0 | T48: =IFERROR((BOS_H[[#This Row],[H]]-BOS_H[[#This Row],[2B]]-BOS_H[[#This Row],[3B]]-BOS_H[[#This Row],[HR]])+(BOS_H[[#This Row],[2B]]*2)+(BOS_H[[#This Row],[3B]]*3)+(BOS_H[[#This Row],[HR]]*4),0) -> 0 | U48: =BOS_H[[#This Row],[OBP]]+BOS_H[[#This Row],[SLG]] -> 0.5 | V48: 0 | W48: 14 | Z48: BOS | AA48: OF | AB48: J. Bradley | AC48: =IFERROR(BOS_H299[[#This Row],[H]]/BOS_H299[[#This Row],[AB]],0) -> 0.2 | AD48: =IFERROR((BOS_H299[[#This Row],[H]]+BOS_H299[[#This Row],[BB]])/(BOS_H299[[#This Row],[AB]]+BOS_H299[[#This Row],[BB]]),0) -> 0.42857143 | AE48: =IFERROR(((BOS_H299[[#This Row],[H]]-BOS_H299[[#This Row],[2B]]-BOS_H299[[#This Row],[3B]]-BOS_H299[[#This Row],[HR]])+(BOS_H299[[#This Row],[2B]]*2)+(BOS_H299[[#This Row],[3B]]*3)+(BOS_H299[[#This Row],[HR]]*4))/BOS_H299[[#This Row],[AB]],0) -> 0.8 | AF48: 4 | AG48: 5 | AH48: 1 | AI48: 1 | AJ48: 0 | AK48: 0 | AL48: 1 | AM48: 3 | AN48: 2 | AO48: 0 | AP48: 0 | AQ48: 1 | AR48: 1 | AS48: =IFERROR((BOS_H299[[#This Row],[H]]-BOS_H299[[#This Row],[2B]]-BOS_H299[[#This Row],[3B]]-BOS_H299[[#This Row],[HR]])+(BOS_H299[[#This Row],[2B]]*2)+(BOS_H299[[#This Row],[3B]]*3)+(BOS_H299[[#This Row],[HR]]*4),0) -> 4 | AT48: =BOS_H299[[#This Row],[OBP]]+BOS_H299[[#This Row],[SLG]] -> 1.2285714 | AU48: 0 | AV48: 14 | AY48: BOS | AZ48: OF | BA48: B. Holt | BB48: =IFERROR(BOS_H212[[#This Row],[H]]/BOS_H212[[#This Row],[AB]],0) -> 0.28571429 | BC48: =IFERROR((BOS_H212[[#This Row],[BB]]+BOS_H212[[#This Row],[H]])/(BOS_H212[[#This Row],[AB]]+BOS_H212[[#This Row],[BB]]),0) -> 0.33333333 | BD48: =IFERROR(((BOS_H212[[#This Row],[H]]-BOS_H212[[#This Row],[2B]]-BOS_H212[[#This Row],[3B]]-BOS_H212[[#This Row],[HR]])+(BOS_H212[[#This Row],[2B]]*2)+(BOS_H212[[#This Row],[3B]]*3)+(BOS_H212[[#This Row],[HR]]*4))/BOS_H212[[#This Row],[AB]],0) -> 0.5 | BE48: 9 | BF48: 14 | BG48: 2 | BH48: 4 | BI48: 1 | BJ48: 1 | BK48: 0 | BL48: 0 | BM48: 1 | BN48: 7 | BO48: 0 | BP48: 3 | BQ48: 3 | BR48: =IFERROR((BH48-BI48-BJ48-BK48)+(BI48*2)+(BJ48*3)+(BK48*4),0) -> 7 | BS48: =IFERROR(BOS_H212[[#This Row],[OBP]]+BOS_H212[[#This Row],[SLG]],0) -> 0.83333333 | BT48: 0 | BU48: 14
C49: TOTALS | D49: =J49/H49 -> 0.29839884 | E49: =(J49+O49)/(O49+H49) -> 0.36201191 | F49: =((J49-K49-L49-M49)+(K49*2)+(L49*3)+(M49*4))/H49 -> 0.48835517 | H49: =SUBTOTAL(109,BOS_H[AB]) -> 1374 | I49: =SUBTOTAL(109,BOS_H[R]) -> 206 | J49: =SUBTOTAL(109,BOS_H[H]) -> 410 | K49: =SUBTOTAL(109,BOS_H[2B]) -> 92 | L49: =SUBTOTAL(109,BOS_H[3B]) -> 8 | M49: =SUBTOTAL(109,BOS_H[HR]) -> 51 | N49: =SUBTOTAL(109,BOS_H[RBI]) -> 204 | O49: =SUBTOTAL(109,BOS_H[BB]) -> 137 | P49: =SUBTOTAL(109,BOS_H[K]) -> 342 | Q49: =SUBTOTAL(109,BOS_H[SB]) -> 5 | T49: =SUBTOTAL(109,BOS_H[TB]) -> 671 | U49: =E49+F49 -> 0.85036708 | V49: =SUBTOTAL(109,BOS_H[*]) -> 23 | AB49: TOTALS | AC49: =AI49/AG49 -> 0.2841455 | AD49: =(AI49+AN49)/(AN49+AG49) -> 0.35933661 | AE49: =((AI49-AJ49-AK49-AL49)+(AJ49*2)+(AK49*3)+(AL49*4))/AG49 -> 0.47014413 | AG49: =SUBTOTAL(109,BOS_H299[AB]) -> 1457 | AH49: =SUBTOTAL(109,BOS_H299[R]) -> 204 | AI49: =SUBTOTAL(109,BOS_H299[H]) -> 414 | AJ49: =SUBTOTAL(109,BOS_H299[2B]) -> 91 | AK49: =SUBTOTAL(109,BOS_H299[3B]) -> 3 | AL49: =SUBTOTAL(109,BOS_H299[HR]) -> 58 | AM49: =SUBTOTAL(109,BOS_H299[RBI]) -> 203 | AN49: =SUBTOTAL(109,BOS_H299[BB]) -> 171 | AO49: =SUBTOTAL(109,BOS_H299[K]) -> 307 | AP49: =SUBTOTAL(109,BOS_H299[SB]) -> 0 | AS49: =SUBTOTAL(109,BOS_H299[TB]) -> 685 | AT49: =AD49+AE49 -> 0.82948074 | AU49: =SUBTOTAL(109,BOS_H299[*]) -> 24 | BA49: TOTALS | BB49: =IFERROR(BH49/BF49,0) -> 0.2962963 | BC49: =IFERROR((BM49+BH49)/(BF49+BM49),0) -> 0.36225459 | BD49: =IFERROR(((BH49-BI49-BJ49-BK49)+(BI49*2)+(BJ49*3)+(BK49*4))/BF49,0) -> 0.49056604 | BF49: =SUM(BF35:BF48) -> 1431 | BG49: =SUBTOTAL(109,BOS_H212[R]) -> 231 | BH49: =SUM(BH35:BH48) -> 424 | BI49: =SUM(BI35:BI48) -> 114 | BJ49: =SUM(BJ35:BJ48) -> 4 | BK49: =SUM(BK35:BK48) -> 52 | BL49: =SUM(BL35:BL48) -> 230 | BM49: =SUM(BM35:BM48) -> 148 | BN49: =SUM(BN35:BN48) -> 333 | BO49: =SUM(BO35:BO48) -> 1 | BR49: =SUM(BR35:BR48) -> 702 | BS49: =IFERROR(BC49+BD49,0) -> 0.85282063 | BT49: =SUBTOTAL(109,BOS_H212[*]) -> 27
A51: TM | B51: @ | C51: NAME | D51: ERA | E51: W | F51: L | G51: G | H51: IP | I51: H | J51: R | K51: BB | L51: K | M51: SV | N51: WH | O51: QS | P51: UQ | Q51: CG | R51: SH | S51: # | Z51: TM | AA51: @ | AB51: NAME | AC51: ERA | AD51: W | AE51: L | AF51: G | AG51: IP | AH51: H | AI51: R | AJ51: BB | AK51: K | AL51: SV | AM51: WH | AN51: QS | AO51: UQ | AP51: CG | AQ51: SH | AR51: # | AY51: TM | AZ51: @ | BA51: NAME | BB51: ERA | BC51: W | BD51: L | BE51: G | BF51: IP | BG51: H | BH51: R | BI51: BB | BJ51: K | BK51: SV | BL51: WH | BM51: QS | BN51: UQ | BO51: CG | BP51: SH | BQ51: #
A52: BOS | B52: SP | C52: C. Sale | D52: =IFERROR(((BOS_P[[#This Row],[R]]*9)/BOS_P[[#This Row],[IP]]),0) -> 2.7929659 | E52: 4 | F52: 5 | G52: 10 | H52: 67.67 | I52: 57 | J52: 21 | K52: 20 | L52: 93 | M52: 0 | N52: =IFERROR((BOS_P[[#This Row],[BB]]+BOS_P[[#This Row],[H]])/BOS_P[[#This Row],[IP]],0) -> 1.137875 | O52: 8 | P52: 5 | Q52: 1 | R52: 1 | S52: 1 | Z52: BOS | AA52: SP | AB52: C. Sale | AC52: =IFERROR(((BOS_P297[[#This Row],[R]]*9)/BOS_P297[[#This Row],[IP]]),0) -> 4.4503049 | AD52: 2 | AE52: 5 | AF52: 10 | AG52: 60.67 | AH52: 58 | AI52: 30 | AJ52: 25 | AK52: 73 | AL52: 0 | AM52: =IFERROR((BOS_P297[[#This Row],[BB]]+BOS_P297[[#This Row],[H]])/BOS_P297[[#This Row],[IP]],0) -> 1.3680567 | AN52: 6 | AO52: 1 | AP52: 0 | AQ52: 0 | AR52: 1 | AY52: BOS | AZ52: SP | BA52: C. Sale | BB52: =IFERROR((BOS_P210[[#This Row],[R]]*9)/BOS_P210[[#This Row],[IP]],0) -> 2.7 | BC52: 8 | BD52: 2 | BE52: 10 | BF52: 70 | BG52: 50 | BH52: 21 | BI52: 27 | BJ52: 93 | BK52: 0 | BL52: =IFERROR((BOS_P210[[#This Row],[BB]]+BOS_P210[[#This Row],[H]])/BOS_P210[[#This Row],[IP]],0) -> 1.1 | BM52: 8 | BN52: 5 | BO52: 1 | BP52: 1 | BQ52: 1
A53: BOS | B53: SP | C53: D. Price | D53: =IFERROR(((BOS_P[[#This Row],[R]]*9)/BOS_P[[#This Row],[IP]]),0) -> 3.5338464 | E53: 4 | F53: 4 | G53: 10 | H53: 63.67 | I53: 55 | J53: 25 | K53: 23 | L53: 57 | M53: 0 | N53: =IFERROR((BOS_P[[#This Row],[BB]]+BOS_P[[#This Row],[H]])/BOS_P[[#This Row],[IP]],0) -> 1.2250668 | O53: 9 | P53: 2 | Q53: 0 | R53: 0 | S53: 2 | Z53: BOS | AA53: SP | AB53: D. Price | AC53: =IFERROR(((BOS_P297[[#This Row],[R]]*9)/BOS_P297[[#This Row],[IP]]),0) -> 6.3818182 | AD53: 5 | AE53: 1 | AF53: 10 | AG53: 55 | AH53: 74 | AI53: 39 | AJ53: 22 | AK53: 48 | AL53: 0 | AM53: =IFERROR((BOS_P297[[#This Row],[BB]]+BOS_P297[[#This Row],[H]])/BOS_P297[[#This Row],[IP]],0) -> 1.7454545 | AN53: 3 | AO53: 1 | AP53: 0 | AQ53: 0 | AR53: 2 | AY53: BOS | AZ53: SP | BA53: N. Eovaldi | BB53: =IFERROR((BOS_P210[[#This Row],[R]]*9)/BOS_P210[[#This Row],[IP]],0) -> 4.7554116 | BC53: 7 | BD53: 1 | BE53: 10 | BF53: 58.67 | BG53: 65 | BH53: 31 | BI53: 16 | BJ53: 46 | BK53: 0 | BL53: =IFERROR((BOS_P210[[#This Row],[BB]]+BOS_P210[[#This Row],[H]])/BOS_P210[[#This Row],[IP]],0) -> 1.3806034 | BM53: 5 | BN53: 1 | BO53: 0 | BP53: 0 | BQ53: 2
A54: BOS | B54: SP | C54: T. Houck | D54: =IFERROR(((BOS_P[[#This Row],[R]]*9)/BOS_P[[#This Row],[IP]]),0) -> 5.2758621 | E54: 3 | F54: 3 | G54: 10 | H54: 58 | I54: 59 | J54: 34 | K54: 24 | L54: 63 | M54: 0 | N54: =IFERROR((BOS_P[[#This Row],[BB]]+BOS_P[[#This Row],[H]])/BOS_P[[#This Row],[IP]],0) -> 1.4310345 | O54: 5 | P54: 2 | Q54: 0 | R54: 0 | S54: 3 | Z54: BOS | AA54: SP | AB54: T. Houck | AC54: =IFERROR(((BOS_P297[[#This Row],[R]]*9)/BOS_P297[[#This Row],[IP]]),0) -> 4.1010063 | AD54: 3 | AE54: 2 | AF54: 10 | AG54: 52.67 | AH54: 54 | AI54: 24 | AJ54: 27 | AK54: 64 | AL54: 0 | AM54: =IFERROR((BOS_P297[[#This Row],[BB]]+BOS_P297[[#This Row],[H]])/BOS_P297[[#This Row],[IP]],0) -> 1.5378773 | AN54: 6 | AO54: 3 | AP54: 0 | AQ54: 0 | AR54: 3 | AY54: BOS | AZ54: SP | BA54: D. Price | BB54: =IFERROR((BOS_P210[[#This Row],[R]]*9)/BOS_P210[[#This Row],[IP]],0) -> 5.963556 | BC54: 3 | BD54: 2 | BE54: 10 | BF54: 54.33 | BG54: 66 | BH54: 36 | BI54: 21 | BJ54: 52 | BK54: 0 | BL54: =IFERROR((BOS_P210[[#This Row],[BB]]+BOS_P210[[#This Row],[H]])/BOS_P210[[#This Row],[IP]],0) -> 1.6013252 | BM54: 4 | BN54: 1 | BO54: 0 | BP54: 0 | BQ54: 3
A55: BOS | B55: SP | C55: E. Rodriguez | D55: =IFERROR(((BOS_P[[#This Row],[R]]*9)/BOS_P[[#This Row],[IP]]),0) -> 4.8542053 | E55: 6 | F55: 3 | G55: 10 | H55: 59.33 | I55: 64 | J55: 32 | K55: 24 | L55: 44 | M55: 0 | N55: =IFERROR((BOS_P[[#This Row],[BB]]+BOS_P[[#This Row],[H]])/BOS_P[[#This Row],[IP]],0) -> 1.4832294 | O55: 5 | P55: 1 | Q55: 0 | R55: 0 | S55: 4 | Z55: BOS | AA55: SP | AB55: E. Rodriguez | AC55: =IFERROR(((BOS_P297[[#This Row],[R]]*9)/BOS_P297[[#This Row],[IP]]),0) -> 4.9655172 | AD55: 1 | AE55: 5 | AF55: 10 | AG55: 58 | AH55: 65 | AI55: 32 | AJ55: 18 | AK55: 54 | AL55: 0 | AM55: =IFERROR((BOS_P297[[#This Row],[BB]]+BOS_P297[[#This Row],[H]])/BOS_P297[[#This Row],[IP]],0) -> 1.4310345 | AN55: 3 | AO55: 2 | AP55: 0 | AQ55: 0 | AR55: 4 | AY55: BOS | AZ55: SP | BA55: E. Rodriguez | BB55: =IFERROR((BOS_P210[[#This Row],[R]]*9)/BOS_P210[[#This Row],[IP]],0) -> 6.3943162 | BC55: 5 | BD55: 3 | BE55: 10 | BF55: 50.67 | BG55: 70 | BH55: 36 | BI55: 21 | BJ55: 43 | BK55: 0 | BL55: =IFERROR((BOS_P210[[#This Row],[BB]]+BOS_P210[[#This Row],[H]])/BOS_P210[[#This Row],[IP]],0) -> 1.7959345 | BM55: 5 | BN55: 1 | BO55: 0 | BP55: 0 | BQ55: 4
A56: BOS | B56: RP | C56: N. Pivetta | D56: =IFERROR(((BOS_P[[#This Row],[R]]*9)/BOS_P[[#This Row],[IP]]),0) -> 5.7434588 | E56: 0 | F56: 0 | G56: 9 | H56: 15.67 | I56: 15 | J56: 10 | K56: 10 | L56: 14 | M56: 1 | N56: =IFERROR((BOS_P[[#This Row],[BB]]+BOS_P[[#This Row],[H]])/BOS_P[[#This Row],[IP]],0) -> 1.5954052 | O56: 0 | P56: 0 | Q56: 0 | R56: 0 | S56: 5 | Z56: BOS | AA56: RP | AB56: N. Pivetta | AC56: =IFERROR(((BOS_P297[[#This Row],[R]]*9)/BOS_P297[[#This Row],[IP]]),0) -> 6.9839628 | AD56: 1 | AE56: 1 | AF56: 7 | AG56: 19.33 | AH56: 29 | AI56: 15 | AJ56: 13 | AK56: 17 | AL56: 0 | AM56: =IFERROR((BOS_P297[[#This Row],[BB]]+BOS_P297[[#This Row],[H]])/BOS_P297[[#This Row],[IP]],0) -> 2.1727884 | AN56: 0 | AO56: 0 | AP56: 0 | AQ56: 0 | AR56: 5 | AY56: BOS | AZ56: RP | BA56: N. Pivetta | BB56: =IFERROR((BOS_P210[[#This Row],[R]]*9)/BOS_P210[[#This Row],[IP]],0) -> 2.9451868 | BC56: 0 | BD56: 0 | BE56: 13 | BF56: 36.67 | BG56: 33 | BH56: 12 | BI56: 5 | BJ56: 37 | BK56: 0 | BL56: =IFERROR((BOS_P210[[#This Row],[BB]]+BOS_P210[[#This Row],[H]])/BOS_P210[[#This Row],[IP]],0) -> 1.0362694 | BM56: 0 | BN56: 0 | BO56: 0 | BP56: 0 | BQ56: 5
A57: BOS | B57: RP® | C57: K. Crawford | D57: =IFERROR(((BOS_P[[#This Row],[R]]*9)/BOS_P[[#This Row],[IP]]),0) -> 2.1608643 | E57: 0 | F57: 0 | G57: 5 | H57: 8.33 | I57: 7 | J57: 2 | K57: 4 | L57: 8 | M57: 0 | N57: =IFERROR((BOS_P[[#This Row],[BB]]+BOS_P[[#This Row],[H]])/BOS_P[[#This Row],[IP]],0) -> 1.3205282 | O57: 0 | P57: 0 | Q57: 0 | R57: 0 | S57: 6 | Z57: BOS | AA57: RP® | AB57: C. Seabold | AC57: =IFERROR(((BOS_P297[[#This Row],[R]]*9)/BOS_P297[[#This Row],[IP]]),0) -> 5.7434588 | AD57: 0 | AE57: 0 | AF57: 7 | AG57: 15.67 | AH57: 19 | AI57: 10 | AJ57: 4 | AK57: 11 | AL57: 0 | AM57: =IFERROR((BOS_P297[[#This Row],[BB]]+BOS_P297[[#This Row],[H]])/BOS_P297[[#This Row],[IP]],0) -> 1.4677728 | AN57: 0 | AO57: 0 | AP57: 0 | AQ57: 0 | AR57: 6 | AY57: BOS | AZ57: RP® | BA57: T. Houck | BB57: =IFERROR((BOS_P210[[#This Row],[R]]*9)/BOS_P210[[#This Row],[IP]],0) -> 3.5213564 | BC57: 3 | BD57: 1 | BE57: 16 | BF57: 30.67 | BG57: 25 | BH57: 12 | BI57: 18 | BJ57: 39 | BK57: 0 | BL57: =IFERROR((BOS_P210[[#This Row],[BB]]+BOS_P210[[#This Row],[H]])/BOS_P210[[#This Row],[IP]],0) -> 1.4020215 | BM57: 0 | BN57: 0 | BO57: 0 | BP57: 0 | BQ57: 6
A58: BOS | B58: RP® | C58: J. Slaten | D58: =IFERROR(((BOS_P[[#This Row],[R]]*9)/BOS_P[[#This Row],[IP]]),0) -> 3.0478955 | E58: 0 | F58: 0 | G58: 18 | H58: 20.67 | I58: 19 | J58: 7 | K58: 8 | L58: 24 | M58: 0 | N58: =IFERROR((BOS_P[[#This Row],[BB]]+BOS_P[[#This Row],[H]])/BOS_P[[#This Row],[IP]],0) -> 1.3062409 | O58: 0 | P58: 0 | Q58: 0 | R58: 0 | S58: 7 | Z58: BOS | AA58: RP | AB58: J. Schreiber | AC58: =IFERROR(((BOS_P297[[#This Row],[R]]*9)/BOS_P297[[#This Row],[IP]]),0) -> 3.0988687 | AD58: 5 | AE58: 0 | AF58: 19 | AG58: 20.33 | AH58: 12 | AI58: 7 | AJ58: 11 | AK58: 24 | AL58: 0 | AM58: =IFERROR((BOS_P297[[#This Row],[BB]]+BOS_P297[[#This Row],[H]])/BOS_P297[[#This Row],[IP]],0) -> 1.131333 | AN58: 0 | AO58: 0 | AP58: 0 | AQ58: 0 | AR58: 7 | AY58: BOS | AZ58: RP | BA58: H. Owens | BB58: =IFERROR((BOS_P210[[#This Row],[R]]*9)/BOS_P210[[#This Row],[IP]],0) -> 9 | BC58: 0 | BD58: 0 | BE58: 6 | BF58: 6 | BG58: 8 | BH58: 6 | BI58: 5 | BJ58: 5 | BK58: 0 | BL58: =IFERROR((BOS_P210[[#This Row],[BB]]+BOS_P210[[#This Row],[H]])/BOS_P210[[#This Row],[IP]],0) -> 2.1666667 | BM58: 0 | BN58: 0 | BO58: 0 | BP58: 0 | BQ58: 7
A59: BOS | B59: RP | C59: D. Pomeranz | D59: =IFERROR(((BOS_P[[#This Row],[R]]*9)/BOS_P[[#This Row],[IP]]),0) -> 5.6827151 | E59: 0 | F59: 0 | G59: 14 | H59: 12.67 | I59: 10 | J59: 8 | K59: 7 | L59: 15 | M59: 1 | N59: =IFERROR((BOS_P[[#This Row],[BB]]+BOS_P[[#This Row],[H]])/BOS_P[[#This Row],[IP]],0) -> 1.3417522 | O59: 0 | P59: 0 | Q59: 0 | R59: 0 | S59: 8 | Z59: BOS | AA59: RP | AB59: D. Pomeranz | AC59: =IFERROR(((BOS_P297[[#This Row],[R]]*9)/BOS_P297[[#This Row],[IP]]),0) -> 5.3026245 | AD59: 6 | AE59: 0 | AF59: 15 | AG59: 18.67 | AH59: 22 | AI59: 11 | AJ59: 5 | AK59: 19 | AL59: 1 | AM59: =IFERROR((BOS_P297[[#This Row],[BB]]+BOS_P297[[#This Row],[H]])/BOS_P297[[#This Row],[IP]],0) -> 1.4461703 | AN59: 0 | AO59: 0 | AP59: 0 | AQ59: 0 | AR59: 8 | AY59: BOS | AZ59: RP | BA59: D. Pomeranz | BB59: =IFERROR((BOS_P210[[#This Row],[R]]*9)/BOS_P210[[#This Row],[IP]],0) -> 6.3548102 | BC59: 0 | BD59: 2 | BE59: 12 | BF59: 11.33 | BG59: 14 | BH59: 8 | BI59: 6 | BJ59: 10 | BK59: 0 | BL59: =IFERROR((BOS_P210[[#This Row],[BB]]+BOS_P210[[#This Row],[H]])/BOS_P210[[#This Row],[IP]],0) -> 1.7652251 | BM59: 0 | BN59: 0 | BO59: 0 | BP59: 0 | BQ59: 8
A60: BOS | B60: RP | C60: M. Barnes | D60: =IFERROR(((BOS_P[[#This Row],[R]]*9)/BOS_P[[#This Row],[IP]]),0) -> 3.0763388 | E60: 2 | F60: 0 | G60: 20 | H60: 26.33 | I60: 25 | J60: 9 | K60: 15 | L60: 37 | M60: 1 | N60: =IFERROR((BOS_P[[#This Row],[BB]]+BOS_P[[#This Row],[H]])/BOS_P[[#This Row],[IP]],0) -> 1.5191796 | O60: 0 | P60: 0 | Q60: 0 | R60: 0 | S60: 9 | Z60: BOS | AA60: RP | AB60: M. Barnes | AC60: =IFERROR(((BOS_P297[[#This Row],[R]]*9)/BOS_P297[[#This Row],[IP]]),0) -> 7.0831284 | AD60: 1 | AE60: 1 | AF60: 18 | AG60: 20.33 | AH60: 24 | AI60: 16 | AJ60: 10 | AK60: 34 | AL60: 0 | AM60: =IFERROR((BOS_P297[[#This Row],[BB]]+BOS_P297[[#This Row],[H]])/BOS_P297[[#This Row],[IP]],0) -> 1.6724053 | AN60: 0 | AO60: 0 | AP60: 0 | AQ60: 0 | AR60: 9 | AY60: BOS | AZ60: RP | BA60: G. Whitlock | BB60: =IFERROR((BOS_P210[[#This Row],[R]]*9)/BOS_P210[[#This Row],[IP]],0) -> 3.96 | BC60: 0 | BD60: 0 | BE60: 24 | BF60: 25 | BG60: 26 | BH60: 11 | BI60: 6 | BJ60: 22 | BK60: 3 | BL60: =IFERROR((BOS_P210[[#This Row],[BB]]+BOS_P210[[#This Row],[H]])/BOS_P210[[#This Row],[IP]],0) -> 1.28 | BM60: 0 | BN60: 0 | BO60: 0 | BP60: 0 | BQ60: 9
A61: BOS | B61: RP | C61: G. Whitlock | D61: =IFERROR(((BOS_P[[#This Row],[R]]*9)/BOS_P[[#This Row],[IP]]),0) -> 3.1554344 | E61: 4 | F61: 2 | G61: 21 | H61: 25.67 | I61: 27 | J61: 9 | K61: 3 | L61: 24 | M61: 4 | N61: =IFERROR((BOS_P[[#This Row],[BB]]+BOS_P[[#This Row],[H]])/BOS_P[[#This Row],[IP]],0) -> 1.1686794 | O61: 0 | P61: 0 | Q61: 0 | R61: 0 | S61: 10 | Z61: BOS | AA61: RP | AB61: G. Whitlock | AC61: =IFERROR(((BOS_P297[[#This Row],[R]]*9)/BOS_P297[[#This Row],[IP]]),0) -> 2.1502522 | AD61: 1 | AE61: 0 | AF61: 30 | AG61: 37.67 | AH61: 32 | AI61: 9 | AJ61: 9 | AK61: 45 | AL61: 15 | AM61: =IFERROR((BOS_P297[[#This Row],[BB]]+BOS_P297[[#This Row],[H]])/BOS_P297[[#This Row],[IP]],0) -> 1.0883993 | AN61: 0 | AO61: 0 | AP61: 0 | AQ61: 0 | AR61: 10 | AY61: BOS | AZ61: RP | BA61: M. Barnes | BB61: =IFERROR((BOS_P210[[#This Row],[R]]*9)/BOS_P210[[#This Row],[IP]],0) -> 4.5 | BC61: 1 | BD61: 2 | BE61: 20 | BF61: 22 | BG61: 19 | BH61: 11 | BI61: 9 | BJ61: 35 | BK61: 12 | BL61: =IFERROR((BOS_P210[[#This Row],[BB]]+BOS_P210[[#This Row],[H]])/BOS_P210[[#This Row],[IP]],0) -> 1.2727273 | BM61: 0 | BN61: 0 | BO61: 0 | BP61: 0 | BQ61: 10
C62: TOTALS | D62: =(J62*9)/H62 -> 3.9468171 | E62: =SUBTOTAL(109,BOS_P[W]) -> 23 | F62: =SUBTOTAL(109,BOS_P[L]) -> 17 | H62: =SUBTOTAL(109,BOS_P[IP]) -> 358.01 | I62: =SUBTOTAL(109,BOS_P[H]) -> 338 | J62: =SUBTOTAL(109,BOS_P[R]) -> 157 | K62: =SUBTOTAL(109,BOS_P[BB]) -> 138 | L62: =SUBTOTAL(109,BOS_P[K]) -> 379 | M62: =SUBTOTAL(109,BOS_P[SV]) -> 7 | N62: =(I62+K62)/H62 -> 1.3295718 | O62: =SUBTOTAL(109,BOS_P[QS]) -> 27 | P62: =SUBTOTAL(109,BOS_P[UQ]) -> 10 | Q62: =SUBTOTAL(109,BOS_P[CG]) -> 1 | R62: =SUBTOTAL(109,BOS_P[SH]) -> 1 | AB62: TOTALS | AC62: =(AI62*9)/AG62 -> 4.8473517 | AD62: =SUBTOTAL(109,BOS_P297[W]) -> 25 | AE62: =SUBTOTAL(109,BOS_P297[L]) -> 15 | AG62: =SUBTOTAL(109,BOS_P297[IP]) -> 358.34 | AH62: =SUBTOTAL(109,BOS_P297[H]) -> 389 | AI62: =SUBTOTAL(109,BOS_P297[R]) -> 193 | AJ62: =SUBTOTAL(109,BOS_P297[BB]) -> 144 | AK62: =SUBTOTAL(109,BOS_P297[K]) -> 389 | AL62: =SUBTOTAL(109,BOS_P297[SV]) -> 16 | AM62: =(AH62+AJ62)/AG62 -> 1.4874142 | AN62: =SUBTOTAL(109,BOS_P297[QS]) -> 18 | AO62: =SUBTOTAL(109,BOS_P297[UQ]) -> 7 | AP62: =SUBTOTAL(109,BOS_P297[CG]) -> 0 | AQ62: =SUBTOTAL(109,BOS_P297[SH]) -> 0 | BA62: TOTALS | BB62: =IFERROR((BH62*9)/BF62,0) -> 4.532764 | BC62: =SUM(BC52:BC61) -> 27 | BD62: =SUM(BD52:BD61) -> 13 | BF62: =SUM(BF52:BF61) -> 365.34 | BG62: =SUM(BG52:BG61) -> 376 | BH62: =SUM(BH52:BH61) -> 184 | BI62: =SUM(BI52:BI61) -> 134 | BJ62: =SUM(BJ52:BJ61) -> 382 | BK62: =SUM(BK52:BK61) -> 15 | BL62: =(BI62+BG62)/BF62 -> 1.3959599 | BM62: =SUBTOTAL(109,BOS_P210[QS]) -> 22 | BN62: =SUBTOTAL(109,BOS_P210[UQ]) -> 8 | BO62: =SUM(BO52:BO61) -> 1 | BP62: =SUM(BP52:BP61) -> 1
A64: TORONTO BLUE JAYS 16-24 4th | Z64: TORONTO BLUE JAYS 29-11 *1st* | AY64: TORONTO BLUE JAYS 19-21 3rd
A65: TM | B65: @ | C65: NAME | D65: BA | E65: OBP | F65: SLG | G65: G | H65: AB | I65: R | J65: H | K65: 2B | L65: 3B | M65: HR | N65: RBI | O65: BB | P65: K | Q65: SB | R65: HS | S65: LS | T65: TB | U65: OPS | V65: * | W65: # | Z65: TM | AA65: @ | AB65: NAME | AC65: BA | AD65: OBP | AE65: SLG | AF65: G | AG65: AB | AH65: R | AI65: H | AJ65: 2B | AK65: 3B | AL65: HR | AM65: RBI | AN65: BB | AO65: K | AP65: SB | AQ65: HS | AR65: LS | AS65: TB | AT65: OPS | AU65: * | AV65: # | AY65: TM | AZ65: @ | BA65: NAME | BB65: BA | BC65: OBP | BD65: SLG | BE65: G | BF65: AB | BG65: R | BH65: H | BI65: 2B | BJ65: 3B | BK65: HR | BL65: RBI | BM65: BB | BN65: K | BO65: SB | BP65: HS | BQ65: LS | BR65: TB | BS65: OPS | BT65: * | BU65: #
A66: TOR | B66: C | C66: A. Kirk | D66: =IFERROR(TOR_H[[#This Row],[H]]/TOR_H[[#This Row],[AB]],0) -> 0.27272727 | E66: =IFERROR((TOR_H[[#This Row],[H]]+TOR_H[[#This Row],[BB]])/(TOR_H[[#This Row],[AB]]+TOR_H[[#This Row],[BB]]),0) -> 0.32307692 | F66: =IFERROR(((TOR_H[[#This Row],[H]]-TOR_H[[#This Row],[2B]]-TOR_H[[#This Row],[3B]]-TOR_H[[#This Row],[HR]])+(TOR_H[[#This Row],[2B]]*2)+(TOR_H[[#This Row],[3B]]*3)+(TOR_H[[#This Row],[HR]]*4))/TOR_H[[#This Row],[AB]],0) -> 0.39669421 | G66: 32 | H66: 121 | I66: 13 | J66: 33 | K66: 3 | L66: 0 | M66: 4 | N66: 14 | O66: 9 | P66: 27 | Q66: 0 | R66: 2 | S66: 9 | T66: =IFERROR((TOR_H[[#This Row],[H]]-TOR_H[[#This Row],[2B]]-TOR_H[[#This Row],[3B]]-TOR_H[[#This Row],[HR]])+(TOR_H[[#This Row],[2B]]*2)+(TOR_H[[#This Row],[3B]]*3)+(TOR_H[[#This Row],[HR]]*4),0) -> 48 | U66: =TOR_H[[#This Row],[OBP]]+TOR_H[[#This Row],[SLG]] -> 0.71977114 | V66: 1 | W66: 1 | Z66: TOR | AA66: C | AB66: A. Kirk | AC66: =IFERROR(TOR_H298[[#This Row],[H]]/TOR_H298[[#This Row],[AB]],0) -> 0.27380952 | AD66: =IFERROR((TOR_H298[[#This Row],[H]]+TOR_H298[[#This Row],[BB]])/(TOR_H298[[#This Row],[AB]]+TOR_H298[[#This Row],[BB]]),0) -> 0.38383838 | AE66: =IFERROR(((TOR_H298[[#This Row],[H]]-TOR_H298[[#This Row],[2B]]-TOR_H298[[#This Row],[3B]]-TOR_H298[[#This Row],[HR]])+(TOR_H298[[#This Row],[2B]]*2)+(TOR_H298[[#This Row],[3B]]*3)+(TOR_H298[[#This Row],[HR]]*4))/TOR_H298[[#This Row],[AB]],0) -> 0.42857143 | AF66: 27 | AG66: 84 | AH66: 14 | AI66: 23 | AJ66: 4 | AK66: 0 | AL66: 3 | AM66: 11 | AN66: 15 | AO66: 16 | AP66: 0 | AQ66: 4 | AR66: 6 | AS66: =IFERROR((TOR_H298[[#This Row],[H]]-TOR_H298[[#This Row],[2B]]-TOR_H298[[#This Row],[3B]]-TOR_H298[[#This Row],[HR]])+(TOR_H298[[#This Row],[2B]]*2)+(TOR_H298[[#This Row],[3B]]*3)+(TOR_H298[[#This Row],[HR]]*4),0) -> 36 | AT66: =TOR_H298[[#This Row],[OBP]]+TOR_H298[[#This Row],[SLG]] -> 0.81240981 | AU66: 1 | AV66: 1 | AY66: TOR | AZ66: C | BA66: D. Jansen | BB66: =IFERROR(TOR_H211[[#This Row],[H]]/TOR_H211[[#This Row],[AB]],0) -> 0.1971831 | BC66: =IFERROR((TOR_H211[[#This Row],[BB]]+TOR_H211[[#This Row],[H]])/(TOR_H211[[#This Row],[AB]]+TOR_H211[[#This Row],[BB]]),0) -> 0.32142857 | BD66: =IFERROR(((TOR_H211[[#This Row],[H]]-TOR_H211[[#This Row],[2B]]-TOR_H211[[#This Row],[3B]]-TOR_H211[[#This Row],[HR]])+(TOR_H211[[#This Row],[2B]]*2)+(TOR_H211[[#This Row],[3B]]*3)+(TOR_H211[[#This Row],[HR]]*4))/TOR_H211[[#This Row],[AB]],0) -> 0.4084507 | BE66: 26 | BF66: 71 | BG66: 10 | BH66: 14 | BI66: 3 | BJ66: 0 | BK66: 4 | BL66: 9 | BM66: 13 | BN66: 18 | BO66: 0 | BP66: 1 | BQ66: 4 | BR66: =((BH66-BI66-BJ66-BK66)+(BI66*2)+(BJ66*3)+(BK66*4)) -> 29 | BS66: =IFERROR(TOR_H211[[#This Row],[OBP]]+TOR_H211[[#This Row],[SLG]],0) -> 0.72987928 | BT66: 0 | BU66: 1
A67: TOR | B67: 3B | C67: M. Chapman | D67: =IFERROR(TOR_H[[#This Row],[H]]/TOR_H[[#This Row],[AB]],0) -> 0.20138889 | E67: =IFERROR((TOR_H[[#This Row],[H]]+TOR_H[[#This Row],[BB]])/(TOR_H[[#This Row],[AB]]+TOR_H[[#This Row],[BB]]),0) -> 0.29012346 | F67: =IFERROR(((TOR_H[[#This Row],[H]]-TOR_H[[#This Row],[2B]]-TOR_H[[#This Row],[3B]]-TOR_H[[#This Row],[HR]])+(TOR_H[[#This Row],[2B]]*2)+(TOR_H[[#This Row],[3B]]*3)+(TOR_H[[#This Row],[HR]]*4))/TOR_H[[#This Row],[AB]],0) -> 0.3125 | G67: 40 | H67: 144 | I67: 15 | J67: 29 | K67: 8 | L67: 1 | M67: 2 | N67: 8 | O67: 18 | P67: 52 | Q67: 0 | R67: 3 | S67: 3 | T67: =IFERROR((TOR_H[[#This Row],[H]]-TOR_H[[#This Row],[2B]]-TOR_H[[#This Row],[3B]]-TOR_H[[#This Row],[HR]])+(TOR_H[[#This Row],[2B]]*2)+(TOR_H[[#This Row],[3B]]*3)+(TOR_H[[#This Row],[HR]]*4),0) -> 45 | U67: =TOR_H[[#This Row],[OBP]]+TOR_H[[#This Row],[SLG]] -> 0.60262346 | V67: 1 | W67: 2 | Z67: TOR | AA67: 3B | AB67: M. Chapman | AC67: =IFERROR(TOR_H298[[#This Row],[H]]/TOR_H298[[#This Row],[AB]],0) -> 0.16788321 | AD67: =IFERROR((TOR_H298[[#This Row],[H]]+TOR_H298[[#This Row],[BB]])/(TOR_H298[[#This Row],[AB]]+TOR_H298[[#This Row],[BB]]),0) -> 0.25 | AE67: =IFERROR(((TOR_H298[[#This Row],[H]]-TOR_H298[[#This Row],[2B]]-TOR_H298[[#This Row],[3B]]-TOR_H298[[#This Row],[HR]])+(TOR_H298[[#This Row],[2B]]*2)+(TOR_H298[[#This Row],[3B]]*3)+(TOR_H298[[#This Row],[HR]]*4))/TOR_H298[[#This Row],[AB]],0) -> 0.2919708 | AF67: 40 | AG67: 137 | AH67: 10 | AI67: 23 | AJ67: 8 | AK67: 0 | AL67: 3 | AM67: 12 | AN67: 15 | AO67: 56 | AP67: 0 | AQ67: 1 | AR67: 6 | AS67: =IFERROR((TOR_H298[[#This Row],[H]]-TOR_H298[[#This Row],[2B]]-TOR_H298[[#This Row],[3B]]-TOR_H298[[#This Row],[HR]])+(TOR_H298[[#This Row],[2B]]*2)+(TOR_H298[[#This Row],[3B]]*3)+(TOR_H298[[#This Row],[HR]]*4),0) -> 40 | AT67: =TOR_H298[[#This Row],[OBP]]+TOR_H298[[#This Row],[SLG]] -> 0.5419708 | AU67: 1 | AV67: 2 | AY67: TOR | AZ67: 3B | BA67: M. Semien | BB67: =IFERROR(TOR_H211[[#This Row],[H]]/TOR_H211[[#This Row],[AB]],0) -> 0.26712329 | BC67: =IFERROR((TOR_H211[[#This Row],[BB]]+TOR_H211[[#This Row],[H]])/(TOR_H211[[#This Row],[AB]]+TOR_H211[[#This Row],[BB]]),0) -> 0.33950617 | BD67: =IFERROR(((TOR_H211[[#This Row],[H]]-TOR_H211[[#This Row],[2B]]-TOR_H211[[#This Row],[3B]]-TOR_H211[[#This Row],[HR]])+(TOR_H211[[#This Row],[2B]]*2)+(TOR_H211[[#This Row],[3B]]*3)+(TOR_H211[[#This Row],[HR]]*4))/TOR_H211[[#This Row],[AB]],0) -> 0.49315068 | BE67: 40 | BF67: 146 | BG67: 22 | BH67: 39 | BI67: 8 | BJ67: 2 | BK67: 7 | BL67: 23 | BM67: 16 | BN67: 42 | BO67: 0 | BP67: 1 | BQ67: 7 | BR67: =((BH67-BI67-BJ67-BK67)+(BI67*2)+(BJ67*3)+(BK67*4)) -> 72 | BS67: =IFERROR(TOR_H211[[#This Row],[OBP]]+TOR_H211[[#This Row],[SLG]],0) -> 0.83265686 | BT67: 1 | BU67: 2
A68: TOR | B68: SS | C68: B. Bichette | D68: =IFERROR(TOR_H[[#This Row],[H]]/TOR_H[[#This Row],[AB]],0) -> 0.25730994 | E68: =IFERROR((TOR_H[[#This Row],[H]]+TOR_H[[#This Row],[BB]])/(TOR_H[[#This Row],[AB]]+TOR_H[[#This Row],[BB]]),0) -> 0.28651685 | F68: =IFERROR(((TOR_H[[#This Row],[H]]-TOR_H[[#This Row],[2B]]-TOR_H[[#This Row],[3B]]-TOR_H[[#This Row],[HR]])+(TOR_H[[#This Row],[2B]]*2)+(TOR_H[[#This Row],[3B]]*3)+(TOR_H[[#This Row],[HR]]*4))/TOR_H[[#This Row],[AB]],0) -> 0.38011696 | G68: 40 | H68: 171 | I68: 12 | J68: 44 | K68: 6 | L68: 0 | M68: 5 | N68: 19 | O68: 7 | P68: 49 | Q68: 0 | R68: 3 | S68: 7 | T68: =IFERROR((TOR_H[[#This Row],[H]]-TOR_H[[#This Row],[2B]]-TOR_H[[#This Row],[3B]]-TOR_H[[#This Row],[HR]])+(TOR_H[[#This Row],[2B]]*2)+(TOR_H[[#This Row],[3B]]*3)+(TOR_H[[#This Row],[HR]]*4),0) -> 65 | U68: =TOR_H[[#This Row],[OBP]]+TOR_H[[#This Row],[SLG]] -> 0.66663381 | V68: 0 | W68: 3 | Z68: TOR | AA68: SS | AB68: B. Bichette | AC68: =IFERROR(TOR_H298[[#This Row],[H]]/TOR_H298[[#This Row],[AB]],0) -> 0.28658537 | AD68: =IFERROR((TOR_H298[[#This Row],[H]]+TOR_H298[[#This Row],[BB]])/(TOR_H298[[#This Row],[AB]]+TOR_H298[[#This Row],[BB]]),0) -> 0.31578947 | AE68: =IFERROR(((TOR_H298[[#This Row],[H]]-TOR_H298[[#This Row],[2B]]-TOR_H298[[#This Row],[3B]]-TOR_H298[[#This Row],[HR]])+(TOR_H298[[#This Row],[2B]]*2)+(TOR_H298[[#This Row],[3B]]*3)+(TOR_H298[[#This Row],[HR]]*4))/TOR_H298[[#This Row],[AB]],0) -> 0.57926829 | AF68: 39 | AG68: 164 | AH68: 26 | AI68: 47 | AJ68: 12 | AK68: 0 | AL68: 12 | AM68: 26 | AN68: 7 | AO68: 45 | AP68: 1 | AQ68: 0 | AR68: 15 | AS68: =IFERROR((TOR_H298[[#This Row],[H]]-TOR_H298[[#This Row],[2B]]-TOR_H298[[#This Row],[3B]]-TOR_H298[[#This Row],[HR]])+(TOR_H298[[#This Row],[2B]]*2)+(TOR_H298[[#This Row],[3B]]*3)+(TOR_H298[[#This Row],[HR]]*4),0) -> 95 | AT68: =TOR_H298[[#This Row],[OBP]]+TOR_H298[[#This Row],[SLG]] -> 0.89505777 | AU68: 5 | AV68: 3 | AY68: TOR | AZ68: SS | BA68: B. Bichette | BB68: =IFERROR(TOR_H211[[#This Row],[H]]/TOR_H211[[#This Row],[AB]],0) -> 0.20945946 | BC68: =IFERROR((TOR_H211[[#This Row],[BB]]+TOR_H211[[#This Row],[H]])/(TOR_H211[[#This Row],[AB]]+TOR_H211[[#This Row],[BB]]),0) -> 0.26415094 | BD68: =IFERROR(((TOR_H211[[#This Row],[H]]-TOR_H211[[#This Row],[2B]]-TOR_H211[[#This Row],[3B]]-TOR_H211[[#This Row],[HR]])+(TOR_H211[[#This Row],[2B]]*2)+(TOR_H211[[#This Row],[3B]]*3)+(TOR_H211[[#This Row],[HR]]*4))/TOR_H211[[#This Row],[AB]],0) -> 0.31081081 | BE68: 39 | BF68: 148 | BG68: 17 | BH68: 31 | BI68: 3 | BJ68: 0 | BK68: 4 | BL68: 11 | BM68: 11 | BN68: 44 | BO68: 8 | BP68: 1 | BQ68: 3 | BR68: =((BH68-BI68-BJ68-BK68)+(BI68*2)+(BJ68*3)+(BK68*4)) -> 46 | BS68: =IFERROR(TOR_H211[[#This Row],[OBP]]+TOR_H211[[#This Row],[SLG]],0) -> 0.57496175 | BT68: 1 | BU68: 3
A69: TOR | B69: 2B | C69: R. Alomar | D69: =IFERROR(TOR_H[[#This Row],[H]]/TOR_H[[#This Row],[AB]],0) -> 0.37724551 | E69: =IFERROR((TOR_H[[#This Row],[H]]+TOR_H[[#This Row],[BB]])/(TOR_H[[#This Row],[AB]]+TOR_H[[#This Row],[BB]]),0) -> 0.44086022 | F69: =IFERROR(((TOR_H[[#This Row],[H]]-TOR_H[[#This Row],[2B]]-TOR_H[[#This Row],[3B]]-TOR_H[[#This Row],[HR]])+(TOR_H[[#This Row],[2B]]*2)+(TOR_H[[#This Row],[3B]]*3)+(TOR_H[[#This Row],[HR]]*4))/TOR_H[[#This Row],[AB]],0) -> 0.55688623 | G69: 40 | H69: 167 | I69: 26 | J69: 63 | K69: 7 | L69: 1 | M69: 7 | N69: 20 | O69: 19 | P69: 34 | Q69: 23 | R69: 5 | S69: 15 | T69: =IFERROR((TOR_H[[#This Row],[H]]-TOR_H[[#This Row],[2B]]-TOR_H[[#This Row],[3B]]-TOR_H[[#This Row],[HR]])+(TOR_H[[#This Row],[2B]]*2)+(TOR_H[[#This Row],[3B]]*3)+(TOR_H[[#This Row],[HR]]*4),0) -> 93 | U69: =TOR_H[[#This Row],[OBP]]+TOR_H[[#This Row],[SLG]] -> 0.99774644 | V69: 2 | W69: 4 | Z69: TOR | AA69: 2B | AB69: R. Alomar | AC69: =IFERROR(TOR_H298[[#This Row],[H]]/TOR_H298[[#This Row],[AB]],0) -> 0.2611465 | AD69: =IFERROR((TOR_H298[[#This Row],[H]]+TOR_H298[[#This Row],[BB]])/(TOR_H298[[#This Row],[AB]]+TOR_H298[[#This Row],[BB]]),0) -> 0.34463277 | AE69: =IFERROR(((TOR_H298[[#This Row],[H]]-TOR_H298[[#This Row],[2B]]-TOR_H298[[#This Row],[3B]]-TOR_H298[[#This Row],[HR]])+(TOR_H298[[#This Row],[2B]]*2)+(TOR_H298[[#This Row],[3B]]*3)+(TOR_H298[[#This Row],[HR]]*4))/TOR_H298[[#This Row],[AB]],0) -> 0.39490446 | AF69: 39 | AG69: 157 | AH69: 25 | AI69: 41 | AJ69: 9 | AK69: 0 | AL69: 4 | AM69: 9 | AN69: 20 | AO69: 33 | AP69: 12 | AQ69: 0 | AR69: 8 | AS69: =IFERROR((TOR_H298[[#This Row],[H]]-TOR_H298[[#This Row],[2B]]-TOR_H298[[#This Row],[3B]]-TOR_H298[[#This Row],[HR]])+(TOR_H298[[#This Row],[2B]]*2)+(TOR_H298[[#This Row],[3B]]*3)+(TOR_H298[[#This Row],[HR]]*4),0) -> 62 | AT69: =TOR_H298[[#This Row],[OBP]]+TOR_H298[[#This Row],[SLG]] -> 0.73953723 | AU69: 3 | AV69: 4 | AY69: TOR | AZ69: 2B | BA69: R. Alomar | BB69: =IFERROR(TOR_H211[[#This Row],[H]]/TOR_H211[[#This Row],[AB]],0) -> 0.3030303 | BC69: =IFERROR((TOR_H211[[#This Row],[BB]]+TOR_H211[[#This Row],[H]])/(TOR_H211[[#This Row],[AB]]+TOR_H211[[#This Row],[BB]]),0) -> 0.3575419 | BD69: =IFERROR(((TOR_H211[[#This Row],[H]]-TOR_H211[[#This Row],[2B]]-TOR_H211[[#This Row],[3B]]-TOR_H211[[#This Row],[HR]])+(TOR_H211[[#This Row],[2B]]*2)+(TOR_H211[[#This Row],[3B]]*3)+(TOR_H211[[#This Row],[HR]]*4))/TOR_H211[[#This Row],[AB]],0) -> 0.47272727 | BE69: 38 | BF69: 165 | BG69: 25 | BH69: 50 | BI69: 8 | BJ69: 1 | BK69: 6 | BL69: 16 | BM69: 14 | BN69: 24 | BO69: 21 | BP69: 2 | BQ69: 9 | BR69: =((BH69-BI69-BJ69-BK69)+(BI69*2)+(BJ69*3)+(BK69*4)) -> 78 | BS69: =IFERROR(TOR_H211[[#This Row],[OBP]]+TOR_H211[[#This Row],[SLG]],0) -> 0.83026917 | BT69: 3 | BU69: 4
A70: TOR | B70: 1B | C70: V. Guerrero Jr | D70: =IFERROR(TOR_H[[#This Row],[H]]/TOR_H[[#This Row],[AB]],0) -> 0.19178082 | E70: =IFERROR((TOR_H[[#This Row],[H]]+TOR_H[[#This Row],[BB]])/(TOR_H[[#This Row],[AB]]+TOR_H[[#This Row],[BB]]),0) -> 0.32183908 | F70: =IFERROR(((TOR_H[[#This Row],[H]]-TOR_H[[#This Row],[2B]]-TOR_H[[#This Row],[3B]]-TOR_H[[#This Row],[HR]])+(TOR_H[[#This Row],[2B]]*2)+(TOR_H[[#This Row],[3B]]*3)+(TOR_H[[#This Row],[HR]]*4))/TOR_H[[#This Row],[AB]],0) -> 0.34246575 | G70: 39 | H70: 146 | I70: 14 | J70: 28 | K70: 7 | L70: 0 | M70: 5 | N70: 17 | O70: 28 | P70: 35 | Q70: 0 | R70: 1 | S70: 3 | T70: =IFERROR((TOR_H[[#This Row],[H]]-TOR_H[[#This Row],[2B]]-TOR_H[[#This Row],[3B]]-TOR_H[[#This Row],[HR]])+(TOR_H[[#This Row],[2B]]*2)+(TOR_H[[#This Row],[3B]]*3)+(TOR_H[[#This Row],[HR]]*4),0) -> 50 | U70: =TOR_H[[#This Row],[OBP]]+TOR_H[[#This Row],[SLG]] -> 0.66430483 | V70: 3 | W70: 5 | Z70: TOR | AA70: 1B | AB70: V. Guerrero Jr | AC70: =IFERROR(TOR_H298[[#This Row],[H]]/TOR_H298[[#This Row],[AB]],0) -> 0.20547945 | AD70: =IFERROR((TOR_H298[[#This Row],[H]]+TOR_H298[[#This Row],[BB]])/(TOR_H298[[#This Row],[AB]]+TOR_H298[[#This Row],[BB]]),0) -> 0.27950311 | AE70: =IFERROR(((TOR_H298[[#This Row],[H]]-TOR_H298[[#This Row],[2B]]-TOR_H298[[#This Row],[3B]]-TOR_H298[[#This Row],[HR]])+(TOR_H298[[#This Row],[2B]]*2)+(TOR_H298[[#This Row],[3B]]*3)+(TOR_H298[[#This Row],[HR]]*4))/TOR_H298[[#This Row],[AB]],0) -> 0.31506849 | AF70: 39 | AG70: 146 | AH70: 13 | AI70: 30 | AJ70: 7 | AK70: 0 | AL70: 3 | AM70: 26 | AN70: 15 | AO70: 42 | AP70: 0 | AQ70: 1 | AR70: 4 | AS70: =IFERROR((TOR_H298[[#This Row],[H]]-TOR_H298[[#This Row],[2B]]-TOR_H298[[#This Row],[3B]]-TOR_H298[[#This Row],[HR]])+(TOR_H298[[#This Row],[2B]]*2)+(TOR_H298[[#This Row],[3B]]*3)+(TOR_H298[[#This Row],[HR]]*4),0) -> 46 | AT70: =TOR_H298[[#This Row],[OBP]]+TOR_H298[[#This Row],[SLG]] -> 0.5945716 | AU70: 4 | AV70: 5 | AY70: TOR | AZ70: 1B | BA70: V. Guerrero Jr | BB70: =IFERROR(TOR_H211[[#This Row],[H]]/TOR_H211[[#This Row],[AB]],0) -> 0.25625 | BC70: =IFERROR((TOR_H211[[#This Row],[BB]]+TOR_H211[[#This Row],[H]])/(TOR_H211[[#This Row],[AB]]+TOR_H211[[#This Row],[BB]]),0) -> 0.33519553 | BD70: =IFERROR(((TOR_H211[[#This Row],[H]]-TOR_H211[[#This Row],[2B]]-TOR_H211[[#This Row],[3B]]-TOR_H211[[#This Row],[HR]])+(TOR_H211[[#This Row],[2B]]*2)+(TOR_H211[[#This Row],[3B]]*3)+(TOR_H211[[#This Row],[HR]]*4))/TOR_H211[[#This Row],[AB]],0) -> 0.48125 | BE70: 40 | BF70: 160 | BG70: 26 | BH70: 41 | BI70: 12 | BJ70: 0 | BK70: 8 | BL70: 23 | BM70: 19 | BN70: 42 | BO70: 0 | BP70: 0 | BQ70: 6 | BR70: =((BH70-BI70-BJ70-BK70)+(BI70*2)+(BJ70*3)+(BK70*4)) -> 77 | BS70: =IFERROR(TOR_H211[[#This Row],[OBP]]+TOR_H211[[#This Row],[SLG]],0) -> 0.81644553 | BT70: 1 | BU70: 5
A71: TOR | B71: LF | C71: T. Hernandez | D71: =IFERROR(TOR_H[[#This Row],[H]]/TOR_H[[#This Row],[AB]],0) -> 0.17592593 | E71: =IFERROR((TOR_H[[#This Row],[H]]+TOR_H[[#This Row],[BB]])/(TOR_H[[#This Row],[AB]]+TOR_H[[#This Row],[BB]]),0) -> 0.21929825 | F71: =IFERROR(((TOR_H[[#This Row],[H]]-TOR_H[[#This Row],[2B]]-TOR_H[[#This Row],[3B]]-TOR_H[[#This Row],[HR]])+(TOR_H[[#This Row],[2B]]*2)+(TOR_H[[#This Row],[3B]]*3)+(TOR_H[[#This Row],[HR]]*4))/TOR_H[[#This Row],[AB]],0) -> 0.43518519 | G71: 29 | H71: 108 | I71: 9 | J71: 19 | K71: 4 | L71: 3 | M71: 6 | N71: 17 | O71: 6 | P71: 43 | Q71: 0 | R71: 3 | S71: 3 | T71: =IFERROR((TOR_H[[#This Row],[H]]-TOR_H[[#This Row],[2B]]-TOR_H[[#This Row],[3B]]-TOR_H[[#This Row],[HR]])+(TOR_H[[#This Row],[2B]]*2)+(TOR_H[[#This Row],[3B]]*3)+(TOR_H[[#This Row],[HR]]*4),0) -> 47 | U71: =TOR_H[[#This Row],[OBP]]+TOR_H[[#This Row],[SLG]] -> 0.65448343 | V71: 3 | W71: 6 | Z71: TOR | AA71: LF | AB71: D. Varsho | AC71: =IFERROR(TOR_H298[[#This Row],[H]]/TOR_H298[[#This Row],[AB]],0) -> 0.22222222 | AD71: =IFERROR((TOR_H298[[#This Row],[H]]+TOR_H298[[#This Row],[BB]])/(TOR_H298[[#This Row],[AB]]+TOR_H298[[#This Row],[BB]]),0) -> 0.2519084 | AE71: =IFERROR(((TOR_H298[[#This Row],[H]]-TOR_H298[[#This Row],[2B]]-TOR_H298[[#This Row],[3B]]-TOR_H298[[#This Row],[HR]])+(TOR_H298[[#This Row],[2B]]*2)+(TOR_H298[[#This Row],[3B]]*3)+(TOR_H298[[#This Row],[HR]]*4))/TOR_H298[[#This Row],[AB]],0) -> 0.4047619 | AF71: 35 | AG71: 126 | AH71: 11 | AI71: 28 | AJ71: 8 | AK71: 0 | AL71: 5 | AM71: 11 | AN71: 5 | AO71: 33 | AP71: 0 | AQ71: 2 | AR71: 10 | AS71: =IFERROR((TOR_H298[[#This Row],[H]]-TOR_H298[[#This Row],[2B]]-TOR_H298[[#This Row],[3B]]-TOR_H298[[#This Row],[HR]])+(TOR_H298[[#This Row],[2B]]*2)+(TOR_H298[[#This Row],[3B]]*3)+(TOR_H298[[#This Row],[HR]]*4),0) -> 51 | AT71: =TOR_H298[[#This Row],[OBP]]+TOR_H298[[#This Row],[SLG]] -> 0.6566703 | AU71: 1 | AV71: 6 | AY71: TOR | AZ71: LF | BA71: L. Gurriel | BB71: =IFERROR(TOR_H211[[#This Row],[H]]/TOR_H211[[#This Row],[AB]],0) -> 0.28082192 | BC71: =IFERROR((TOR_H211[[#This Row],[BB]]+TOR_H211[[#This Row],[H]])/(TOR_H211[[#This Row],[AB]]+TOR_H211[[#This Row],[BB]]),0) -> 0.30921053 | BD71: =IFERROR(((TOR_H211[[#This Row],[H]]-TOR_H211[[#This Row],[2B]]-TOR_H211[[#This Row],[3B]]-TOR_H211[[#This Row],[HR]])+(TOR_H211[[#This Row],[2B]]*2)+(TOR_H211[[#This Row],[3B]]*3)+(TOR_H211[[#This Row],[HR]]*4))/TOR_H211[[#This Row],[AB]],0) -> 0.5 | BE71: 37 | BF71: 146 | BG71: 17 | BH71: 41 | BI71: 11 | BJ71: 0 | BK71: 7 | BL71: 19 | BM71: 6 | BN71: 39 | BO71: 0 | BP71: 0 | BQ71: 5 | BR71: =((BH71-BI71-BJ71-BK71)+(BI71*2)+(BJ71*3)+(BK71*4)) -> 73 | BS71: =IFERROR(TOR_H211[[#This Row],[OBP]]+TOR_H211[[#This Row],[SLG]],0) -> 0.80921053 | BT71: 1 | BU71: 6
A72: TOR | B72: CF | C72: D. Varsho | D72: =IFERROR(TOR_H[[#This Row],[H]]/TOR_H[[#This Row],[AB]],0) -> 0.21649485 | E72: =IFERROR((TOR_H[[#This Row],[H]]+TOR_H[[#This Row],[BB]])/(TOR_H[[#This Row],[AB]]+TOR_H[[#This Row],[BB]]),0) -> 0.27619048 | F72: =IFERROR(((TOR_H[[#This Row],[H]]-TOR_H[[#This Row],[2B]]-TOR_H[[#This Row],[3B]]-TOR_H[[#This Row],[HR]])+(TOR_H[[#This Row],[2B]]*2)+(TOR_H[[#This Row],[3B]]*3)+(TOR_H[[#This Row],[HR]]*4))/TOR_H[[#This Row],[AB]],0) -> 0.39175258 | G72: 30 | H72: 97 | I72: 11 | J72: 21 | K72: 3 | L72: 1 | M72: 4 | N72: 8 | O72: 8 | P72: 34 | Q72: 0 | R72: 0 | S72: 4 | T72: =IFERROR((TOR_H[[#This Row],[H]]-TOR_H[[#This Row],[2B]]-TOR_H[[#This Row],[3B]]-TOR_H[[#This Row],[HR]])+(TOR_H[[#This Row],[2B]]*2)+(TOR_H[[#This Row],[3B]]*3)+(TOR_H[[#This Row],[HR]]*4),0) -> 38 | U72: =TOR_H[[#This Row],[OBP]]+TOR_H[[#This Row],[SLG]] -> 0.66794305 | V72: 2 | W72: 7 | Z72: TOR | AA72: CF | AB72: G. Springer | AC72: =IFERROR(TOR_H298[[#This Row],[H]]/TOR_H298[[#This Row],[AB]],0) -> 0.25333333 | AD72: =IFERROR((TOR_H298[[#This Row],[H]]+TOR_H298[[#This Row],[BB]])/(TOR_H298[[#This Row],[AB]]+TOR_H298[[#This Row],[BB]]),0) -> 0.31707317 | AE72: =IFERROR(((TOR_H298[[#This Row],[H]]-TOR_H298[[#This Row],[2B]]-TOR_H298[[#This Row],[3B]]-TOR_H298[[#This Row],[HR]])+(TOR_H298[[#This Row],[2B]]*2)+(TOR_H298[[#This Row],[3B]]*3)+(TOR_H298[[#This Row],[HR]]*4))/TOR_H298[[#This Row],[AB]],0) -> 0.54 | AF72: 39 | AG72: 150 | AH72: 30 | AI72: 38 | AJ72: 6 | AK72: 2 | AL72: 11 | AM72: 29 | AN72: 14 | AO72: 39 | AP72: 0 | AQ72: 1 | AR72: 9 | AS72: =IFERROR((TOR_H298[[#This Row],[H]]-TOR_H298[[#This Row],[2B]]-TOR_H298[[#This Row],[3B]]-TOR_H298[[#This Row],[HR]])+(TOR_H298[[#This Row],[2B]]*2)+(TOR_H298[[#This Row],[3B]]*3)+(TOR_H298[[#This Row],[HR]]*4),0) -> 81 | AT72: =TOR_H298[[#This Row],[OBP]]+TOR_H298[[#This Row],[SLG]] -> 0.85707317 | AU72: 6 | AV72: 7 | AY72: TOR | AZ72: CF | BA72: G. Springer | BB72: =IFERROR(TOR_H211[[#This Row],[H]]/TOR_H211[[#This Row],[AB]],0) -> 0.24516129 | BC72: =IFERROR((TOR_H211[[#This Row],[BB]]+TOR_H211[[#This Row],[H]])/(TOR_H211[[#This Row],[AB]]+TOR_H211[[#This Row],[BB]]),0) -> 0.33522727 | BD72: =IFERROR(((TOR_H211[[#This Row],[H]]-TOR_H211[[#This Row],[2B]]-TOR_H211[[#This Row],[3B]]-TOR_H211[[#This Row],[HR]])+(TOR_H211[[#This Row],[2B]]*2)+(TOR_H211[[#This Row],[3B]]*3)+(TOR_H211[[#This Row],[HR]]*4))/TOR_H211[[#This Row],[AB]],0) -> 0.35483871 | BE72: 39 | BF72: 155 | BG72: 20 | BH72: 38 | BI72: 4 | BJ72: 2 | BK72: 3 | BL72: 23 | BM72: 21 | BN72: 47 | BO72: 0 | BP72: 4 | BQ72: 10 | BR72: =((BH72-BI72-BJ72-BK72)+(BI72*2)+(BJ72*3)+(BK72*4)) -> 55 | BS72: =IFERROR(TOR_H211[[#This Row],[OBP]]+TOR_H211[[#This Row],[SLG]],0) -> 0.69006598 | BT72: 2 | BU72: 7
A73: TOR | B73: RF | C73: G. Springer | D73: =IFERROR(TOR_H[[#This Row],[H]]/TOR_H[[#This Row],[AB]],0) -> 0.26845638 | E73: =IFERROR((TOR_H[[#This Row],[H]]+TOR_H[[#This Row],[BB]])/(TOR_H[[#This Row],[AB]]+TOR_H[[#This Row],[BB]]),0) -> 0.32716049 | F73: =IFERROR(((TOR_H[[#This Row],[H]]-TOR_H[[#This Row],[2B]]-TOR_H[[#This Row],[3B]]-TOR_H[[#This Row],[HR]])+(TOR_H[[#This Row],[2B]]*2)+(TOR_H[[#This Row],[3B]]*3)+(TOR_H[[#This Row],[HR]]*4))/TOR_H[[#This Row],[AB]],0) -> 0.51006711 | G73: 36 | H73: 149 | I73: 20 | J73: 40 | K73: 6 | L73: 3 | M73: 8 | N73: 24 | O73: 13 | P73: 31 | Q73: 0 | R73: 0 | S73: 6 | T73: =IFERROR((TOR_H[[#This Row],[H]]-TOR_H[[#This Row],[2B]]-TOR_H[[#This Row],[3B]]-TOR_H[[#This Row],[HR]])+(TOR_H[[#This Row],[2B]]*2)+(TOR_H[[#This Row],[3B]]*3)+(TOR_H[[#This Row],[HR]]*4),0) -> 76 | U73: =TOR_H[[#This Row],[OBP]]+TOR_H[[#This Row],[SLG]] -> 0.83722761 | V73: 2 | W73: 8 | Z73: TOR | AA73: RF | AB73: T. Hernandez | AC73: =IFERROR(TOR_H298[[#This Row],[H]]/TOR_H298[[#This Row],[AB]],0) -> 0.23076923 | AD73: =IFERROR((TOR_H298[[#This Row],[H]]+TOR_H298[[#This Row],[BB]])/(TOR_H298[[#This Row],[AB]]+TOR_H298[[#This Row],[BB]]),0) -> 0.26470588 | AE73: =IFERROR(((TOR_H298[[#This Row],[H]]-TOR_H298[[#This Row],[2B]]-TOR_H298[[#This Row],[3B]]-TOR_H298[[#This Row],[HR]])+(TOR_H298[[#This Row],[2B]]*2)+(TOR_H298[[#This Row],[3B]]*3)+(TOR_H298[[#This Row],[HR]]*4))/TOR_H298[[#This Row],[AB]],0) -> 0.46153846 | AF73: 36 | AG73: 130 | AH73: 12 | AI73: 30 | AJ73: 9 | AK73: 0 | AL73: 7 | AM73: 21 | AN73: 6 | AO73: 45 | AP73: 0 | AQ73: 1 | AR73: 3 | AS73: =IFERROR((TOR_H298[[#This Row],[H]]-TOR_H298[[#This Row],[2B]]-TOR_H298[[#This Row],[3B]]-TOR_H298[[#This Row],[HR]])+(TOR_H298[[#This Row],[2B]]*2)+(TOR_H298[[#This Row],[3B]]*3)+(TOR_H298[[#This Row],[HR]]*4),0) -> 60 | AT73: =TOR_H298[[#This Row],[OBP]]+TOR_H298[[#This Row],[SLG]] -> 0.72624434 | AU73: 2 | AV73: 8 | AY73: TOR | AZ73: RF | BA73: T. Hernandez | BB73: =IFERROR(TOR_H211[[#This Row],[H]]/TOR_H211[[#This Row],[AB]],0) -> 0.23404255 | BC73: =IFERROR((TOR_H211[[#This Row],[BB]]+TOR_H211[[#This Row],[H]])/(TOR_H211[[#This Row],[AB]]+TOR_H211[[#This Row],[BB]]),0) -> 0.30322581 | BD73: =IFERROR(((TOR_H211[[#This Row],[H]]-TOR_H211[[#This Row],[2B]]-TOR_H211[[#This Row],[3B]]-TOR_H211[[#This Row],[HR]])+(TOR_H211[[#This Row],[2B]]*2)+(TOR_H211[[#This Row],[3B]]*3)+(TOR_H211[[#This Row],[HR]]*4))/TOR_H211[[#This Row],[AB]],0) -> 0.46808511 | BE73: 36 | BF73: 141 | BG73: 21 | BH73: 33 | BI73: 6 | BJ73: 0 | BK73: 9 | BL73: 29 | BM73: 14 | BN73: 54 | BO73: 0 | BP73: 1 | BQ73: 10 | BR73: =((BH73-BI73-BJ73-BK73)+(BI73*2)+(BJ73*3)+(BK73*4)) -> 66 | BS73: =IFERROR(TOR_H211[[#This Row],[OBP]]+TOR_H211[[#This Row],[SLG]],0) -> 0.77131091 | BT73: 6 | BU73: 8
A74: TOR | B74: DH | C74: J. Bautista | D74: =IFERROR(TOR_H[[#This Row],[H]]/TOR_H[[#This Row],[AB]],0) -> 0.2406015 | E74: =IFERROR((TOR_H[[#This Row],[H]]+TOR_H[[#This Row],[BB]])/(TOR_H[[#This Row],[AB]]+TOR_H[[#This Row],[BB]]),0) -> 0.34415584 | F74: =IFERROR(((TOR_H[[#This Row],[H]]-TOR_H[[#This Row],[2B]]-TOR_H[[#This Row],[3B]]-TOR_H[[#This Row],[HR]])+(TOR_H[[#This Row],[2B]]*2)+(TOR_H[[#This Row],[3B]]*3)+(TOR_H[[#This Row],[HR]]*4))/TOR_H[[#This Row],[AB]],0) -> 0.47368421 | G74: 37 | H74: 133 | I74: 19 | J74: 32 | K74: 7 | L74: 0 | M74: 8 | N74: 14 | O74: 21 | P74: 34 | Q74: 0 | R74: 2 | S74: 6 | T74: =IFERROR((TOR_H[[#This Row],[H]]-TOR_H[[#This Row],[2B]]-TOR_H[[#This Row],[3B]]-TOR_H[[#This Row],[HR]])+(TOR_H[[#This Row],[2B]]*2)+(TOR_H[[#This Row],[3B]]*3)+(TOR_H[[#This Row],[HR]]*4),0) -> 63 | U74: =TOR_H[[#This Row],[OBP]]+TOR_H[[#This Row],[SLG]] -> 0.81784005 | V74: 1 | W74: 9 | Z74: TOR | AA74: DH | AB74: J. Bautista | AC74: =IFERROR(TOR_H298[[#This Row],[H]]/TOR_H298[[#This Row],[AB]],0) -> 0.24427481 | AD74: =IFERROR((TOR_H298[[#This Row],[H]]+TOR_H298[[#This Row],[BB]])/(TOR_H298[[#This Row],[AB]]+TOR_H298[[#This Row],[BB]]),0) -> 0.36129032 | AE74: =IFERROR(((TOR_H298[[#This Row],[H]]-TOR_H298[[#This Row],[2B]]-TOR_H298[[#This Row],[3B]]-TOR_H298[[#This Row],[HR]])+(TOR_H298[[#This Row],[2B]]*2)+(TOR_H298[[#This Row],[3B]]*3)+(TOR_H298[[#This Row],[HR]]*4))/TOR_H298[[#This Row],[AB]],0) -> 0.41984733 | AF74: 39 | AG74: 131 | AH74: 18 | AI74: 32 | AJ74: 8 | AK74: 0 | AL74: 5 | AM74: 20 | AN74: 24 | AO74: 32 | AP74: 0 | AQ74: 3 | AR74: 7 | AS74: =IFERROR((TOR_H298[[#This Row],[H]]-TOR_H298[[#This Row],[2B]]-TOR_H298[[#This Row],[3B]]-TOR_H298[[#This Row],[HR]])+(TOR_H298[[#This Row],[2B]]*2)+(TOR_H298[[#This Row],[3B]]*3)+(TOR_H298[[#This Row],[HR]]*4),0) -> 55 | AT74: =TOR_H298[[#This Row],[OBP]]+TOR_H298[[#This Row],[SLG]] -> 0.78113765 | AU74: 3 | AV74: 9 | AY74: TOR | AZ74: DH | BA74: J. Bautista | BB74: =IFERROR(TOR_H211[[#This Row],[H]]/TOR_H211[[#This Row],[AB]],0) -> 0.2421875 | BC74: =IFERROR((TOR_H211[[#This Row],[BB]]+TOR_H211[[#This Row],[H]])/(TOR_H211[[#This Row],[AB]]+TOR_H211[[#This Row],[BB]]),0) -> 0.36184211 | BD74: =IFERROR(((TOR_H211[[#This Row],[H]]-TOR_H211[[#This Row],[2B]]-TOR_H211[[#This Row],[3B]]-TOR_H211[[#This Row],[HR]])+(TOR_H211[[#This Row],[2B]]*2)+(TOR_H211[[#This Row],[3B]]*3)+(TOR_H211[[#This Row],[HR]]*4))/TOR_H211[[#This Row],[AB]],0) -> 0.4140625 | BE74: 35 | BF74: 128 | BG74: 23 | BH74: 31 | BI74: 1 | BJ74: 0 | BK74: 7 | BL74: 20 | BM74: 24 | BN74: 30 | BO74: 0 | BP74: 3 | BQ74: 5 | BR74: =((BH74-BI74-BJ74-BK74)+(BI74*2)+(BJ74*3)+(BK74*4)) -> 53 | BS74: =IFERROR(TOR_H211[[#This Row],[OBP]]+TOR_H211[[#This Row],[SLG]],0) -> 0.77590461 | BT74: 2 | BU74: 9
A75: TOR | B75: C | C75: D. Jansen | D75: =IFERROR(TOR_H[[#This Row],[H]]/TOR_H[[#This Row],[AB]],0) -> 0.15384615 | E75: =IFERROR((TOR_H[[#This Row],[H]]+TOR_H[[#This Row],[BB]])/(TOR_H[[#This Row],[AB]]+TOR_H[[#This Row],[BB]]),0) -> 0.21428571 | F75: =IFERROR(((TOR_H[[#This Row],[H]]-TOR_H[[#This Row],[2B]]-TOR_H[[#This Row],[3B]]-TOR_H[[#This Row],[HR]])+(TOR_H[[#This Row],[2B]]*2)+(TOR_H[[#This Row],[3B]]*3)+(TOR_H[[#This Row],[HR]]*4))/TOR_H[[#This Row],[AB]],0) -> 0.19230769 | G75: 8 | H75: 26 | I75: 1 | J75: 4 | K75: 1 | L75: 0 | M75: 0 | N75: 1 | O75: 2 | P75: 7 | Q75: 0 | R75: 2 | S75: 2 | T75: =IFERROR((TOR_H[[#This Row],[H]]-TOR_H[[#This Row],[2B]]-TOR_H[[#This Row],[3B]]-TOR_H[[#This Row],[HR]])+(TOR_H[[#This Row],[2B]]*2)+(TOR_H[[#This Row],[3B]]*3)+(TOR_H[[#This Row],[HR]]*4),0) -> 5 | U75: =TOR_H[[#This Row],[OBP]]+TOR_H[[#This Row],[SLG]] -> 0.40659341 | V75: 0 | W75: 10 | Z75: TOR | AA75: C | AB75: D. Jansen | AC75: =IFERROR(TOR_H298[[#This Row],[H]]/TOR_H298[[#This Row],[AB]],0) -> 0.18604651 | AD75: =IFERROR((TOR_H298[[#This Row],[H]]+TOR_H298[[#This Row],[BB]])/(TOR_H298[[#This Row],[AB]]+TOR_H298[[#This Row],[BB]]),0) -> 0.27083333 | AE75: =IFERROR(((TOR_H298[[#This Row],[H]]-TOR_H298[[#This Row],[2B]]-TOR_H298[[#This Row],[3B]]-TOR_H298[[#This Row],[HR]])+(TOR_H298[[#This Row],[2B]]*2)+(TOR_H298[[#This Row],[3B]]*3)+(TOR_H298[[#This Row],[HR]]*4))/TOR_H298[[#This Row],[AB]],0) -> 0.48837209 | AF75: 15 | AG75: 43 | AH75: 6 | AI75: 8 | AJ75: 4 | AK75: 0 | AL75: 3 | AM75: 4 | AN75: 5 | AO75: 13 | AP75: 0 | AQ75: 0 | AR75: 4 | AS75: =IFERROR((TOR_H298[[#This Row],[H]]-TOR_H298[[#This Row],[2B]]-TOR_H298[[#This Row],[3B]]-TOR_H298[[#This Row],[HR]])+(TOR_H298[[#This Row],[2B]]*2)+(TOR_H298[[#This Row],[3B]]*3)+(TOR_H298[[#This Row],[HR]]*4),0) -> 21 | AT75: =TOR_H298[[#This Row],[OBP]]+TOR_H298[[#This Row],[SLG]] -> 0.75920543 | AU75: 2 | AV75: 10 | AY75: TOR | AZ75: C | BA75: A. Kirk | BB75: =IFERROR(TOR_H211[[#This Row],[H]]/TOR_H211[[#This Row],[AB]],0) -> 0.13114754 | BC75: =IFERROR((TOR_H211[[#This Row],[BB]]+TOR_H211[[#This Row],[H]])/(TOR_H211[[#This Row],[AB]]+TOR_H211[[#This Row],[BB]]),0) -> 0.171875 | BD75: =IFERROR(((TOR_H211[[#This Row],[H]]-TOR_H211[[#This Row],[2B]]-TOR_H211[[#This Row],[3B]]-TOR_H211[[#This Row],[HR]])+(TOR_H211[[#This Row],[2B]]*2)+(TOR_H211[[#This Row],[3B]]*3)+(TOR_H211[[#This Row],[HR]]*4))/TOR_H211[[#This Row],[AB]],0) -> 0.24590164 | BE75: 23 | BF75: 61 | BG75: 3 | BH75: 8 | BI75: 1 | BJ75: 0 | BK75: 2 | BL75: 6 | BM75: 3 | BN75: 21 | BO75: 0 | BP75: 0 | BQ75: 3 | BR75: =((BH75-BI75-BJ75-BK75)+(BI75*2)+(BJ75*3)+(BK75*4)) -> 15 | BS75: =IFERROR(TOR_H211[[#This Row],[OBP]]+TOR_H211[[#This Row],[SLG]],0) -> 0.41777664 | BT75: 1 | BU75: 10
A76: TOR | B76: INF | C76: J. Olerud | D76: =IFERROR(TOR_H[[#This Row],[H]]/TOR_H[[#This Row],[AB]],0) -> 0.25 | E76: =IFERROR((TOR_H[[#This Row],[H]]+TOR_H[[#This Row],[BB]])/(TOR_H[[#This Row],[AB]]+TOR_H[[#This Row],[BB]]),0) -> 0.25 | F76: =IFERROR(((TOR_H[[#This Row],[H]]-TOR_H[[#This Row],[2B]]-TOR_H[[#This Row],[3B]]-TOR_H[[#This Row],[HR]])+(TOR_H[[#This Row],[2B]]*2)+(TOR_H[[#This Row],[3B]]*3)+(TOR_H[[#This Row],[HR]]*4))/TOR_H[[#This Row],[AB]],0) -> 0.29166667 | G76: 6 | H76: 24 | I76: 0 | J76: 6 | K76: 1 | L76: 0 | M76: 0 | N76: 1 | O76: 0 | P76: 2 | Q76: 0 | R76: 0 | S76: 2 | T76: =IFERROR((TOR_H[[#This Row],[H]]-TOR_H[[#This Row],[2B]]-TOR_H[[#This Row],[3B]]-TOR_H[[#This Row],[HR]])+(TOR_H[[#This Row],[2B]]*2)+(TOR_H[[#This Row],[3B]]*3)+(TOR_H[[#This Row],[HR]]*4),0) -> 7 | U76: =TOR_H[[#This Row],[OBP]]+TOR_H[[#This Row],[SLG]] -> 0.54166667 | V76: 0 | W76: 11 | Z76: TOR | AA76: INF | AB76: J. Olerud | AC76: =IFERROR(TOR_H298[[#This Row],[H]]/TOR_H298[[#This Row],[AB]],0) -> 0.35 | AD76: =IFERROR((TOR_H298[[#This Row],[H]]+TOR_H298[[#This Row],[BB]])/(TOR_H298[[#This Row],[AB]]+TOR_H298[[#This Row],[BB]]),0) -> 0.38095238 | AE76: =IFERROR(((TOR_H298[[#This Row],[H]]-TOR_H298[[#This Row],[2B]]-TOR_H298[[#This Row],[3B]]-TOR_H298[[#This Row],[HR]])+(TOR_H298[[#This Row],[2B]]*2)+(TOR_H298[[#This Row],[3B]]*3)+(TOR_H298[[#This Row],[HR]]*4))/TOR_H298[[#This Row],[AB]],0) -> 0.35 | AF76: 5 | AG76: 20 | AH76: 3 | AI76: 7 | AJ76: 0 | AK76: 0 | AL76: 0 | AM76: 0 | AN76: 1 | AO76: 3 | AP76: 0 | AQ76: 1 | AR76: 1 | AS76: =IFERROR((TOR_H298[[#This Row],[H]]-TOR_H298[[#This Row],[2B]]-TOR_H298[[#This Row],[3B]]-TOR_H298[[#This Row],[HR]])+(TOR_H298[[#This Row],[2B]]*2)+(TOR_H298[[#This Row],[3B]]*3)+(TOR_H298[[#This Row],[HR]]*4),0) -> 7 | AT76: =TOR_H298[[#This Row],[OBP]]+TOR_H298[[#This Row],[SLG]] -> 0.73095238 | AU76: 0 | AV76: 11 | AY76: TOR | AZ76: INF | BA76: J. Olerud | BB76: =IFERROR(TOR_H211[[#This Row],[H]]/TOR_H211[[#This Row],[AB]],0) -> 0.38709677 | BC76: =IFERROR((TOR_H211[[#This Row],[BB]]+TOR_H211[[#This Row],[H]])/(TOR_H211[[#This Row],[AB]]+TOR_H211[[#This Row],[BB]]),0) -> 0.45714286 | BD76: =IFERROR(((TOR_H211[[#This Row],[H]]-TOR_H211[[#This Row],[2B]]-TOR_H211[[#This Row],[3B]]-TOR_H211[[#This Row],[HR]])+(TOR_H211[[#This Row],[2B]]*2)+(TOR_H211[[#This Row],[3B]]*3)+(TOR_H211[[#This Row],[HR]]*4))/TOR_H211[[#This Row],[AB]],0) -> 0.51612903 | BE76: 18 | BF76: 31 | BG76: 6 | BH76: 12 | BI76: 1 | BJ76: 0 | BK76: 1 | BL76: 5 | BM76: 4 | BN76: 8 | BO76: 0 | BP76: 0 | BQ76: 2 | BR76: =((BH76-BI76-BJ76-BK76)+(BI76*2)+(BJ76*3)+(BK76*4)) -> 16 | BS76: =IFERROR(TOR_H211[[#This Row],[OBP]]+TOR_H211[[#This Row],[SLG]],0) -> 0.97327189 | BT76: 1 | BU76: 11
A77: TOR | B77: INF® | C77: O. Lopez | D77: =IFERROR(TOR_H[[#This Row],[H]]/TOR_H[[#This Row],[AB]],0) -> 0 | E77: =IFERROR((TOR_H[[#This Row],[H]]+TOR_H[[#This Row],[BB]])/(TOR_H[[#This Row],[AB]]+TOR_H[[#This Row],[BB]]),0) -> 0 | F77: =IFERROR(((TOR_H[[#This Row],[H]]-TOR_H[[#This Row],[2B]]-TOR_H[[#This Row],[3B]]-TOR_H[[#This Row],[HR]])+(TOR_H[[#This Row],[2B]]*2)+(TOR_H[[#This Row],[3B]]*3)+(TOR_H[[#This Row],[HR]]*4))/TOR_H[[#This Row],[AB]],0) -> 0 | G77: 0 | H77: 0 | I77: 0 | J77: 0 | K77: 0 | L77: 0 | M77: 0 | N77: 0 | O77: 0 | P77: 0 | Q77: 0 | R77: 0 | S77: 0 | T77: =IFERROR((TOR_H[[#This Row],[H]]-TOR_H[[#This Row],[2B]]-TOR_H[[#This Row],[3B]]-TOR_H[[#This Row],[HR]])+(TOR_H[[#This Row],[2B]]*2)+(TOR_H[[#This Row],[3B]]*3)+(TOR_H[[#This Row],[HR]]*4),0) -> 0 | U77: =TOR_H[[#This Row],[OBP]]+TOR_H[[#This Row],[SLG]] -> 0 | V77: 0 | W77: 12 | Z77: TOR | AA77: INF | AB77: C. Biggio | AC77: =IFERROR(TOR_H298[[#This Row],[H]]/TOR_H298[[#This Row],[AB]],0) -> 0.15384615 | AD77: =IFERROR((TOR_H298[[#This Row],[H]]+TOR_H298[[#This Row],[BB]])/(TOR_H298[[#This Row],[AB]]+TOR_H298[[#This Row],[BB]]),0) -> 0.3125 | AE77: =IFERROR(((TOR_H298[[#This Row],[H]]-TOR_H298[[#This Row],[2B]]-TOR_H298[[#This Row],[3B]]-TOR_H298[[#This Row],[HR]])+(TOR_H298[[#This Row],[2B]]*2)+(TOR_H298[[#This Row],[3B]]*3)+(TOR_H298[[#This Row],[HR]]*4))/TOR_H298[[#This Row],[AB]],0) -> 0.38461538 | AF77: 5 | AG77: 13 | AH77: 2 | AI77: 2 | AJ77: 0 | AK77: 0 | AL77: 1 | AM77: 1 | AN77: 3 | AO77: 7 | AP77: 0 | AQ77: 1 | AR77: 1 | AS77: =IFERROR((TOR_H298[[#This Row],[H]]-TOR_H298[[#This Row],[2B]]-TOR_H298[[#This Row],[3B]]-TOR_H298[[#This Row],[HR]])+(TOR_H298[[#This Row],[2B]]*2)+(TOR_H298[[#This Row],[3B]]*3)+(TOR_H298[[#This Row],[HR]]*4),0) -> 5 | AT77: =TOR_H298[[#This Row],[OBP]]+TOR_H298[[#This Row],[SLG]] -> 0.69711538 | AU77: 0 | AV77: 12 | AY77: TOR | AZ77: INF | BA77: C. Biggio | BB77: =IFERROR(TOR_H211[[#This Row],[H]]/TOR_H211[[#This Row],[AB]],0) -> 0.36842105 | BC77: =IFERROR((TOR_H211[[#This Row],[BB]]+TOR_H211[[#This Row],[H]])/(TOR_H211[[#This Row],[AB]]+TOR_H211[[#This Row],[BB]]),0) -> 0.42857143 | BD77: =IFERROR(((TOR_H211[[#This Row],[H]]-TOR_H211[[#This Row],[2B]]-TOR_H211[[#This Row],[3B]]-TOR_H211[[#This Row],[HR]])+(TOR_H211[[#This Row],[2B]]*2)+(TOR_H211[[#This Row],[3B]]*3)+(TOR_H211[[#This Row],[HR]]*4))/TOR_H211[[#This Row],[AB]],0) -> 0.57894737 | BE77: 6 | BF77: 19 | BG77: 4 | BH77: 7 | BI77: 1 | BJ77: 0 | BK77: 1 | BL77: 1 | BM77: 2 | BN77: 5 | BO77: 0 | BP77: 0 | BQ77: 2 | BR77: =((BH77-BI77-BJ77-BK77)+(BI77*2)+(BJ77*3)+(BK77*4)) -> 11 | BS77: =IFERROR(TOR_H211[[#This Row],[OBP]]+TOR_H211[[#This Row],[SLG]],0) -> 1.0075188 | BT77: 0 | BU77: 12
... A79: TOR | B79: OF | C79: K. Pillar | D79: =IFERROR(TOR_H[[#This Row],[H]]/TOR_H[[#This Row],[AB]],0) -> 0.21276596 | E79: =IFERROR((TOR_H[[#This Row],[H]]+TOR_H[[#This Row],[BB]])/(TOR_H[[#This Row],[AB]]+TOR_H[[#This Row],[BB]]),0) -> 0.21276596 | F79: =IFERROR(((TOR_H[[#This Row],[H]]-TOR_H[[#This Row],[2B]]-TOR_H[[#This Row],[3B]]-TOR_H[[#This Row],[HR]])+(TOR_H[[#This Row],[2B]]*2)+(TOR_H[[#This Row],[3B]]*3)+(TOR_H[[#This Row],[HR]]*4))/TOR_H[[#This Row],[AB]],0) -> 0.42553191 | G79: 13 | H79: 47 | I79: 4 | J79: 10 | K79: 7 | L79: 0 | M79: 1 | N79: 4 | O79: 0 | P79: 10 | Q79: 0 | R79: 2 | S79: 3 | T79: =IFERROR((TOR_H[[#This Row],[H]]-TOR_H[[#This Row],[2B]]-TOR_H[[#This Row],[3B]]-TOR_H[[#This Row],[HR]])+(TOR_H[[#This Row],[2B]]*2)+(TOR_H[[#This Row],[3B]]*3)+(TOR_H[[#This Row],[HR]]*4),0) -> 20 | U79: =TOR_H[[#This Row],[OBP]]+TOR_H[[#This Row],[SLG]] -> 0.63829787 | V79: 1 | W79: 14 | Z79: TOR | AA79: OF | AB79: K. Pillar | AC79: =IFERROR(TOR_H298[[#This Row],[H]]/TOR_H298[[#This Row],[AB]],0) -> 0.22580645 | AD79: =IFERROR((TOR_H298[[#This Row],[H]]+TOR_H298[[#This Row],[BB]])/(TOR_H298[[#This Row],[AB]]+TOR_H298[[#This Row],[BB]]),0) -> 0.22580645 | AE79: =IFERROR(((TOR_H298[[#This Row],[H]]-TOR_H298[[#This Row],[2B]]-TOR_H298[[#This Row],[3B]]-TOR_H298[[#This Row],[HR]])+(TOR_H298[[#This Row],[2B]]*2)+(TOR_H298[[#This Row],[3B]]*3)+(TOR_H298[[#This Row],[HR]]*4))/TOR_H298[[#This Row],[AB]],0) -> 0.29032258 | AF79: 9 | AG79: 31 | AH79: 3 | AI79: 7 | AJ79: 2 | AK79: 0 | AL79: 0 | AM79: 3 | AN79: 0 | AO79: 5 | AP79: 0 | AQ79: 0 | AR79: 2 | AS79: =IFERROR((TOR_H298[[#This Row],[H]]-TOR_H298[[#This Row],[2B]]-TOR_H298[[#This Row],[3B]]-TOR_H298[[#This Row],[HR]])+(TOR_H298[[#This Row],[2B]]*2)+(TOR_H298[[#This Row],[3B]]*3)+(TOR_H298[[#This Row],[HR]]*4),0) -> 9 | AT79: =TOR_H298[[#This Row],[OBP]]+TOR_H298[[#This Row],[SLG]] -> 0.51612903 | AU79: 0 | AV79: 14 | AY79: TOR | AZ79: OF | BA79: K. Pillar | BB79: =IFERROR(TOR_H211[[#This Row],[H]]/TOR_H211[[#This Row],[AB]],0) -> 0.35 | BC79: =IFERROR((TOR_H211[[#This Row],[BB]]+TOR_H211[[#This Row],[H]])/(TOR_H211[[#This Row],[AB]]+TOR_H211[[#This Row],[BB]]),0) -> 0.40909091 | BD79: =IFERROR(((TOR_H211[[#This Row],[H]]-TOR_H211[[#This Row],[2B]]-TOR_H211[[#This Row],[3B]]-TOR_H211[[#This Row],[HR]])+(TOR_H211[[#This Row],[2B]]*2)+(TOR_H211[[#This Row],[3B]]*3)+(TOR_H211[[#This Row],[HR]]*4))/TOR_H211[[#This Row],[AB]],0) -> 0.6 | BE79: 8 | BF79: 20 | BG79: 2 | BH79: 7 | BI79: 5 | BJ79: 0 | BK79: 0 | BL79: 3 | BM79: 2 | BN79: 5 | BO79: 0 | BP79: 0 | BQ79: 4 | BR79: =((BH79-BI79-BJ79-BK79)+(BI79*2)+(BJ79*3)+(BK79*4)) -> 12 | BS79: =IFERROR(TOR_H211[[#This Row],[OBP]]+TOR_H211[[#This Row],[SLG]],0) -> 1.0090909 | BT79: 0 | BU79: 14
C80: TOTALS | D80: =J80/H80 -> 0.24585436 | E80: =(J80+O80)/(O80+H80) -> 0.31093544 | F80: =((J80-K80-L80-M80)+(K80*2)+(L80*3)+(M80*4))/H80 -> 0.41672675 | H80: =SUBTOTAL(109,TOR_H[AB]) -> 1387 | I80: =SUBTOTAL(109,TOR_H[R]) -> 149 | J80: =SUBTOTAL(109,TOR_H[H]) -> 341 | K80: =SUBTOTAL(109,TOR_H[2B]) -> 63 | L80: =SUBTOTAL(109,TOR_H[3B]) -> 9 | M80: =SUBTOTAL(109,TOR_H[HR]) -> 52 | N80: =SUBTOTAL(109,TOR_H[RBI]) -> 149 | O80: =SUBTOTAL(109,TOR_H[BB]) -> 131 | P80: =SUBTOTAL(109,TOR_H[K]) -> 373 | Q80: =SUBTOTAL(109,TOR_H[SB]) -> 23 | T80: =SUBTOTAL(109,TOR_H[TB]) -> 578 | U80: =E80+F80 -> 0.72766219 | V80: =SUBTOTAL(109,TOR_H[*]) -> 16 | AB80: TOTALS | AC80: =AI80/AG80 -> 0.23707533 | AD80: =(AI80+AN80)/(AN80+AG80) -> 0.3043771 | AE80: =((AI80-AJ80-AK80-AL80)+(AJ80*2)+(AK80*3)+(AL80*4))/AG80 -> 0.42614476 | AG80: =SUBTOTAL(109,TOR_H298[AB]) -> 1354 | AH80: =SUBTOTAL(109,TOR_H298[R]) -> 175 | AI80: =SUBTOTAL(109,TOR_H298[H]) -> 321 | AJ80: =SUBTOTAL(109,TOR_H298[2B]) -> 78 | AK80: =SUBTOTAL(109,TOR_H298[3B]) -> 2 | AL80: =SUBTOTAL(109,TOR_H298[HR]) -> 58 | AM80: =SUBTOTAL(109,TOR_H298[RBI]) -> 174 | AN80: =SUBTOTAL(109,TOR_H298[BB]) -> 131 | AO80: =SUBTOTAL(109,TOR_H298[K]) -> 373 | AP80: =SUBTOTAL(109,TOR_H298[SB]) -> 13 | AS80: =SUBTOTAL(109,TOR_H298[TB]) -> 577 | AT80: =AD80+AE80 -> 0.73052186 | AU80: =SUBTOTAL(109,TOR_H298[*]) -> 28 | BA80: TOTALS | BB80: =IFERROR(BH80/BF80,0) -> 0.25264644 | BC80: =IFERROR((BM80+BH80)/(BF80+BM80),0) -> 0.32418634 | BD80: =IFERROR(((BH80-BI80-BJ80-BK80)+(BI80*2)+(BJ80*3)+(BK80*4))/BF80,0) -> 0.43119266 | BF80: =SUM(BF66:BF79) -> 1417 | BG80: =SUM(BG66:BG79) -> 198 | BH80: =SUM(BH66:BH79) -> 358 | BI80: =SUM(BI66:BI79) -> 66 | BJ80: =SUM(BJ66:BJ79) -> 5 | BK80: =SUM(BK66:BK79) -> 59 | BL80: =SUM(BL66:BL79) -> 194 | BM80: =SUM(BM66:BM79) -> 150 | ... BO80: =SUM(BO66:BO79) -> 29 | BR80: =((BH80-BI80-BJ80-BK80)+(BI80*2)+(BJ80*3)+(BK80*4)) -> 611 | BS80: =BC80+BD80 -> 0.755379 | BT80: =SUBTOTAL(109,TOR_H211[*]) -> 19
A82: TM | B82: @ | C82: NAME | D82: ERA | E82: W | F82: L | G82: G | H82: IP | I82: H | J82: R | K82: BB | L82: K | M82: SV | N82: WH | O82: QS | P82: UQ | Q82: CG | R82: SH | S82: # | Z82: TM | AA82: @ | AB82: NAME | AC82: ERA | AD82: W | AE82: L | AF82: G | AG82: IP | AH82: H | AI82: R | AJ82: BB | AK82: K | AL82: SV | AM82: WH | AN82: QS | AO82: UQ | AP82: CG | AQ82: SH | AR82: # | AY82: TM | AZ82: @ | BA82: NAME | BB82: ERA | BC82: W | BD82: L | BE82: G | BF82: IP | BG82: H | BH82: R | BI82: BB | BJ82: K | BK82: SV | BL82: WH | BM82: QS | BN82: UQ | BO82: CG | BP82: SH | BQ82: #
A83: TOR | B83: SP | C83: A. Manoah | D83: =IFERROR((TOR_P[[#This Row],[R]]*9)/TOR_P[[#This Row],[IP]],0) -> 6.0349391 | E83: 2 | F83: 5 | G83: 10 | H83: 56.67 | I83: 52 | J83: 38 | K83: 26 | L83: 41 | M83: 0 | N83: =IFERROR((TOR_P[[#This Row],[BB]]+TOR_P[[#This Row],[H]])/TOR_P[[#This Row],[IP]],0) -> 1.3763896 | O83: 2 | P83: 0 | Q83: 0 | R83: 0 | S83: 1 | Z83: TOR | AA83: SP | AB83: A. Manoah | AC83: =IFERROR((TOR_P296[[#This Row],[R]]*9)/TOR_P296[[#This Row],[IP]],0) -> 2.2292555 | AD83: 8 | AE83: 1 | AF83: 10 | AG83: 72.67 | AH83: 58 | AI83: 18 | AJ83: 20 | AK83: 67 | AL83: 0 | AM83: =IFERROR((TOR_P296[[#This Row],[BB]]+TOR_P296[[#This Row],[H]])/TOR_P296[[#This Row],[IP]],0) -> 1.0733453 | AN83: 8 | AO83: 6 | AP83: 2 | AQ83: 2 | AR83: 1 | AY83: TOR | AZ83: SP | BA83: H. Ryu | BB83: =IFERROR((TOR_P209[[#This Row],[R]]*9)/TOR_P209[[#This Row],[IP]],0) -> 3.9173014 | BC83: 3 | BD83: 5 | BE83: 10 | BF83: 64.33 | BG83: 68 | BH83: 28 | BI83: 11 | BJ83: 62 | BK83: 0 | BL83: =IFERROR((TOR_P209[[#This Row],[H]]+TOR_P209[[#This Row],[BB]])/TOR_P209[[#This Row],[IP]],0) -> 1.2280429 | BM83: 6 | BN83: 2 | BO83: 0 | BP83: 0 | BQ83: 1
A84: TOR | B84: SP | C84: K. Gausman | D84: =IFERROR((TOR_P[[#This Row],[R]]*9)/TOR_P[[#This Row],[IP]],0) -> 4.9894016 | E84: 1 | F84: 6 | G84: 10 | H84: 61.33 | I84: 70 | J84: 34 | K84: 20 | L84: 74 | M84: 0 | N84: =IFERROR((TOR_P[[#This Row],[BB]]+TOR_P[[#This Row],[H]])/TOR_P[[#This Row],[IP]],0) -> 1.4674711 | O84: 4 | P84: 1 | Q84: 0 | R84: 0 | S84: 2 | Z84: TOR | AA84: SP | AB84: K. Gausman | AC84: =IFERROR((TOR_P296[[#This Row],[R]]*9)/TOR_P296[[#This Row],[IP]],0) -> 2.7980724 | AD84: 6 | AE84: 0 | AF84: 10 | AG84: 64.33 | AH84: 62 | AI84: 20 | AJ84: 11 | AK84: 89 | AL84: 0 | AM84: =IFERROR((TOR_P296[[#This Row],[BB]]+TOR_P296[[#This Row],[H]])/TOR_P296[[#This Row],[IP]],0) -> 1.1347738 | AN84: 8 | AO84: 5 | AP84: 0 | AQ84: 0 | AR84: 2 | AY84: TOR | AZ84: SP | BA84: Aa. Sanchez | BB84: =IFERROR((TOR_P209[[#This Row],[R]]*9)/TOR_P209[[#This Row],[IP]],0) -> 3.3387097 | BC84: 2 | BD84: 4 | BE84: 10 | BF84: 62 | BG84: 47 | BH84: 23 | BI84: 31 | BJ84: 45 | BK84: 0 | BL84: =IFERROR((TOR_P209[[#This Row],[H]]+TOR_P209[[#This Row],[BB]])/TOR_P209[[#This Row],[IP]],0) -> 1.2580645 | BM84: 7 | BN84: 1 | BO84: 0 | BP84: 0 | BQ84: 2
A85: TOR | B85: SP | C85: H. Ryu | D85: =IFERROR((TOR_P[[#This Row],[R]]*9)/TOR_P[[#This Row],[IP]],0) -> 4.8378706 | E85: 1 | F85: 4 | G85: 10 | H85: 57.67 | I85: 82 | J85: 31 | K85: 18 | L85: 50 | M85: 0 | N85: =IFERROR((TOR_P[[#This Row],[BB]]+TOR_P[[#This Row],[H]])/TOR_P[[#This Row],[IP]],0) -> 1.7340038 | O85: 4 | P85: 1 | Q85: 0 | R85: 0 | S85: 3 | Z85: TOR | AA85: SP | AB85: H. Ryu | AC85: =IFERROR((TOR_P296[[#This Row],[R]]*9)/TOR_P296[[#This Row],[IP]],0) -> 3 | AD85: 3 | AE85: 4 | AF85: 10 | AG85: 63 | AH85: 60 | AI85: 21 | AJ85: 15 | AK85: 49 | AL85: 0 | AM85: =IFERROR((TOR_P296[[#This Row],[BB]]+TOR_P296[[#This Row],[H]])/TOR_P296[[#This Row],[IP]],0) -> 1.1904762 | AN85: 9 | AO85: 2 | AP85: 0 | AQ85: 0 | AR85: 3 | AY85: TOR | AZ85: SP | BA85: J. Happ | BB85: =IFERROR((TOR_P209[[#This Row],[R]]*9)/TOR_P209[[#This Row],[IP]],0) -> 4.826546 | BC85: 3 | BD85: 2 | BE85: 10 | BF85: 59.67 | BG85: 61 | BH85: 32 | BI85: 16 | BJ85: 45 | BK85: 0 | BL85: =IFERROR((TOR_P209[[#This Row],[H]]+TOR_P209[[#This Row],[BB]])/TOR_P209[[#This Row],[IP]],0) -> 1.2904307 | BM85: 4 | BN85: 1 | BO85: 0 | BP85: 0 | BQ85: 3
A86: TOR | B86: SP | C86: J. Berrios | D86: =IFERROR((TOR_P[[#This Row],[R]]*9)/TOR_P[[#This Row],[IP]],0) -> 5.4945055 | E86: 6 | F86: 3 | G86: 10 | H86: 57.33 | I86: 67 | J86: 35 | K86: 17 | L86: 43 | M86: 0 | N86: =IFERROR((TOR_P[[#This Row],[BB]]+TOR_P[[#This Row],[H]])/TOR_P[[#This Row],[IP]],0) -> 1.4652015 | O86: 4 | P86: 2 | Q86: 0 | R86: 0 | S86: 4 | Z86: TOR | AA86: SP | AB86: J. Berrios | AC86: =IFERROR((TOR_P296[[#This Row],[R]]*9)/TOR_P296[[#This Row],[IP]],0) -> 3.0616979 | AD86: 7 | AE86: 2 | AF86: 10 | AG86: 64.67 | AH86: 63 | AI86: 22 | AJ86: 18 | AK86: 53 | AL86: 0 | AM86: =IFERROR((TOR_P296[[#This Row],[BB]]+TOR_P296[[#This Row],[H]])/TOR_P296[[#This Row],[IP]],0) -> 1.2525128 | AN86: 7 | AO86: 1 | AP86: 0 | AQ86: 0 | AR86: 4 | AY86: TOR | AZ86: SP | BA86: A. Manoah | BB86: =IFERROR((TOR_P209[[#This Row],[R]]*9)/TOR_P209[[#This Row],[IP]],0) -> 3.6635007 | BC86: 4 | BD86: 3 | BE86: 10 | BF86: 66.33 | BG86: 56 | BH86: 27 | BI86: 23 | BJ86: 74 | BK86: 0 | BL86: =IFERROR((TOR_P209[[#This Row],[H]]+TOR_P209[[#This Row],[BB]])/TOR_P209[[#This Row],[IP]],0) -> 1.1910146 | BM86: 8 | BN86: 5 | BO86: 1 | BP86: 0 | BQ86: 4
A87: TOR | B87: RP | C87: Aa. Sanchez | D87: =IFERROR((TOR_P[[#This Row],[R]]*9)/TOR_P[[#This Row],[IP]],0) -> 2.8636364 | E87: 2 | F87: 1 | G87: 13 | H87: 22 | I87: 23 | J87: 7 | K87: 10 | L87: 13 | M87: 0 | N87: =IFERROR((TOR_P[[#This Row],[BB]]+TOR_P[[#This Row],[H]])/TOR_P[[#This Row],[IP]],0) -> 1.5 | O87: 0 | P87: 0 | Q87: 0 | R87: 0 | S87: 5 | Z87: TOR | AA87: RP | AB87: N. Pearson | AC87: =IFERROR((TOR_P296[[#This Row],[R]]*9)/TOR_P296[[#This Row],[IP]],0) -> 3.6353145 | AD87: 2 | AE87: 1 | AF87: 10 | AG87: 17.33 | AH87: 13 | AI87: 7 | AJ87: 8 | AK87: 23 | AL87: 0 | AM87: =IFERROR((TOR_P296[[#This Row],[BB]]+TOR_P296[[#This Row],[H]])/TOR_P296[[#This Row],[IP]],0) -> 1.2117715 | AN87: 0 | AO87: 0 | AP87: 0 | AQ87: 0 | AR87: 5 | AY87: TOR | AZ87: RP® | BA87: N. Pearson | BB87: =IFERROR((TOR_P209[[#This Row],[R]]*9)/TOR_P209[[#This Row],[IP]],0) -> 5.0869565 | BC87: 2 | BD87: 2 | BE87: 12 | BF87: 23 | BG87: 22 | BH87: 13 | BI87: 14 | BJ87: 19 | BK87: 0 | BL87: =IFERROR((TOR_P209[[#This Row],[H]]+TOR_P209[[#This Row],[BB]])/TOR_P209[[#This Row],[IP]],0) -> 1.5652174 | BM87: 0 | BN87: 0 | BO87: 0 | BP87: 0 | BQ87: 5
A88: TOR | B88: RP | C88: A. Kay | D88: =IFERROR((TOR_P[[#This Row],[R]]*9)/TOR_P[[#This Row],[IP]],0) -> 6.3548102 | E88: 0 | F88: 0 | G88: 9 | H88: 11.33 | I88: 13 | J88: 8 | K88: 2 | L88: 9 | M88: 0 | N88: =IFERROR((TOR_P[[#This Row],[BB]]+TOR_P[[#This Row],[H]])/TOR_P[[#This Row],[IP]],0) -> 1.3239188 | O88: 0 | P88: 0 | Q88: 0 | R88: 0 | S88: 6 | Z88: TOR | AA88: RP | AB88: A. Kay | AC88: =IFERROR((TOR_P296[[#This Row],[R]]*9)/TOR_P296[[#This Row],[IP]],0) -> 5.7815846 | AD88: 0 | AE88: 0 | AF88: 3 | AG88: 4.67 | AH88: 3 | AI88: 3 | AJ88: 4 | AK88: 5 | AL88: 0 | AM88: =IFERROR((TOR_P296[[#This Row],[BB]]+TOR_P296[[#This Row],[H]])/TOR_P296[[#This Row],[IP]],0) -> 1.4989293 | AN88: 0 | AO88: 0 | AP88: 0 | AQ88: 0 | AR88: 6 | AY88: TOR | AZ88: RP® | BA88: A. Kay | BB88: =IFERROR((TOR_P209[[#This Row],[R]]*9)/TOR_P209[[#This Row],[IP]],0) -> 7.0404172 | BC88: 1 | BD88: 0 | BE88: 11 | BF88: 7.67 | BG88: 10 | BH88: 6 | BI88: 5 | BJ88: 7 | BK88: 0 | BL88: =IFERROR((TOR_P209[[#This Row],[H]]+TOR_P209[[#This Row],[BB]])/TOR_P209[[#This Row],[IP]],0) -> 1.9556714 | BM88: 0 | BN88: 0 | BO88: 0 | BP88: 0 | BQ88: 6
A89: TOR | B89: RP | C89: A. Cimber | D89: =IFERROR((TOR_P[[#This Row],[R]]*9)/TOR_P[[#This Row],[IP]],0) -> 2.1595681 | E89: 1 | F89: 1 | G89: 12 | H89: 16.67 | I89: 14 | J89: 4 | K89: 2 | L89: 11 | M89: 0 | N89: =IFERROR((TOR_P[[#This Row],[BB]]+TOR_P[[#This Row],[H]])/TOR_P[[#This Row],[IP]],0) -> 0.95980804 | O89: 0 | P89: 0 | Q89: 0 | R89: 0 | S89: 7 | Z89: TOR | AA89: RP | AB89: A. Cimber | AC89: =IFERROR((TOR_P296[[#This Row],[R]]*9)/TOR_P296[[#This Row],[IP]],0) -> 3.6 | AD89: 2 | AE89: 0 | AF89: 9 | AG89: 10 | AH89: 11 | AI89: 4 | AJ89: 2 | AK89: 9 | AL89: 0 | AM89: =IFERROR((TOR_P296[[#This Row],[BB]]+TOR_P296[[#This Row],[H]])/TOR_P296[[#This Row],[IP]],0) -> 1.3 | AN89: 0 | AO89: 0 | AP89: 0 | AQ89: 0 | AR89: 7 | AY89: TOR | AZ89: RP | BA89: A. Cimber | BB89: =IFERROR((TOR_P209[[#This Row],[R]]*9)/TOR_P209[[#This Row],[IP]],0) -> 4.8696508 | BC89: 1 | BD89: 2 | BE89: 21 | BF89: 20.33 | BG89: 25 | BH89: 11 | BI89: 6 | BJ89: 17 | BK89: 0 | BL89: =IFERROR((TOR_P209[[#This Row],[H]]+TOR_P209[[#This Row],[BB]])/TOR_P209[[#This Row],[IP]],0) -> 1.5248401 | BM89: 0 | BN89: 0 | BO89: 0 | BP89: 0 | BQ89: 7
A90: TOR | B90: RP | C90: Y. Garcia | D90: =IFERROR((TOR_P[[#This Row],[R]]*9)/TOR_P[[#This Row],[IP]],0) -> 6.095791 | E90: 0 | F90: 1 | G90: 19 | H90: 20.67 | I90: 24 | J90: 14 | K90: 7 | L90: 20 | M90: 1 | N90: =IFERROR((TOR_P[[#This Row],[BB]]+TOR_P[[#This Row],[H]])/TOR_P[[#This Row],[IP]],0) -> 1.4997581 | O90: 0 | P90: 0 | Q90: 0 | R90: 0 | S90: 8 | Z90: TOR | AA90: RP | AB90: Y. Garcia | AC90: =IFERROR((TOR_P296[[#This Row],[R]]*9)/TOR_P296[[#This Row],[IP]],0) -> 1.5579919 | AD90: 0 | AE90: 0 | AF90: 14 | AG90: 17.33 | AH90: 11 | AI90: 3 | AJ90: 0 | AK90: 15 | AL90: 0 | AM90: =IFERROR((TOR_P296[[#This Row],[BB]]+TOR_P296[[#This Row],[H]])/TOR_P296[[#This Row],[IP]],0) -> 0.63473745 | AN90: 0 | AO90: 0 | AP90: 0 | AQ90: 0 | AR90: 8 | AY90: TOR | AZ90: RP | BA90: Y. Garcia | BB90: =IFERROR((TOR_P209[[#This Row],[R]]*9)/TOR_P209[[#This Row],[IP]],0) -> 4.0510128 | BC90: 0 | BD90: 0 | BE90: 10 | BF90: 13.33 | BG90: 8 | BH90: 6 | BI90: 9 | BJ90: 12 | BK90: 0 | BL90: =IFERROR((TOR_P209[[#This Row],[H]]+TOR_P209[[#This Row],[BB]])/TOR_P209[[#This Row],[IP]],0) -> 1.2753188 | BM90: 0 | BN90: 0 | BO90: 0 | BP90: 0 | BQ90: 8
A91: TOR | B91: RP | C91: E. Swanson | D91: =IFERROR((TOR_P[[#This Row],[R]]*9)/TOR_P[[#This Row],[IP]],0) -> 3.5530991 | E91: 0 | F91: 1 | G91: 21 | H91: 25.33 | I91: 23 | J91: 10 | K91: 6 | L91: 34 | M91: 0 | N91: =IFERROR((TOR_P[[#This Row],[BB]]+TOR_P[[#This Row],[H]])/TOR_P[[#This Row],[IP]],0) -> 1.1448875 | O91: 0 | P91: 0 | Q91: 0 | R91: 0 | S91: 9 | Z91: TOR | AA91: RP | AB91: E. Swanson | AC91: =IFERROR((TOR_P296[[#This Row],[R]]*9)/TOR_P296[[#This Row],[IP]],0) -> 4.5 | AD91: 0 | AE91: 1 | AF91: 19 | AG91: 20 | AH91: 19 | AI91: 10 | AJ91: 8 | AK91: 17 | AL91: 0 | AM91: =IFERROR((TOR_P296[[#This Row],[BB]]+TOR_P296[[#This Row],[H]])/TOR_P296[[#This Row],[IP]],0) -> 1.35 | AN91: 0 | AO91: 0 | AP91: 0 | AQ91: 0 | AR91: 9 | AY91: TOR | AZ91: RP® | BA91: J. Merryweather | BB91: =IFERROR((TOR_P209[[#This Row],[R]]*9)/TOR_P209[[#This Row],[IP]],0) -> 10.624693 | BC91: 0 | BD91: 1 | BE91: 21 | BF91: 20.33 | BG91: 38 | BH91: 24 | BI91: 10 | BJ91: 12 | BK91: 1 | BL91: =IFERROR((TOR_P209[[#This Row],[H]]+TOR_P209[[#This Row],[BB]])/TOR_P209[[#This Row],[IP]],0) -> 2.3610428 | BM91: 0 | BN91: 0 | BO91: 0 | BP91: 0 | BQ91: 9
A92: TOR | B92: RP | C92: J. Romano | D92: =IFERROR((TOR_P[[#This Row],[R]]*9)/TOR_P[[#This Row],[IP]],0) -> 4.2284062 | E92: 3 | F92: 2 | G92: 23 | H92: 27.67 | I92: 19 | J92: 13 | K92: 10 | L92: 30 | M92: 5 | N92: =IFERROR((TOR_P[[#This Row],[BB]]+TOR_P[[#This Row],[H]])/TOR_P[[#This Row],[IP]],0) -> 1.0480665 | O92: 0 | P92: 0 | Q92: 0 | R92: 0 | S92: 10 | Z92: TOR | AA92: RP | AB92: J. Romano | AC92: =IFERROR((TOR_P296[[#This Row],[R]]*9)/TOR_P296[[#This Row],[IP]],0) -> 3.6666667 | AD92: 1 | AE92: 2 | AF92: 27 | AG92: 27 | AH92: 23 | AI92: 11 | AJ92: 13 | AK92: 37 | AL92: 15 | AM92: =IFERROR((TOR_P296[[#This Row],[BB]]+TOR_P296[[#This Row],[H]])/TOR_P296[[#This Row],[IP]],0) -> 1.3333333 | AN92: 0 | AO92: 0 | AP92: 0 | AQ92: 0 | AR92: 10 | AY92: TOR | AZ92: RP | BA92: J. Romano | BB92: =IFERROR((TOR_P209[[#This Row],[R]]*9)/TOR_P209[[#This Row],[IP]],0) -> 2.7 | BC92: 3 | BD92: 2 | BE92: 23 | BF92: 30 | BG92: 16 | BH92: 9 | BI92: 12 | BJ92: 45 | BK92: 7 | BL92: =IFERROR((TOR_P209[[#This Row],[H]]+TOR_P209[[#This Row],[BB]])/TOR_P209[[#This Row],[IP]],0) -> 0.93333333 | BM92: 0 | BN92: 0 | BO92: 0 | BP92: 0 | BQ92: 10
